{"text_format":"1","workbook":"xlsx","n_sheets":7,"sheets":["入力マニュアル","入力シート","確認シート（印刷版）","出場資格確認書（印刷版）","FRSheet","FGSheet","WORK"],"not_rendered":{"charts":0,"images":1,"macros":1,"external_links":0,"defined_names":3,"comments":0,"pivot_tables":0},"unopened":[],"bounds":{"document_bytes":16777216,"sheet_cells":100000,"rows_first":2000,"rows_last":500,"rows_between":2000,"halvings":0,"cell_chars":16384,"cell_head_chars":4096},"cells_cut":0,"cells_raw":0,"read":"whole","date_system":"1904"}

{"sheet":"入力マニュアル","index":0,"n_rows":193,"n_cols":50,"rows_kept":193,"cut":false,"hidden":false,"merged":[[181,1,181,4],[182,1,182,4],[183,1,183,4],[184,1,184,4],[75,2,75,6],[75,7,75,24],[180,1,180,4],[180,5,180,8],[179,1,179,8],[87,2,87,6],[184,5,184,6],[184,7,184,8],[181,5,181,6],[181,7,181,8],[182,5,182,6],[182,7,182,8],[183,5,183,6],[183,7,183,8],[82,2,82,6],[82,7,82,24],[83,2,83,6],[73,2,73,6],[73,7,73,24],[74,2,74,6],[74,7,74,24],[83,7,83,24],[84,2,84,6],[91,2,91,6],[88,2,88,6],[88,7,88,24],[93,2,93,6],[93,7,93,24],[91,7,91,24],[92,2,92,6],[92,7,92,24],[84,7,84,24],[85,2,85,6],[85,7,85,24],[86,2,86,6],[86,7,86,24],[89,2,89,6],[89,7,89,24],[90,2,90,6],[90,7,90,24],[87,7,87,24],[95,7,95,24],[119,17,119,23],[119,24,119,32],[119,4,119,7],[96,2,96,6],[96,7,96,24],[116,24,118,32],[116,2,118,3],[116,4,118,7],[116,8,118,11],[95,2,95,6],[116,12,118,16],[116,17,118,23],[120,12,120,16],[120,44,120,46],[120,17,120,23],[120,24,120,32],[120,47,120,48],[116,42,118,43],[116,44,116,50],[117,44,118,46],[117,47,118,48],[117,49,118,50],[119,12,119,16],[119,49,119,50],[119,47,119,48],[119,42,119,43],[119,44,119,46],[116,33,118,41],[119,33,119,41],[120,33,120,41],[121,49,121,50],[127,49,127,50],[127,47,127,48],[124,49,124,50],[122,47,122,48],[122,49,122,50],[122,42,122,43],[119,2,119,3],[120,2,120,3],[120,4,120,7],[120,8,120,11],[123,33,123,41],[123,42,123,43],[120,42,120,43],[121,33,121,41],[121,42,121,43],[122,2,122,3],[120,49,120,50],[119,8,119,11],[127,33,127,41],[122,17,122,23],[122,24,122,32],[127,24,127,32],[125,49,125,50],[125,44,125,46],[124,44,124,46],[126,49,126,50],[126,44,126,46],[126,42,126,43],[126,47,126,48],[128,49,128,50],[128,33,128,41],[128,47,128,48],[121,2,121,3],[121,4,121,7],[121,8,121,11],[121,12,121,16],[123,2,123,3],[121,44,121,46],[121,47,121,48],[125,12,125,16],[125,17,125,23],[125,24,125,32],[121,17,121,23],[121,24,121,32],[124,42,124,43],[123,47,123,48],[123,44,123,46],[124,47,124,48],[125,47,125,48],[123,49,123,50],[122,44,122,46],[122,33,122,41],[123,4,123,7],[123,8,123,11],[123,12,123,16],[122,8,122,11],[122,12,122,16],[123,17,123,23],[123,24,123,32],[122,4,122,7],[129,44,129,46],[128,42,128,43],[127,44,127,46],[129,42,129,43],[128,44,128,46],[130,44,130,46],[125,2,125,3],[124,2,124,3],[124,4,124,7],[124,8,124,11],[125,4,125,7],[125,8,125,11],[124,12,124,16],[124,17,124,23],[126,24,126,32],[128,17,128,23],[129,24,129,32],[126,2,126,3],[126,4,126,7],[126,8,126,11],[129,2,129,3],[127,2,127,3],[128,2,128,3],[125,42,125,43],[126,33,126,41],[144,34,144,35],[143,12,143,13],[129,8,129,11],[124,33,124,41],[146,23,146,24],[126,17,126,23],[147,21,147,22],[147,23,147,24],[147,32,147,33],[145,21,145,22],[146,34,146,35],[125,33,125,41],[124,24,124,32],[126,12,126,16],[150,23,150,24],[148,12,148,13],[144,23,144,24],[146,21,146,22],[130,12,130,16],[129,12,129,16],[150,12,150,13],[149,23,149,24],[128,12,128,16],[130,17,130,23],[130,24,130,32],[128,24,128,32],[127,42,127,43],[151,21,151,22],[151,23,151,24],[148,23,148,24],[146,32,146,33],[127,17,127,23],[149,32,149,33],[147,1,147,7],[146,12,146,13],[145,12,145,13],[144,12,144,13],[146,1,146,7],[147,12,147,13],[127,12,127,16],[130,33,130,41],[129,33,129,41],[130,2,130,3],[130,4,130,7],[130,8,130,11],[127,4,127,7],[127,8,127,11],[128,4,128,7],[128,8,128,11],[129,4,129,7],[166,19,168,19],[166,21,166,27],[167,21,167,27],[168,21,168,27],[163,9,163,10],[163,11,163,17],[163,19,165,19],[163,21,163,27],[164,9,164,10],[164,11,164,17],[161,9,161,10],[161,11,161,17],[154,12,154,13],[152,1,152,7],[159,9,159,17],[164,21,164,27],[165,9,165,10],[165,11,165,17],[165,21,165,27],[161,21,161,27],[160,9,160,10],[160,11,160,17],[160,19,162,19],[162,9,162,10],[162,11,162,17],[156,21,156,22],[156,1,156,7],[156,23,156,24],[162,21,162,27],[160,21,160,27],[153,21,153,22],[154,21,154,22],[153,23,153,24],[155,21,155,22],[0,0,0,54],[1,1,1,50],[142,1,144,7],[145,1,145,7],[130,49,130,50],[130,42,130,43],[152,23,152,24],[152,21,152,22],[153,1,153,7],[151,12,151,13],[151,34,151,35],[150,34,150,35],[130,47,130,48],[152,34,152,35],[153,34,153,35],[153,32,153,33],[152,32,152,33],[150,32,150,33],[144,32,144,33],[150,21,150,22],[129,47,129,48],[144,21,144,22],[145,23,145,24],[148,21,148,22],[2,1,2,50],[153,12,153,13],[152,12,152,13],[159,19,159,27],[155,23,155,24],[155,12,155,13],[141,9,141,38],[149,12,149,13],[150,1,150,7],[151,1,151,7],[149,1,149,7],[148,1,148,7],[154,1,154,7],[155,1,155,7],[154,23,154,24],[156,12,156,13],[159,30,159,38],[156,32,156,33],[156,34,156,35],[155,32,155,33],[155,34,155,35],[154,34,154,35],[154,32,154,33],[143,32,143,35],[171,32,171,38],[160,30,171,30],[167,32,167,38],[165,32,165,38],[147,34,147,35],[145,34,145,35],[170,32,170,38],[129,49,129,50],[143,21,143,24],[164,32,164,38],[169,32,169,38],[166,32,166,38],[168,32,168,38],[160,32,160,38],[161,32,161,38],[162,32,162,38],[163,32,163,38],[148,32,148,33],[149,34,149,35],[148,34,148,35],[129,17,129,23],[151,32,151,33],[145,32,145,33],[149,21,149,22]]}
["\nシンクロナイズドスイミング　大会エントリー　入力・処理マニュアル\n"]
[null,"2012-11-20"]
[null,"（公財）日本水泳連盟　シンクロ委員会"]
[]
["【処理手順】"]
[]
["１．ファイルのダウンロード"]
[null,"□","ダウンロードしたエントリーフォームを使用しているPCへ保存してください。"]
[]
["２．大会申込書に入力して提出された個人情報の利用目的"]
[null,"□","入力された情報は、該当競技会に於いて下記の目的で利用されます。"]
[]
[null,"*","大会、競技会の申込み、参加に関する諸連絡、運営上必要な諸事項での利用"]
[null,"*","（公財）日本水泳連盟が主催する大会、競技会のプログラム、発刊物への掲載"]
[null,"*","プログラム、発刊物制作の為の広告代理店、印刷業者への提供"]
[null,"*","公式記録、データ入力、記録確認の為の記録協力業者への提供"]
[null,"*","報道関係への公式記録、大会情報の提供"]
[]
["３．提出用ファイルの作成"]
[null,"□","ファイルを開き、入力シートの必要事項を漏れなく全て入力してください。"]
[null,"□","この項目の入力値は、プログラム作成の際に、そのまま利用するので、誤入力がないように注意し、良く確認してください。"]
[]
[null,"*","英数字は半角で入力すること。"]
[null,"*","入力欄に「計算式」「関数」は入力しないこと。"]
[null,"*","標準表示されない漢字については、ｶﾀｶﾅのヨミガナで入力し、印刷したものに手書きで記入すること。"]
[null,null,null,"記号など、下記の様な、機種依存文字は使用できません。"]
[null,null,null,"ご利用のPCでは正しく印刷されていても、データ上反映されない場合があります。"]
[null,null,null,"その他、旧字体の漢字などの一部にも使用できない文字があります。"]
[]
[null,null,null,"機種依存文字　例）"]
[]
[]
[]
[]
[]
[]
[]
[]
[]
[]
[]
[]
[]
["３．確認シート（印刷版）の印刷"]
[null,"□","確認シート（印刷版）を印刷し、入力事項に処理誤りがないか入念にチェックしてください。"]
[null,null,"誤りがあった場合、入力シートで入力内容を変更し、再印刷してください。"]
[null,"□","自動計算された「申込金欄」を確認してください。"]
[null,"□","各加盟団体は、印刷の控えをとっておいてください。"]
[]
["４．提出用CDの作成"]
[null,"□","大会エントリーの為のデータを入れる提出用CDを作成。"]
[null,null,"CDが入ったドライブを指定して、保存。"]
[null,null,"CDは予め、フォーマット（何も記録されていない状態）してから使用すること。"]
[null,"□","入力済みのエントリーフォームファイル名を「加盟団体＋登録団体番号」＋「登録団体名（略称）」＋「大会名（略称）」としてCDへ保存すること。"]
[]
[null,null,"ファイル名の例）　14999関東水泳シンクロ第16回13-15歳ソロ・デュエット大会"]
[]
[null,"□","内容確認および作成されたファイルのタイムスタンプが作業日時とほぼ一致することを確認してください。"]
[null,"□","CDには、下記のように「大会名（略称）」「加盟団体＋登録団体番号」＋「登録団体名（略称）」を記入すること。"]
[]
[]
[]
[]
[]
[]
[]
[]
["【エントリーフォーム入力手順】"]
[]
["１．大会基本情報について"]
[null,"□","入力されている「大会基本情報」を確認してください。"]
[]
[null,null,"記入済例）"]
[null,null,"大会名",null,null,null,null,"第16回13-15歳ソロ・デュエット大会"]
[null,null,"期日",null,null,null,null,"2013年1月26日（土）-1月27日（日）"]
[null,null,"場所",null,null,null,null,"横浜国際プール"]
[]
[]
["２．登録団体情報について"]
[null,"□","「エントリーシート記入欄」の登録団体情報、加盟団体情報は漏れがない様、全て入力してください。"]
[]
[null,null,"入力例）"]
[null,null,"登録団体名",null,null,null,null,"関東水泳協会シンクロクラブ",null,null,null,null,null,null,null,null,null,null,null,null,null,null,null,null,null,null,"・・・",null,"正式名称を入力すること。"]
[null,null,"代表者名",null,null,null,null,"田中まり子"]
[null,null,"団体番号",null,null,null,null,"13579",null,null,null,null,null,null,null,null,null,null,null,null,null,null,null,null,null,null,"・・・",null,"登録団体番号を半角5文字で入力すること。"]
[null,null,"登録団体住所",null,null,null,null,"東京都世田谷区桜上水1-2-34"]
[null,null,"登録団体Tel",null,null,null,null,"03-3333-4444"]
[null,null,"登録団体Fax",null,null,null,null,"03-3333-4445"]
[null,null,"連絡責任者",null,null,null,null,"鈴木ゆう子"]
[null,null,"連絡先住所",null,null,null,null,"東京都世田谷区桜上水5-67-89",null,null,null,null,null,null,null,null,null,null,null,null,null,null,null,null,null,null,"・・・",null,"該当する入力項目がない場合、空欄にせず「-」と入力すること。"]
[null,null,"Tel",null,null,null,null,"03-5555-6666"]
[null,null,"Fax",null,null,null,null,"03-5555-6667"]
[null,null,"携帯",null,null,null,null,"090-9999-9999"]
[null,null,"E-mail",null,null,null,null,"aiueo@kakikunet.ne.jp"]
[]
[null,null,"加盟団体名",null,null,null,null,"東京都水泳協会"]
[null,null,"会長名",null,null,null,null,"濱出　雄三"]
[]
["３．競技者情報について"]
[null,"□","競技者情報の「加盟団体番号」「登録団体番号」「競技者番号」「氏名」「ローマ字氏名」「学校」「学年」「生年月日」を入力します。"]
[null,null,"競技者番号１から順に、間を空けずに詰めて入力してください。"]
[null,null,"あらかじめ別シートに自クラブの競技者リストを作成しておくと便利です。１回作成するだけで、複数の大会にコピー&貼り付けで対応できます。"]
[]
[null,"*","「加盟団体番号」「登録団体番号」",null,null,null,null,null,null,null,null,null,null,null,null,"・・・",null,"登録団体の番号を確認すること。"]
[null,"*","「競技者番号」",null,null,null,null,null,null,null,null,null,null,null,null,"・・・",null,"（公財）日本水泳連盟より通知を受けた番号を入力のこと。（7桁）"]
[null,"*","「ローマ字氏名」",null,null,null,null,null,null,null,null,null,null,null,null,"・・・",null,"姓（大文字半角）＋半角スペース＋名（頭文字：大文字、2文字目以降：小文字）の順に入力。"]
[null,null,null,null,null,null,null,null,null,null,null,null,null,null,null,null,null,"「ローマ字氏名」は印刷シートに反映されない為、入力シートでの確認すること。"]
[null,null,null,null,null,null,null,null,null,null,null,null,null,null,null,null,null,null,"例）　TAKAHASHI Hanako　"]
[null,"*","「学校」",null,null,null,null,null,null,null,null,null,null,null,null,"・・・",null,"大会初日現在の学種を入力すること。"]
[null,null,null,null,null,null,null,null,null,null,null,null,null,null,null,null,null,null,"例）　○○小学校→小、中学校→中、高校→高、大学→大、専門学校→名称"]
[null,null,null,null,null,null,null,null,null,null,null,null,null,null,null,null,null,"就業者→空欄または所属名＋勤務"]
[null,null,null,null,null,null,null,null,null,null,null,null,null,null,null,null,null,null,"例）　○○SS勤務"]
[null,"*","「学年」",null,null,null,null,null,null,null,null,null,null,null,null,"・・・",null,"大会初日現在の学年を入力すること。学年は必ず確認。"]
[null,"*","「生年月日」",null,null,null,null,null,null,null,null,null,null,null,null,"・・・",null,"西暦で入力のこと。"]
[]
[null,null,"入力例）"]
[null,null,"番号",null,"加盟団体",null,null,null,"登録団体",null,null,null,"競技者番号",null,null,null,null,"氏　　　名",null,null,null,null,null,null,"ローマ字氏名",null,null,null,null,null,null,null,null,"学　　　校",null,null,null,null,null,null,null,null,"学年",null,"生年月日"]
[null,null,null,null,null,null,null,null,null,null,null,null,null,null,null,null,null,null,null,null,null,null,null,null,null,null,null,null,null,null,null,null,null,null,null,null,null,null,null,null,null,null,null,null,"西暦",null,null,"月",null,"日"]
[]
[null,null,1,null,"13",null,null,null,"579",null,null,null,1047895,null,null,null,null,"高橋　花子",null,null,null,null,null,null,null,null,null,null,null,null,null,null,null,"日本大学第九中学校",null,null,null,null,null,null,null,null,"3",null,"1998",null,null,"1",null,11]
[null,null,2,null,"13",null,null,null,"579",null,null,null,1047896,null,null,null,null,"伊藤　咲子",null,null,null,null,null,null,null,null,null,null,null,null,null,null,null,"日本大学第六中学校",null,null,null,null,null,null,null,null,"2",null,"1999",null,null,"1",null,"18"]
[null,null,3,null,"13",null,null,null,"579",null,null,null,1047897,null,null,null,null,"高寄　優子",null,null,null,null,null,null,null,null,null,null,null,null,null,null,null,"中部第一中学校",null,null,null,null,null,null,null,null,"1",null,"2000",null,null,"1",null,"3"]
[null,null,4,null,"13",null,null,null,"579",null,null,null,1047898,null,null,null,null,"小沢　さくら",null,null,null,null,null,null,null,null,null,null,null,null,null,null,null,"真剣中学校",null,null,null,null,null,null,null,null,"3",null,"1998",null,null,"1",null,"7"]
[null,null,5,null,"13",null,null,null,"579",null,null,null,1047899,null,null,null,null,"安住　かすみ",null,null,null,null,null,null,null,null,null,null,null,null,null,null,null,"真剣中学校",null,null,null,null,null,null,null,null,"2",null,"1999",null,null,"1",null,"15"]
[null,null,6,null,"13",null,null,null,"579",null,null,null,1047900,null,null,null,null,"飯塚　ひとみ",null,null,null,null,null,null,null,null,null,null,null,null,null,null,null,"真剣中学校",null,null,null,null,null,null,null,null,"1",null,"1999",null,null,"8",null,"6"]
[null,null,7,null,"13",null,null,null,"579",null,null,null,1047901,null,null,null,null,"芦塚　智子",null,null,null,null,null,null,null,null,null,null,null,null,null,null,null,"東部第三中学校",null,null,null,null,null,null,null,null,"2",null,"1998",null,null,"9",null,"7"]
[null,null,8,null,"13",null,null,null,"579",null,null,null,1047902,null,null,null,null,"健康　良子",null,null,null,null,null,null,null,null,null,null,null,null,null,null,null,"緑が丘中学校",null,null,null,null,null,null,null,null,"2",null,"1998",null,null,"7",null,"8"]
[null,null,9,null,"13",null,null,null,"579",null,null,null,1047903,null,null,null,null,"佐藤　みさき",null,null,null,null,null,null,null,null,null,null,null,null,null,null,null,"桜山中学校",null,null,null,null,null,null,null,null,"1",null,"1999",null,null,"8",null,"9"]
[null,null,10,null,"13",null,null,null,"579",null,null,null,1047904,null,null,null,null,"川嶋　ゆり",null,null,null,null,null,null,null,null,null,null,null,null,null,null,null,"桜山中学校",null,null,null,null,null,null,null,null,"2",null,"1998",null,null,"9",null,"10"]
[null,null,11]
[null,null,12]
[]
[]
["４．エントリーについて"]
[null,"□","原則的に、下記の順でプログラムへ記載します。ただし、記録システム上、一部、反映できない場合があります。あらかじめご了承ください。"]
[null,null,"「ソロ」「デュエット」は、組「1」から順に、プログラムへ記載します。"]
[null,null,"「デュエット」「フィギュア」の競技者は、表示順の1から順に、プログラムへ記載します。"]
[]
[null,null,"申込の際、補欠としてエントリーする場合、表示順にデュエット：「R」を入力してください。"]
[]
[]
[null,null,null,null,null,null,null,null,null,"エントリー"]
[null,"氏　　　名"]
[null,null,null,null,null,null,null,null,null,null,null,null,"ソロ",null,null,null,null,null,null,null,null,"デュエット",null,null,null,null,null,null,null,null,null,null,"フィギュア"]
[null,null,null,null,null,null,null,null,null,null,null,null,"組",null,null,null,null,null,null,null,null,"組",null,"表示順",null,null,null,null,null,null,null,null,"組",null,"表示順"]
[null,"高橋　花子",null,null,null,null,null,null,null,null,null,null,1,null,null,null,null,null,null,null,null,1,null,1,null,null,null,null,null,null,null,null,"A",null,1]
[null,"伊藤　咲子",null,null,null,null,null,null,null,null,null,null,3,null,null,null,null,null,null,null,null,1,null,2,null,null,null,null,null,null,null,null,"A",null,2]
[null,"高寄　優子",null,null,null,null,null,null,null,null,null,null,2,null,null,null,null,null,null,null,null,1,null,"R",null,"←補欠（例",null,null,null,null,null,null,"A",null,3]
[null,"小沢　さくら",null,null,null,null,null,null,null,null,null,null,4,null,null,null,null,null,null,null,null,2,null,2,null,null,null,null,null,null,null,null,"A",null,5]
[null,"安住　かすみ",null,null,null,null,null,null,null,null,null,null,5,null,null,null,null,null,null,null,null,2,null,1,null,null,null,null,null,null,null,null,"A",null,4]
[null,"飯塚　ひとみ",null,null,null,null,null,null,null,null,null,null,6,null,null,null,null,null,null,null,null,null,null,null,null,null,null,null,null,null,null,null,"A",null,8]
[null,"芦塚　智子",null,null,null,null,null,null,null,null,null,null,null,null,null,null,null,null,null,null,null,3,null,1,null,null,null,null,null,null,null,null,"A",null,6]
[null,"健康　良子",null,null,null,null,null,null,null,null,null,null,null,null,null,null,null,null,null,null,null,3,null,2,null,null,null,null,null,null,null,null,"A",null,7]
[null,"佐藤　みさき",null,null,null,null,null,null,null,null,null,null,null,null,null,null,null,null,null,null,null,null,null,null,null,null,null,null,null,null,null,null,"A",null,10]
[null,"川嶋　ゆり",null,null,null,null,null,null,null,null,null,null,null,null,null,null,null,null,null,null,null,null,null,null,null,null,null,null,null,null,null,null,"A",null,9]
[]
[]
[]
[]
[null,null,null,null,null,null,null,null,null,"ソ　ロ",null,null,null,null,null,null,null,null,null,"デュエット",null,null,null,null,null,null,null,null,null,null,"フィギュア"]
[null,null,null,null,null,null,null,null,null,1,null,"高橋　花子",null,null,null,null,null,null,null,1,1,"高橋　花子",null,null,null,null,null,null,null,null,"Ａ",1,"高橋　花子"]
[null,null,null,null,null,null,null,null,null,2,null,"高寄　優子",null,null,null,null,null,null,null,null,2,"伊藤　咲子",null,null,null,null,null,null,null,null,null,2,"伊藤　咲子"]
[null,null,null,null,null,null,null,null,null,3,null,"伊藤　咲子",null,null,null,null,null,null,null,null,"R","高寄　優子",null,null,null,null,null,null,null,null,null,3,"高寄　優子"]
[null,null,null,null,null,null,null,null,null,4,null,"小沢　さくら",null,null,null,null,null,null,null,2,1,"安住　かすみ",null,null,null,null,null,null,null,null,null,4,"安住　かすみ"]
[null,null,null,null,null,null,null,null,null,5,null,"安住　かすみ",null,null,null,null,null,null,null,null,2,"小沢　さくら",null,null,null,null,null,null,null,null,null,5,"小沢　さくら"]
[null,null,null,null,null,null,null,null,null,6,null,"飯塚　ひとみ",null,null,null,null,null,null,null,null,"R",null,null,null,null,null,null,null,null,null,null,6,"芦塚　智子"]
[null,null,null,null,null,null,null,null,null,null,null,null,null,null,null,null,null,null,null,3,1,"芦塚　智子",null,null,null,null,null,null,null,null,null,7,"健康　良子"]
[null,null,null,null,null,null,null,null,null,null,null,null,null,null,null,null,null,null,null,null,2,"健康　良子",null,null,null,null,null,null,null,null,null,8,"飯塚　ひとみ"]
[null,null,null,null,null,null,null,null,null,null,null,null,null,null,null,null,null,null,null,null,"R",null,null,null,null,null,null,null,null,null,null,9,"川嶋　ゆり"]
[null,null,null,null,null,null,null,null,null,null,null,null,null,null,null,null,null,null,null,null,null,null,null,null,null,null,null,null,null,null,null,10,"佐藤　みさき"]
[null,null,null,null,null,null,null,null,null,null,null,null,null,null,null,null,null,null,null,null,null,null,null,null,null,null,null,null,null,null,null,"R1"]
[null,null,null,null,null,null,null,null,null,null,null,null,null,null,null,null,null,null,null,null,null,null,null,null,null,null,null,null,null,null,null,"R2"]
[]
[]
["【出場資格確認書について】"]
[null,"□","バッジテストステージ３以上の取得が必要です。"]
[null,"□","出場資格確認書の必要事項(青色部分）にバッジテスト資格を入力、印刷したものを、１部提出してください。"]
[]
[]
[null,"バッジテスト資格"]
[null,"取得",null,null,null,"バッジテスト資格"]
[null,"年度",null,null,null,"場所",null,"ステージ"]
[]
[null,2011,null,null,null,"東京",null,3]
[]
[]
["【フリールーティン用紙・フィギュア用紙について】"]
[null,"□","ダウンロードしたフリールーティン用紙およびフィギュア用紙のフォームを使用しているPCへ保存してください。"]
[null,"□","フリールーティン用紙に必要事項(青色部分）を入力、印刷したものを１エントリーにつき、１部提出してください。"]
[null,"□","フィギュア用紙に必要事項(青色部分）を入力、印刷したものを１人につき、１部提出してください。"]
[null,null,"保護がかかっていますので、シートはPC上ではコピーできません。1エントリー入力したらすぐにプリントアウトし、次のエントリーを入力してください。"]
[]
[null,null,null,null,null,null,null,null,null,null,null,null,null,null,null,null,null,null,null,null,null,null,null,null,null,null,null,null,null,null,null,null,null,null,null,null,null,null,null,null,null,null,null,null,null,null,null,null,"―以上―"]

{"sheet":"入力シート","index":1,"n_rows":94,"n_cols":58,"rows_kept":94,"cut":false,"hidden":false,"merged":[[2,0,2,4],[2,5,2,22],[3,0,3,4],[3,5,3,22],[4,0,4,4],[4,5,4,22],[5,0,5,4],[5,5,5,22],[18,0,18,4],[18,5,18,22],[19,0,19,4],[19,5,19,22],[21,15,23,21],[21,22,23,30],[11,0,11,4],[11,5,11,22],[12,0,12,4],[12,5,12,22],[16,0,16,4],[16,5,16,22],[14,0,14,4],[14,5,14,22],[15,0,15,4],[15,5,15,22],[6,0,6,4],[6,5,6,22],[13,0,13,4],[13,5,13,22],[8,0,8,4],[8,5,8,22],[9,0,9,4],[9,5,9,22],[10,0,10,4],[10,5,10,22],[7,0,7,4],[7,5,7,22],[21,40,23,41],[21,42,21,48],[22,42,23,44],[22,45,23,46],[22,47,23,48],[24,15,24,21],[24,22,24,30],[24,31,24,39],[24,40,24,41],[24,45,24,46],[25,0,25,1],[21,31,23,39],[24,0,24,1],[24,2,24,5],[24,6,24,9],[24,10,24,14],[25,22,25,30],[25,2,25,5],[25,6,25,9],[25,10,25,14],[21,0,23,1],[21,2,23,5],[21,6,23,9],[21,10,23,14],[27,47,27,48],[26,47,26,48],[27,0,27,1],[27,40,27,41],[27,31,27,39],[27,10,27,14],[27,15,27,21],[27,22,27,30],[26,15,26,21],[24,47,24,48],[25,42,25,44],[25,45,25,46],[26,22,26,30],[26,31,26,39],[26,40,26,41],[25,47,25,48],[26,42,26,44],[26,45,26,46],[25,40,25,41],[25,15,25,21],[26,0,26,1],[26,2,26,5],[26,6,26,9],[26,10,26,14],[24,42,24,44],[25,31,25,39],[30,22,30,30],[29,22,29,30],[29,40,29,41],[29,31,29,39],[28,15,28,21],[28,22,28,30],[29,10,29,14],[29,15,29,21],[28,31,28,39],[28,0,28,1],[28,2,28,5],[28,6,28,9],[27,2,27,5],[27,6,27,9],[27,42,27,44],[28,10,28,14],[27,45,27,46],[31,2,31,5],[31,6,31,9],[31,42,31,44],[32,10,32,14],[31,45,31,46],[31,47,31,48],[30,47,30,48],[31,0,31,1],[31,40,31,41],[31,31,31,39],[31,10,31,14],[31,15,31,21],[31,22,31,30],[30,15,30,21],[30,40,30,41],[29,47,29,48],[28,42,28,44],[28,45,28,46],[28,47,28,48],[29,42,29,44],[29,45,29,46],[28,40,28,41],[30,42,30,44],[30,45,30,46],[29,0,29,1],[29,2,29,5],[29,6,29,9],[30,31,30,39],[30,0,30,1],[30,2,30,5],[30,6,30,9],[30,10,30,14],[33,0,33,1],[33,2,33,5],[33,6,33,9],[34,31,34,39],[34,0,34,1],[34,2,34,5],[34,6,34,9],[34,10,34,14],[34,22,34,30],[33,22,33,30],[33,40,33,41],[33,31,33,39],[32,15,32,21],[32,22,32,30],[33,10,33,14],[33,15,33,21],[32,31,32,39],[32,0,32,1],[32,2,32,5],[32,6,32,9],[36,15,36,21],[36,22,36,30],[37,10,37,14],[37,15,37,21],[36,31,36,39],[36,0,36,1],[36,2,36,5],[36,6,36,9],[35,2,35,5],[35,6,35,9],[35,42,35,44],[36,10,36,14],[35,45,35,46],[35,47,35,48],[34,47,34,48],[35,0,35,1],[35,40,35,41],[35,31,35,39],[35,10,35,14],[35,15,35,21],[35,22,35,30],[34,15,34,21],[34,40,34,41],[34,42,34,44],[34,45,34,46],[39,2,39,5],[39,6,39,9],[39,42,39,44],[40,10,40,14],[39,45,39,46],[39,47,39,48],[38,47,38,48],[39,0,39,1],[39,40,39,41],[39,31,39,39],[39,10,39,14],[39,15,39,21],[39,22,39,30],[38,15,38,21],[38,40,38,41],[37,47,37,48],[36,42,36,44],[36,45,36,46],[36,47,36,48],[37,42,37,44],[37,45,37,46],[36,40,36,41],[38,42,38,44],[38,45,38,46],[37,0,37,1],[37,2,37,5],[37,6,37,9],[38,31,38,39],[38,0,38,1],[38,2,38,5],[38,6,38,9],[38,10,38,14],[42,15,42,21],[42,40,42,41],[41,47,41,48],[40,42,40,44],[40,45,40,46],[40,47,40,48],[41,42,41,44],[41,45,41,46],[40,40,40,41],[42,42,42,44],[42,45,42,46],[41,0,41,1],[41,2,41,5],[41,6,41,9],[42,31,42,39],[42,0,42,1],[42,2,42,5],[42,6,42,9],[42,10,42,14],[42,22,42,30],[41,22,41,30],[41,40,41,41],[41,31,41,39],[40,15,40,21],[40,22,40,30],[41,10,41,14],[41,15,41,21],[40,31,40,39],[40,0,40,1],[40,2,40,5],[40,6,40,9],[44,10,44,14],[45,22,45,30],[45,40,45,41],[45,31,45,39],[44,15,44,21],[44,22,44,30],[44,31,44,39],[44,40,44,41],[45,42,45,44],[44,0,44,1],[44,2,44,5],[44,6,44,9],[43,2,43,5],[43,6,43,9],[45,0,45,1],[43,45,43,46],[43,47,43,48],[43,0,43,1],[43,40,43,41],[43,31,43,39],[43,10,43,14],[43,15,43,21],[43,22,43,30],[48,0,48,1],[48,2,48,5],[48,6,48,9],[48,10,48,14],[48,42,48,44],[46,0,46,1],[46,2,46,5],[46,6,46,9],[46,10,46,14],[47,0,47,1],[47,2,47,5],[47,6,47,9],[47,10,47,14],[45,45,45,46],[45,2,45,5],[45,6,45,9],[45,10,45,14],[45,15,45,21],[47,15,47,21],[46,15,46,21],[47,40,47,41],[47,22,47,30],[47,31,47,39],[46,42,46,44],[46,45,46,46],[45,47,45,48],[44,42,44,44],[44,45,44,46],[44,47,44,48],[21,49,21,58],[22,49,22,50],[23,49,23,50],[23,51,23,52],[22,51,22,54],[24,49,24,50],[24,51,24,52],[24,53,24,54],[46,47,46,48],[47,42,47,44],[46,22,46,30],[46,31,46,39],[46,40,46,41],[43,42,43,44],[42,47,42,48],[38,22,38,30],[37,22,37,30],[37,40,37,41],[37,31,37,39],[33,47,33,48],[32,42,32,44],[32,45,32,46],[32,47,32,48],[33,42,33,44],[33,45,33,46],[32,40,32,41],[25,49,25,50],[25,51,25,52],[25,53,25,54],[25,55,25,56],[26,53,26,54],[28,55,28,56],[27,49,27,50],[27,51,27,52],[27,53,27,54],[27,55,27,56],[26,51,26,52],[22,55,22,58],[24,55,24,56],[24,57,24,58],[23,55,23,56],[23,57,23,58],[25,57,25,58],[26,57,26,58],[28,51,28,52],[28,53,28,54],[30,55,30,56],[30,53,30,54],[30,57,30,58],[31,49,31,50],[31,51,31,52],[31,53,31,54],[31,55,31,56],[31,57,31,58],[27,57,27,58],[26,49,26,50],[26,55,26,56],[28,57,28,58],[29,49,29,50],[29,51,29,52],[29,53,29,54],[29,55,29,56],[29,57,29,58],[28,49,28,50],[32,53,32,54],[32,55,32,56],[34,55,34,56],[34,53,34,54],[34,57,34,58],[35,49,35,50],[35,51,35,52],[35,53,35,54],[35,55,35,56],[35,57,35,58],[30,49,30,50],[30,51,30,52],[32,57,32,58],[33,49,33,50],[33,51,33,52],[33,53,33,54],[33,55,33,56],[33,57,33,58],[32,49,32,50],[32,51,32,52],[36,53,36,54],[36,55,36,56],[38,55,38,56],[38,53,38,54],[38,57,38,58],[39,49,39,50],[39,51,39,52],[39,53,39,54],[39,55,39,56],[39,57,39,58],[34,49,34,50],[34,51,34,52],[36,57,36,58],[37,49,37,50],[37,51,37,52],[37,53,37,54],[37,55,37,56],[37,57,37,58],[36,49,36,50],[36,51,36,52],[40,53,40,54],[40,55,40,56],[42,57,42,58],[43,49,43,50],[43,51,43,52],[43,53,43,54],[43,55,43,56],[43,57,43,58],[42,49,42,50],[42,51,42,52],[38,49,38,50],[38,51,38,52],[40,57,40,58],[41,49,41,50],[41,51,41,52],[41,53,41,54],[41,55,41,56],[41,57,41,58],[40,49,40,50],[40,51,40,52],[44,57,44,58],[45,55,45,56],[45,57,45,58],[46,57,46,58],[46,49,46,50],[46,51,46,52],[46,53,46,54],[46,55,46,56],[42,55,42,56],[42,53,42,54],[44,55,44,56],[44,51,44,52],[44,53,44,54],[45,49,45,50],[45,51,45,52],[45,53,45,54],[44,49,44,50],[48,53,48,54],[47,55,47,56],[47,57,47,58],[49,10,49,14],[49,15,49,21],[50,10,50,14],[50,15,50,21],[49,51,49,52],[50,42,50,44],[50,45,50,46],[47,49,47,50],[47,45,47,46],[47,47,47,48],[49,55,49,56],[49,57,49,58],[47,51,47,52],[47,53,47,54],[48,55,48,56],[48,57,48,58],[48,51,48,52],[48,15,48,21],[48,22,48,30],[48,31,48,39],[48,49,48,50],[48,40,48,41],[48,45,48,46],[48,47,48,48],[51,57,51,58],[50,55,50,56],[50,57,50,58],[51,2,51,5],[51,6,51,9],[51,10,51,14],[51,15,51,21],[51,22,51,30],[51,31,51,39],[51,40,51,41],[51,53,51,54],[50,47,50,48],[49,53,49,54],[50,51,50,52],[49,42,49,44],[49,45,49,46],[49,47,49,48],[49,49,49,50],[50,49,50,50],[50,53,50,54],[50,2,50,5],[50,6,50,9],[49,2,49,5],[49,6,49,9],[50,40,50,41],[50,22,50,30],[50,31,50,39],[49,40,49,41],[49,22,49,30],[49,31,49,39],[51,51,51,52],[52,53,52,54],[52,42,52,44],[52,45,52,46],[52,47,52,48],[52,49,52,50],[52,2,52,5],[52,6,52,9],[52,10,52,14],[52,15,52,21],[52,22,52,30],[52,31,52,39],[51,42,51,44],[51,45,51,46],[51,47,51,48],[51,49,51,50],[51,55,51,56],[53,57,53,58],[54,2,54,5],[54,6,54,9],[54,10,54,14],[54,15,54,21],[54,22,54,30],[54,31,54,39],[54,40,54,41],[53,51,53,52],[54,53,54,54],[53,53,53,54],[53,42,53,44],[53,45,53,46],[53,47,53,48],[53,49,53,50],[53,55,53,56],[52,55,52,56],[52,57,52,58],[53,2,53,5],[53,6,53,9],[53,10,53,14],[53,15,53,21],[53,22,53,30],[53,31,53,39],[53,40,53,41],[52,51,52,52],[52,40,52,41],[55,55,55,56],[55,57,55,58],[56,2,56,5],[56,6,56,9],[56,10,56,14],[56,15,56,21],[56,22,56,30],[56,31,56,39],[56,40,56,41],[55,40,55,41],[54,51,54,52],[55,51,55,52],[55,53,55,54],[55,42,55,44],[55,45,55,46],[55,47,55,48],[55,49,55,50],[55,2,55,5],[55,6,55,9],[55,10,55,14],[55,15,55,21],[55,22,55,30],[55,31,55,39],[54,42,54,44],[54,45,54,46],[54,47,54,48],[54,49,54,50],[54,55,54,56],[54,57,54,58],[56,55,56,56],[56,53,56,54],[57,0,57,1],[57,2,57,5],[57,6,57,9],[57,10,57,14],[57,15,57,21],[57,22,57,30],[56,51,56,52],[56,45,56,46],[56,47,56,48],[56,49,56,50],[56,42,56,44],[57,31,57,39],[57,40,57,41],[57,42,57,44],[56,57,56,58],[57,57,57,58],[59,55,59,56],[59,57,59,58],[59,53,59,54],[58,0,58,1],[58,2,58,5],[58,6,58,9],[58,10,58,14],[58,15,58,21],[58,57,58,58],[58,55,58,56],[58,22,58,30],[58,31,58,39],[58,53,58,54],[59,15,59,21],[59,22,59,30],[59,0,59,1],[59,2,59,5],[59,6,59,9],[59,10,59,14],[57,53,57,54],[58,45,58,46],[58,47,58,48],[58,49,58,50],[57,45,57,46],[57,47,57,48],[57,49,57,50],[57,51,57,52],[59,51,59,52],[61,15,61,21],[61,22,61,30],[61,31,61,39],[61,40,61,41],[61,42,61,44],[61,45,61,46],[59,31,59,39],[59,40,59,41],[58,51,58,52],[59,42,59,44],[59,45,59,46],[59,47,59,48],[59,49,59,50],[58,40,58,41],[58,42,58,44],[57,55,57,56],[60,53,60,54],[60,15,60,21],[60,57,60,58],[60,55,60,56],[60,22,60,30],[60,31,60,39],[60,40,60,41],[60,42,60,44],[60,51,60,52],[61,0,61,1],[61,2,61,5],[61,6,61,9],[61,10,61,14],[60,0,60,1],[60,2,60,5],[60,6,60,9],[60,10,60,14],[60,45,60,46],[60,47,60,48],[60,49,60,50],[62,6,62,9],[62,10,62,14],[62,15,62,21],[62,57,62,58],[62,55,62,56],[62,22,62,30],[62,31,62,39],[62,40,62,41],[62,42,62,44],[62,53,62,54],[61,47,61,48],[61,49,61,50],[63,15,63,21],[63,22,63,30],[63,0,63,1],[63,2,63,5],[63,6,63,9],[63,10,63,14],[62,0,62,1],[62,2,62,5],[61,51,61,52],[61,53,61,54],[63,31,63,39],[63,40,63,41],[62,51,62,52],[64,45,64,46],[64,47,64,48],[64,49,64,50],[62,49,62,50],[64,31,64,39],[62,45,62,46],[62,47,62,48],[61,55,61,56],[61,57,61,58],[63,42,63,44],[63,45,63,46],[63,47,63,48],[63,49,63,50],[63,53,63,54],[63,55,63,56],[64,40,64,41],[63,51,63,52],[64,42,64,44],[65,31,65,39],[65,40,65,41],[64,51,64,52],[65,42,65,44],[65,45,65,46],[65,47,65,48],[65,49,65,50],[64,0,64,1],[64,2,64,5],[64,6,64,9],[64,10,64,14],[64,53,64,54],[63,57,63,58],[64,15,64,21],[64,57,64,58],[64,55,64,56],[64,22,64,30],[65,15,65,21],[65,22,65,30],[65,0,65,1],[65,2,65,5],[65,6,65,9],[65,10,65,14],[65,55,65,56],[65,57,65,58],[65,51,65,52],[65,53,65,54],[66,0,66,1],[66,2,66,5],[66,6,66,9],[66,10,66,14],[66,15,66,21],[66,57,66,58],[66,55,66,56],[66,22,66,30],[66,31,66,39],[66,40,66,41],[67,15,67,21],[67,22,67,30],[67,0,67,1],[67,2,67,5],[67,6,67,9],[67,10,67,14],[66,51,66,52],[68,45,68,46],[68,47,68,48],[68,49,68,50],[66,49,66,50],[68,31,68,39],[68,40,68,41],[67,51,67,52],[67,42,67,44],[67,45,67,46],[67,47,67,48],[67,49,67,50],[67,53,67,54],[67,55,67,56],[66,42,66,44],[66,53,66,54],[66,45,66,46],[66,47,66,48],[68,42,68,44],[69,31,69,39],[69,40,69,41],[68,51,68,52],[69,42,69,44],[69,45,69,46],[69,47,69,48],[69,49,69,50],[68,0,68,1],[68,2,68,5],[68,6,68,9],[68,10,68,14],[68,53,68,54],[67,57,67,58],[68,15,68,21],[68,57,68,58],[68,55,68,56],[68,22,68,30],[69,15,69,21],[69,22,69,30],[69,0,69,1],[69,2,69,5],[69,6,69,9],[69,10,69,14],[67,31,67,39],[67,40,67,41],[69,55,69,56],[69,57,69,58],[69,51,69,52],[69,53,69,54],[70,0,70,1],[70,2,70,5],[70,6,70,9],[70,10,70,14],[70,15,70,21],[70,57,70,58],[70,55,70,56],[70,22,70,30],[70,31,70,39],[70,40,70,41],[71,15,71,21],[71,22,71,30],[71,0,71,1],[71,2,71,5],[71,6,71,9],[71,10,71,14],[70,51,70,52],[72,45,72,46],[72,47,72,48],[72,49,72,50],[70,49,70,50],[72,31,72,39],[72,40,72,41],[71,51,71,52],[71,42,71,44],[71,45,71,46],[71,47,71,48],[71,49,71,50],[71,53,71,54],[71,55,71,56],[70,42,70,44],[70,53,70,54],[70,45,70,46],[70,47,70,48],[72,42,72,44],[73,31,73,39],[73,40,73,41],[72,51,72,52],[73,42,73,44],[73,45,73,46],[73,47,73,48],[73,49,73,50],[72,0,72,1],[72,2,72,5],[72,6,72,9],[72,10,72,14],[72,53,72,54],[71,57,71,58],[72,15,72,21],[72,57,72,58],[72,55,72,56],[72,22,72,30],[73,15,73,21],[73,22,73,30],[73,0,73,1],[73,2,73,5],[73,6,73,9],[73,10,73,14],[71,31,71,39],[71,40,71,41],[73,55,73,56],[73,57,73,58],[73,51,73,52],[73,53,73,54],[74,0,74,1],[74,2,74,5],[74,6,74,9],[74,10,74,14],[74,15,74,21],[74,57,74,58],[74,55,74,56],[74,22,74,30],[74,31,74,39],[74,40,74,41],[75,15,75,21],[75,22,75,30],[75,0,75,1],[75,2,75,5],[75,6,75,9],[75,10,75,14],[74,51,74,52],[76,45,76,46],[76,47,76,48],[76,49,76,50],[74,49,74,50],[76,31,76,39],[76,40,76,41],[75,51,75,52],[75,42,75,44],[75,45,75,46],[75,47,75,48],[75,49,75,50],[75,53,75,54],[75,55,75,56],[74,42,74,44],[74,53,74,54],[74,45,74,46],[74,47,74,48],[76,42,76,44],[77,31,77,39],[77,40,77,41],[76,51,76,52],[77,42,77,44],[77,45,77,46],[77,47,77,48],[77,49,77,50],[76,0,76,1],[76,2,76,5],[76,6,76,9],[76,10,76,14],[76,53,76,54],[75,57,75,58],[76,15,76,21],[76,57,76,58],[76,55,76,56],[76,22,76,30],[77,15,77,21],[77,22,77,30],[77,0,77,1],[77,2,77,5],[77,6,77,9],[77,10,77,14],[75,31,75,39],[75,40,75,41],[77,55,77,56],[77,57,77,58],[77,51,77,52],[77,53,77,54],[78,0,78,1],[78,2,78,5],[78,6,78,9],[78,10,78,14],[78,15,78,21],[78,57,78,58],[78,55,78,56],[78,22,78,30],[78,31,78,39],[78,40,78,41],[79,15,79,21],[79,22,79,30],[79,0,79,1],[79,2,79,5],[79,6,79,9],[79,10,79,14],[78,51,78,52],[80,45,80,46],[80,47,80,48],[80,49,80,50],[78,49,78,50],[80,31,80,39],[80,40,80,41],[79,51,79,52],[79,42,79,44],[79,45,79,46],[79,47,79,48],[79,49,79,50],[79,53,79,54],[79,55,79,56],[78,42,78,44],[78,53,78,54],[78,45,78,46],[78,47,78,48],[80,42,80,44],[81,31,81,39],[81,40,81,41],[80,51,80,52],[81,42,81,44],[81,45,81,46],[81,47,81,48],[81,49,81,50],[80,0,80,1],[80,2,80,5],[80,6,80,9],[80,10,80,14],[80,53,80,54],[79,57,79,58],[80,15,80,21],[80,57,80,58],[80,55,80,56],[80,22,80,30],[81,15,81,21],[81,22,81,30],[81,0,81,1],[81,2,81,5],[81,6,81,9],[81,10,81,14],[79,31,79,39],[79,40,79,41],[81,55,81,56],[81,57,81,58],[81,51,81,52],[81,53,81,54],[82,0,82,1],[82,2,82,5],[82,6,82,9],[82,10,82,14],[82,15,82,21],[82,57,82,58],[82,55,82,56],[82,22,82,30],[82,31,82,39],[82,40,82,41],[83,15,83,21],[83,22,83,30],[83,0,83,1],[83,2,83,5],[83,6,83,9],[83,10,83,14],[82,51,82,52],[84,45,84,46],[84,47,84,48],[84,49,84,50],[82,49,82,50],[84,31,84,39],[84,40,84,41],[83,51,83,52],[83,42,83,44],[83,45,83,46]],"merged_total":1174,"flags":["merged_cut"]}
["エントリー記入シート"]
[]
["大　会　名",null,null,null,null,"第16回13-15歳ソロ・デュエット大会",null,null,null,null,null,null,null,null,null,null,null,null,null,null,null,null,null,null,null,null,null,"※記入上の注意"]
["期　　　日",null,null,null,null,"2013年1月26日（土）-1月27日（日）",null,null,null,null,null,null,null,null,null,null,null,null,null,null,null,null,null,null,null,null,null,"　","1．入力シートのみ記入すること。（印刷シートは確認のためだけのものです）"]
["場　　　所",null,null,null,null,"横浜国際プール",null,null,null,null,null,null,null,null,null,null,null,null,null,null,null,null,null,null,null,null,null,null,"2．記入のミスなどの修正は必ず入力シートの該当箇所を変更すること。"]
["登録団体名",null,null,null,null,null,null,null,null,null,null,null,null,null,null,null,null,null,null,null,null,null,null,null,null,null,null,null,"3．記入後，必ず印刷シートを印刷して控えを残しておくこと。"]
["代表者名"]
["団体番号"]
["登録団体住所"]
["登録団体Tel"]
["登録団体Fax"]
["連絡責任者"]
["連絡先住所"]
["Tel"]
["Fax"]
["携帯"]
["E-mail"]
[]
["加盟団体名"]
["会長名"]
[]
["番号",null,"加盟団体",null,null,null,"登録団体",null,null,null,"競技者番号",null,null,null,null,"氏　　　名",null,null,null,null,null,null,"ローマ字氏名",null,null,null,null,null,null,null,null,"学　　　校",null,null,null,null,null,null,null,null,"学年",null,"生年月日",null,null,null,null,null,null,"エントリー"]
[null,null,null,null,null,null,null,null,null,null,null,null,null,null,null,null,null,null,null,null,null,null,null,null,null,null,null,null,null,null,null,null,null,null,null,null,null,null,null,null,null,null,"西暦",null,null,"月",null,"日",null,"ソロ",null,"デュエット",null,null,null,"フィギュア"]
[null,null,null,null,null,null,null,null,null,null,null,null,null,null,null,null,null,null,null,null,null,null,null,null,null,null,null,null,null,null,null,null,null,null,null,null,null,null,null,null,null,null,null,null,null,null,null,null,null,"表示順",null,"組",null,"表示順",null,"組",null,"表示順"]
[1,null,null,null,null,null,null,null,null,null,null,null,null,null,null,null,null,null,null,null,null,null,null,null,null,null,null,null,null,null,null,null,null,null,null,null,null,null,null,null,null,null,null,null,null,null,null,null,null,null,null,null,null,null,null,"A"]
[2,null,null,null,null,null,null,null,null,null,null,null,null,null,null,null,null,null,null,null,null,null,null,null,null,null,null,null,null,null,null,null,null,null,null,null,null,null,null,null,null,null,null,null,null,null,null,null,null,null,null,null,null,null,null,"A"]
[3,null,null,null,null,null,null,null,null,null,null,null,null,null,null,null,null,null,null,null,null,null,null,null,null,null,null,null,null,null,null,null,null,null,null,null,null,null,null,null,null,null,null,null,null,null,null,null,null,null,null,null,null,null,null,"A"]
[4,null,null,null,null,null,null,null,null,null,null,null,null,null,null,null,null,null,null,null,null,null,null,null,null,null,null,null,null,null,null,null,null,null,null,null,null,null,null,null,null,null,null,null,null,null,null,null,null,null,null,null,null,null,null,"A"]
[5,null,null,null,null,null,null,null,null,null,null,null,null,null,null,null,null,null,null,null,null,null,null,null,null,null,null,null,null,null,null,null,null,null,null,null,null,null,null,null,null,null,null,null,null,null,null,null,null,null,null,null,null,null,null,"A"]
[6,null,null,null,null,null,null,null,null,null,null,null,null,null,null,null,null,null,null,null,null,null,null,null,null,null,null,null,null,null,null,null,null,null,null,null,null,null,null,null,null,null,null,null,null,null,null,null,null,null,null,null,null,null,null,"A"]
[7,null,null,null,null,null,null,null,null,null,null,null,null,null,null,null,null,null,null,null,null,null,null,null,null,null,null,null,null,null,null,null,null,null,null,null,null,null,null,null,null,null,null,null,null,null,null,null,null,null,null,null,null,null,null,"A"]
[8,null,null,null,null,null,null,null,null,null,null,null,null,null,null,null,null,null,null,null,null,null,null,null,null,null,null,null,null,null,null,null,null,null,null,null,null,null,null,null,null,null,null,null,null,null,null,null,null,null,null,null,null,null,null,"A"]
[9,null,null,null,null,null,null,null,null,null,null,null,null,null,null,null,null,null,null,null,null,null,null,null,null,null,null,null,null,null,null,null,null,null,null,null,null,null,null,null,null,null,null,null,null,null,null,null,null,null,null,null,null,null,null,"A"]
[10,null,null,null,null,null,null,null,null,null,null,null,null,null,null,null,null,null,null,null,null,null,null,null,null,null,null,null,null,null,null,null,null,null,null,null,null,null,null,null,null,null,null,null,null,null,null,null,null,null,null,null,null,null,null,"A"]
[11,null,null,null,null,null,null,null,null,null,null,null,null,null,null,null,null,null,null,null,null,null,null,null,null,null,null,null,null,null,null,null,null,null,null,null,null,null,null,null,null,null,null,null,null,null,null,null,null,null,null,null,null,null,null,"A"]
[12,null,null,null,null,null,null,null,null,null,null,null,null,null,null,null,null,null,null,null,null,null,null,null,null,null,null,null,null,null,null,null,null,null,null,null,null,null,null,null,null,null,null,null,null,null,null,null,null,null,null,null,null,null,null,"A"]
[13,null,null,null,null,null,null,null,null,null,null,null,null,null,null,null,null,null,null,null,null,null,null,null,null,null,null,null,null,null,null,null,null,null,null,null,null,null,null,null,null,null,null,null,null,null,null,null,null,null,null,null,null,null,null,"A"]
[14,null,null,null,null,null,null,null,null,null,null,null,null,null,null,null,null,null,null,null,null,null,null,null,null,null,null,null,null,null,null,null,null,null,null,null,null,null,null,null,null,null,null,null,null,null,null,null,null,null,null,null,null,null,null,"A"]
[15,null,null,null,null,null,null,null,null,null,null,null,null,null,null,null,null,null,null,null,null,null,null,null,null,null,null,null,null,null,null,null,null,null,null,null,null,null,null,null,null,null,null,null,null,null,null,null,null,null,null,null,null,null,null,"A"]
[16,null,null,null,null,null,null,null,null,null,null,null,null,null,null,null,null,null,null,null,null,null,null,null,null,null,null,null,null,null,null,null,null,null,null,null,null,null,null,null,null,null,null,null,null,null,null,null,null,null,null,null,null,null,null,"A"]
[17,null,null,null,null,null,null,null,null,null,null,null,null,null,null,null,null,null,null,null,null,null,null,null,null,null,null,null,null,null,null,null,null,null,null,null,null,null,null,null,null,null,null,null,null,null,null,null,null,null,null,null,null,null,null,"A"]
[18,null,null,null,null,null,null,null,null,null,null,null,null,null,null,null,null,null,null,null,null,null,null,null,null,null,null,null,null,null,null,null,null,null,null,null,null,null,null,null,null,null,null,null,null,null,null,null,null,null,null,null,null,null,null,"A"]
[19,null,null,null,null,null,null,null,null,null,null,null,null,null,null,null,null,null,null,null,null,null,null,null,null,null,null,null,null,null,null,null,null,null,null,null,null,null,null,null,null,null,null,null,null,null,null,null,null,null,null,null,null,null,null,"A"]
[20,null,null,null,null,null,null,null,null,null,null,null,null,null,null,null,null,null,null,null,null,null,null,null,null,null,null,null,null,null,null,null,null,null,null,null,null,null,null,null,null,null,null,null,null,null,null,null,null,null,null,null,null,null,null,"A"]
[21,null,null,null,null,null,null,null,null,null,null,null,null,null,null,null,null,null,null,null,null,null,null,null,null,null,null,null,null,null,null,null,null,null,null,null,null,null,null,null,null,null,null,null,null,null,null,null,null,null,null,null,null,null,null,"A"]
[22,null,null,null,null,null,null,null,null,null,null,null,null,null,null,null,null,null,null,null,null,null,null,null,null,null,null,null,null,null,null,null,null,null,null,null,null,null,null,null,null,null,null,null,null,null,null,null,null,null,null,null,null,null,null,"A"]
[23,null,null,null,null,null,null,null,null,null,null,null,null,null,null,null,null,null,null,null,null,null,null,null,null,null,null,null,null,null,null,null,null,null,null,null,null,null,null,null,null,null,null,null,null,null,null,null,null,null,null,null,null,null,null,"A"]
[24,null,null,null,null,null,null,null,null,null,null,null,null,null,null,null,null,null,null,null,null,null,null,null,null,null,null,null,null,null,null,null,null,null,null,null,null,null,null,null,null,null,null,null,null,null,null,null,null,null,null,null,null,null,null,"A"]
[25,null,null,null,null,null,null,null,null,null,null,null,null,null,null,null,null,null,null,null,null,null,null,null,null,null,null,null,null,null,null,null,null,null,null,null,null,null,null,null,null,null,null,null,null,null,null,null,null,null,null,null,null,null,null,"A"]
[26,null,null,null,null,null,null,null,null,null,null,null,null,null,null,null,null,null,null,null,null,null,null,null,null,null,null,null,null,null,null,null,null,null,null,null,null,null,null,null,null,null,null,null,null,null,null,null,null,null,null,null,null,null,null,"A"]
[27,null,null,null,null,null,null,null,null,null,null,null,null,null,null,null,null,null,null,null,null,null,null,null,null,null,null,null,null,null,null,null,null,null,null,null,null,null,null,null,null,null,null,null,null,null,null,null,null,null,null,null,null,null,null,"A"]
[28,null,null,null,null,null,null,null,null,null,null,null,null,null,null,null,null,null,null,null,null,null,null,null,null,null,null,null,null,null,null,null,null,null,null,null,null,null,null,null,null,null,null,null,null,null,null,null,null,null,null,null,null,null,null,"A"]
[29,null,null,null,null,null,null,null,null,null,null,null,null,null,null,null,null,null,null,null,null,null,null,null,null,null,null,null,null,null,null,null,null,null,null,null,null,null,null,null,null,null,null,null,null,null,null,null,null,null,null,null,null,null,null,"A"]
[30,null,null,null,null,null,null,null,null,null,null,null,null,null,null,null,null,null,null,null,null,null,null,null,null,null,null,null,null,null,null,null,null,null,null,null,null,null,null,null,null,null,null,null,null,null,null,null,null,null,null,null,null,null,null,"A"]
[31,null,null,null,null,null,null,null,null,null,null,null,null,null,null,null,null,null,null,null,null,null,null,null,null,null,null,null,null,null,null,null,null,null,null,null,null,null,null,null,null,null,null,null,null,null,null,null,null,null,null,null,null,null,null,"A"]
[32,null,null,null,null,null,null,null,null,null,null,null,null,null,null,null,null,null,null,null,null,null,null,null,null,null,null,null,null,null,null,null,null,null,null,null,null,null,null,null,null,null,null,null,null,null,null,null,null,null,null,null,null,null,null,"A"]
[33,null,null,null,null,null,null,null,null,null,null,null,null,null,null,null,null,null,null,null,null,null,null,null,null,null,null,null,null,null,null,null,null,null,null,null,null,null,null,null,null,null,null,null,null,null,null,null,null,null,null,null,null,null,null,"A"]
[34,null,null,null,null,null,null,null,null,null,null,null,null,null,null,null,null,null,null,null,null,null,null,null,null,null,null,null,null,null,null,null,null,null,null,null,null,null,null,null,null,null,null,null,null,null,null,null,null,null,null,null,null,null,null,"A"]
[35,null,null,null,null,null,null,null,null,null,null,null,null,null,null,null,null,null,null,null,null,null,null,null,null,null,null,null,null,null,null,null,null,null,null,null,null,null,null,null,null,null,null,null,null,null,null,null,null,null,null,null,null,null,null,"A"]
[36,null,null,null,null,null,null,null,null,null,null,null,null,null,null,null,null,null,null,null,null,null,null,null,null,null,null,null,null,null,null,null,null,null,null,null,null,null,null,null,null,null,null,null,null,null,null,null,null,null,null,null,null,null,null,"A"]
[37,null,null,null,null,null,null,null,null,null,null,null,null,null,null,null,null,null,null,null,null,null,null,null,null,null,null,null,null,null,null,null,null,null,null,null,null,null,null,null,null,null,null,null,null,null,null,null,null,null,null,null,null,null,null,"A"]
[38,null,null,null,null,null,null,null,null,null,null,null,null,null,null,null,null,null,null,null,null,null,null,null,null,null,null,null,null,null,null,null,null,null,null,null,null,null,null,null,null,null,null,null,null,null,null,null,null,null,null,null,null,null,null,"A"]
[39,null,null,null,null,null,null,null,null,null,null,null,null,null,null,null,null,null,null,null,null,null,null,null,null,null,null,null,null,null,null,null,null,null,null,null,null,null,null,null,null,null,null,null,null,null,null,null,null,null,null,null,null,null,null,"A"]
[40,null,null,null,null,null,null,null,null,null,null,null,null,null,null,null,null,null,null,null,null,null,null,null,null,null,null,null,null,null,null,null,null,null,null,null,null,null,null,null,null,null,null,null,null,null,null,null,null,null,null,null,null,null,null,"A"]
[41,null,null,null,null,null,null,null,null,null,null,null,null,null,null,null,null,null,null,null,null,null,null,null,null,null,null,null,null,null,null,null,null,null,null,null,null,null,null,null,null,null,null,null,null,null,null,null,null,null,null,null,null,null,null,"A"]
[42,null,null,null,null,null,null,null,null,null,null,null,null,null,null,null,null,null,null,null,null,null,null,null,null,null,null,null,null,null,null,null,null,null,null,null,null,null,null,null,null,null,null,null,null,null,null,null,null,null,null,null,null,null,null,"A"]
[43,null,null,null,null,null,null,null,null,null,null,null,null,null,null,null,null,null,null,null,null,null,null,null,null,null,null,null,null,null,null,null,null,null,null,null,null,null,null,null,null,null,null,null,null,null,null,null,null,null,null,null,null,null,null,"A"]
[44,null,null,null,null,null,null,null,null,null,null,null,null,null,null,null,null,null,null,null,null,null,null,null,null,null,null,null,null,null,null,null,null,null,null,null,null,null,null,null,null,null,null,null,null,null,null,null,null,null,null,null,null,null,null,"A"]
[45,null,null,null,null,null,null,null,null,null,null,null,null,null,null,null,null,null,null,null,null,null,null,null,null,null,null,null,null,null,null,null,null,null,null,null,null,null,null,null,null,null,null,null,null,null,null,null,null,null,null,null,null,null,null,"A"]
[46,null,null,null,null,null,null,null,null,null,null,null,null,null,null,null,null,null,null,null,null,null,null,null,null,null,null,null,null,null,null,null,null,null,null,null,null,null,null,null,null,null,null,null,null,null,null,null,null,null,null,null,null,null,null,"A"]
[47,null,null,null,null,null,null,null,null,null,null,null,null,null,null,null,null,null,null,null,null,null,null,null,null,null,null,null,null,null,null,null,null,null,null,null,null,null,null,null,null,null,null,null,null,null,null,null,null,null,null,null,null,null,null,"A"]
[48,null,null,null,null,null,null,null,null,null,null,null,null,null,null,null,null,null,null,null,null,null,null,null,null,null,null,null,null,null,null,null,null,null,null,null,null,null,null,null,null,null,null,null,null,null,null,null,null,null,null,null,null,null,null,"A"]
[49,null,null,null,null,null,null,null,null,null,null,null,null,null,null,null,null,null,null,null,null,null,null,null,null,null,null,null,null,null,null,null,null,null,null,null,null,null,null,null,null,null,null,null,null,null,null,null,null,null,null,null,null,null,null,"A"]
[50,null,null,null,null,null,null,null,null,null,null,null,null,null,null,null,null,null,null,null,null,null,null,null,null,null,null,null,null,null,null,null,null,null,null,null,null,null,null,null,null,null,null,null,null,null,null,null,null,null,null,null,null,null,null,"A"]
[51,null,null,null,null,null,null,null,null,null,null,null,null,null,null,null,null,null,null,null,null,null,null,null,null,null,null,null,null,null,null,null,null,null,null,null,null,null,null,null,null,null,null,null,null,null,null,null,null,null,null,null,null,null,null,"A"]
[52,null,null,null,null,null,null,null,null,null,null,null,null,null,null,null,null,null,null,null,null,null,null,null,null,null,null,null,null,null,null,null,null,null,null,null,null,null,null,null,null,null,null,null,null,null,null,null,null,null,null,null,null,null,null,"A"]
[53,null,null,null,null,null,null,null,null,null,null,null,null,null,null,null,null,null,null,null,null,null,null,null,null,null,null,null,null,null,null,null,null,null,null,null,null,null,null,null,null,null,null,null,null,null,null,null,null,null,null,null,null,null,null,"A"]
[54,null,null,null,null,null,null,null,null,null,null,null,null,null,null,null,null,null,null,null,null,null,null,null,null,null,null,null,null,null,null,null,null,null,null,null,null,null,null,null,null,null,null,null,null,null,null,null,null,null,null,null,null,null,null,"A"]
[55,null,null,null,null,null,null,null,null,null,null,null,null,null,null,null,null,null,null,null,null,null,null,null,null,null,null,null,null,null,null,null,null,null,null,null,null,null,null,null,null,null,null,null,null,null,null,null,null,null,null,null,null,null,null,"A"]
[56,null,null,null,null,null,null,null,null,null,null,null,null,null,null,null,null,null,null,null,null,null,null,null,null,null,null,null,null,null,null,null,null,null,null,null,null,null,null,null,null,null,null,null,null,null,null,null,null,null,null,null,null,null,null,"A"]
[57,null,null,null,null,null,null,null,null,null,null,null,null,null,null,null,null,null,null,null,null,null,null,null,null,null,null,null,null,null,null,null,null,null,null,null,null,null,null,null,null,null,null,null,null,null,null,null,null,null,null,null,null,null,null,"A"]
[58,null,null,null,null,null,null,null,null,null,null,null,null,null,null,null,null,null,null,null,null,null,null,null,null,null,null,null,null,null,null,null,null,null,null,null,null,null,null,null,null,null,null,null,null,null,null,null,null,null,null,null,null,null,null,"A"]
[59,null,null,null,null,null,null,null,null,null,null,null,null,null,null,null,null,null,null,null,null,null,null,null,null,null,null,null,null,null,null,null,null,null,null,null,null,null,null,null,null,null,null,null,null,null,null,null,null,null,null,null,null,null,null,"A"]
[60,null,null,null,null,null,null,null,null,null,null,null,null,null,null,null,null,null,null,null,null,null,null,null,null,null,null,null,null,null,null,null,null,null,null,null,null,null,null,null,null,null,null,null,null,null,null,null,null,null,null,null,null,null,null,"A"]
[61,null,null,null,null,null,null,null,null,null,null,null,null,null,null,null,null,null,null,null,null,null,null,null,null,null,null,null,null,null,null,null,null,null,null,null,null,null,null,null,null,null,null,null,null,null,null,null,null,null,null,null,null,null,null,"A"]
[62,null,null,null,null,null,null,null,null,null,null,null,null,null,null,null,null,null,null,null,null,null,null,null,null,null,null,null,null,null,null,null,null,null,null,null,null,null,null,null,null,null,null,null,null,null,null,null,null,null,null,null,null,null,null,"A"]
[63,null,null,null,null,null,null,null,null,null,null,null,null,null,null,null,null,null,null,null,null,null,null,null,null,null,null,null,null,null,null,null,null,null,null,null,null,null,null,null,null,null,null,null,null,null,null,null,null,null,null,null,null,null,null,"A"]
[64,null,null,null,null,null,null,null,null,null,null,null,null,null,null,null,null,null,null,null,null,null,null,null,null,null,null,null,null,null,null,null,null,null,null,null,null,null,null,null,null,null,null,null,null,null,null,null,null,null,null,null,null,null,null,"A"]
[65,null,null,null,null,null,null,null,null,null,null,null,null,null,null,null,null,null,null,null,null,null,null,null,null,null,null,null,null,null,null,null,null,null,null,null,null,null,null,null,null,null,null,null,null,null,null,null,null,null,null,null,null,null,null,"A"]
[66,null,null,null,null,null,null,null,null,null,null,null,null,null,null,null,null,null,null,null,null,null,null,null,null,null,null,null,null,null,null,null,null,null,null,null,null,null,null,null,null,null,null,null,null,null,null,null,null,null,null,null,null,null,null,"A"]
[67,null,null,null,null,null,null,null,null,null,null,null,null,null,null,null,null,null,null,null,null,null,null,null,null,null,null,null,null,null,null,null,null,null,null,null,null,null,null,null,null,null,null,null,null,null,null,null,null,null,null,null,null,null,null,"A"]
[68,null,null,null,null,null,null,null,null,null,null,null,null,null,null,null,null,null,null,null,null,null,null,null,null,null,null,null,null,null,null,null,null,null,null,null,null,null,null,null,null,null,null,null,null,null,null,null,null,null,null,null,null,null,null,"A"]
[69,null,null,null,null,null,null,null,null,null,null,null,null,null,null,null,null,null,null,null,null,null,null,null,null,null,null,null,null,null,null,null,null,null,null,null,null,null,null,null,null,null,null,null,null,null,null,null,null,null,null,null,null,null,null,"A"]
[70,null,null,null,null,null,null,null,null,null,null,null,null,null,null,null,null,null,null,null,null,null,null,null,null,null,null,null,null,null,null,null,null,null,null,null,null,null,null,null,null,null,null,null,null,null,null,null,null,null,null,null,null,null,null,"A"]

{"sheet":"確認シート（印刷版）","index":2,"n_rows":93,"n_cols":82,"rows_kept":93,"cut":false,"hidden":false,"merged":[[6,63,6,69],[8,72,8,78],[8,81,8,87],[3,70,5,70],[3,72,3,78],[4,63,4,69],[4,72,4,78],[5,0,5,4],[4,81,4,87],[5,5,5,22],[5,61,5,62],[5,63,5,69],[5,72,5,78],[2,70,2,78],[4,0,4,4],[2,0,2,4],[2,5,2,22],[2,61,2,69],[2,79,2,87],[3,0,3,4],[3,5,3,22],[3,61,3,62],[3,63,3,69],[11,5,11,22],[11,26,11,43],[11,61,11,62],[10,0,10,4],[10,5,10,22],[10,61,10,62],[10,81,10,87],[9,0,9,4],[9,5,9,22],[9,61,9,62],[9,63,9,69],[8,0,8,4],[8,5,8,22],[8,61,8,62],[10,63,10,69],[3,81,3,87],[6,81,6,87],[7,0,7,4],[7,5,7,22],[7,61,7,62],[7,63,7,69],[7,72,7,78],[7,81,7,87],[6,70,8,70],[6,72,6,78],[5,81,5,87],[4,5,4,22],[4,61,4,62],[8,63,8,69],[6,0,6,4],[6,5,6,22],[6,61,6,62],[13,0,13,4],[13,5,13,22],[13,26,13,29],[13,30,13,34],[14,0,14,4],[14,5,14,22],[14,26,14,29],[14,30,14,34],[12,39,12,43],[13,35,13,38],[13,39,13,43],[12,81,12,87],[13,72,13,78],[13,81,13,87],[12,72,12,78],[11,63,11,69],[12,61,12,62],[12,63,12,69],[12,70,14,70],[14,81,14,87],[12,0,12,4],[12,5,12,22],[12,26,12,29],[12,30,12,34],[12,35,12,38],[11,81,11,87],[9,70,11,70],[9,72,9,78],[9,81,9,87],[10,72,10,78],[11,72,11,78],[11,0,11,4],[15,81,15,87],[17,81,17,87],[15,70,17,70],[15,72,15,78],[17,72,17,78],[16,72,16,78],[16,81,16,87],[18,81,18,87],[19,81,19,87],[15,30,15,34],[13,61,13,62],[13,63,13,69],[14,35,14,38],[14,39,14,43],[14,61,14,62],[14,63,14,69],[14,72,14,78],[15,63,15,69],[15,39,15,43],[15,61,15,62],[16,35,16,38],[16,39,16,43],[15,35,15,38],[17,61,17,62],[17,63,17,69],[16,61,16,62],[17,0,17,4],[17,5,17,22],[16,26,16,29],[16,30,16,34],[16,63,16,69],[16,0,16,4],[16,5,16,22],[15,0,15,4],[15,5,15,22],[15,26,15,29],[20,0,22,1],[20,2,22,5],[20,6,22,9],[20,10,22,14],[21,61,21,62],[21,63,21,69],[20,15,22,21],[20,22,22,30],[20,31,22,39],[22,53,22,54],[18,61,18,62],[18,63,18,69],[18,70,20,70],[20,72,20,78],[18,72,18,78],[19,61,19,62],[19,63,19,69],[19,72,19,78],[20,61,20,62],[20,63,20,69],[20,40,22,41],[20,42,20,48],[20,49,20,58],[22,55,22,56],[21,55,21,58],[23,81,23,87],[22,57,22,58],[22,61,22,62],[22,63,22,69],[22,81,22,87],[21,45,22,46],[21,47,22,48],[21,49,21,50],[21,51,21,54],[22,49,22,50],[22,51,22,52],[20,81,20,87],[21,70,23,70],[21,72,21,78],[21,81,21,87],[22,72,22,78],[23,72,23,78],[23,61,23,62],[23,63,23,69],[23,55,23,56],[23,57,23,58],[24,57,24,58],[24,55,24,56],[24,63,24,69],[23,51,23,52],[23,53,23,54],[23,31,23,39],[23,40,23,41],[23,42,23,44],[23,45,23,46],[24,70,26,70],[24,72,24,78],[23,0,23,1],[23,2,23,5],[23,6,23,9],[23,10,23,14],[23,15,23,21],[23,22,23,30],[23,47,23,48],[23,49,23,50],[24,81,24,87],[25,0,25,1],[25,2,25,5],[25,6,25,9],[25,10,25,14],[25,15,25,21],[25,22,25,30],[25,31,25,39],[24,61,24,62],[25,81,25,87],[24,53,24,54],[24,47,24,48],[24,49,24,50],[24,51,24,52],[24,0,24,1],[24,2,24,5],[24,6,24,9],[24,10,24,14],[24,15,24,21],[24,22,24,30],[24,31,24,39],[24,40,24,41],[24,42,24,44],[24,45,24,46],[26,0,26,1],[26,2,26,5],[26,6,26,9],[26,10,26,14],[25,72,25,78],[27,70,29,70],[27,72,27,78],[27,15,27,21],[27,22,27,30],[27,47,27,48],[26,15,26,21],[26,22,26,30],[25,53,25,54],[25,40,25,41],[25,42,25,44],[25,45,25,46],[25,47,25,48],[25,49,25,50],[25,51,25,52],[26,47,26,48],[26,49,26,50],[27,49,27,50],[27,31,27,39],[27,40,27,41],[27,42,27,44],[27,45,27,46],[26,31,26,39],[26,40,26,41],[26,42,26,44],[26,45,26,46],[27,81,27,87],[26,63,26,69],[26,51,26,52],[26,53,26,54],[25,63,25,69],[25,55,25,56],[25,57,25,58],[25,61,25,62],[27,55,27,56],[27,57,27,58],[29,81,29,87],[27,61,27,62],[27,63,27,69],[28,61,28,62],[28,63,28,69],[28,55,28,56],[28,57,28,58],[30,72,30,78],[30,81,30,87],[28,72,28,78],[28,81,28,87],[26,55,26,56],[26,57,26,58],[26,72,26,78],[26,61,26,62],[29,61,29,62],[29,63,29,69],[28,51,28,52],[28,53,28,54],[28,31,28,39],[28,40,28,41],[28,42,28,44],[28,45,28,46],[28,47,28,48],[28,49,28,50],[28,0,28,1],[28,2,28,5],[28,6,28,9],[28,10,28,14],[28,15,28,21],[28,22,28,30],[27,51,27,52],[27,53,27,54],[29,72,29,78],[27,0,27,1],[27,2,27,5],[27,6,27,9],[27,10,27,14],[30,55,30,56],[30,57,30,58],[29,55,29,56],[29,57,29,58],[30,22,30,30],[30,31,30,39],[30,40,30,41],[30,0,30,1],[30,2,30,5],[30,6,30,9],[30,10,30,14],[29,51,29,52],[29,53,29,54],[29,31,29,39],[29,40,29,41],[29,42,29,44],[29,45,29,46],[29,0,29,1],[29,2,29,5],[29,6,29,9],[29,10,29,14],[29,47,29,48],[29,49,29,50],[29,15,29,21],[29,22,29,30],[31,0,31,1],[31,2,31,5],[31,6,31,9],[31,10,31,14],[31,55,31,56],[31,57,31,58],[31,31,31,39],[31,40,31,41],[31,42,31,44],[31,53,31,54],[30,15,30,21],[31,72,31,78],[31,81,31,87],[32,72,32,78],[32,81,32,87],[30,70,32,70],[31,61,31,62],[31,63,31,69],[32,31,32,39],[31,15,31,21],[31,22,31,30],[31,45,31,46],[31,47,31,48],[31,49,31,50],[31,51,31,52],[30,61,30,62],[30,63,30,69],[30,45,30,46],[30,47,30,48],[30,49,30,50],[30,51,30,52],[30,53,30,54],[32,57,32,58],[33,47,33,48],[33,49,33,50],[33,0,33,1],[33,2,33,5],[33,6,33,9],[33,10,33,14],[33,15,33,21],[33,22,33,30],[33,31,33,39],[32,40,32,41],[32,61,32,62],[32,63,32,69],[32,42,32,44],[32,45,32,46],[32,47,32,48],[32,49,32,50],[32,51,32,52],[32,53,32,54],[32,55,32,56],[32,0,32,1],[32,2,32,5],[32,6,32,9],[32,10,32,14],[32,15,32,21],[32,22,32,30],[34,0,34,1],[34,2,34,5],[34,6,34,9],[34,10,34,14],[34,15,34,21],[34,22,34,30],[34,55,34,56],[34,53,34,54],[34,49,34,50],[34,51,34,52],[35,40,35,41],[35,42,35,44],[35,45,35,46],[35,47,35,48],[35,49,35,50],[33,40,33,41],[33,42,33,44],[33,45,33,46],[33,51,33,52],[33,53,33,54],[34,42,34,44],[34,45,34,46],[34,47,34,48],[37,0,37,1],[37,2,37,5],[37,6,37,9],[37,10,37,14],[37,15,37,21],[37,22,37,30],[36,55,36,56],[35,55,35,56],[35,51,35,52],[35,53,35,54],[36,51,36,52],[36,53,36,54],[36,0,36,1],[36,2,36,5],[36,6,36,9],[36,10,36,14],[36,47,36,48],[36,49,36,50],[36,15,36,21],[36,22,36,30],[36,31,36,39],[36,40,36,41],[35,15,35,21],[35,22,35,30],[35,31,35,39],[35,0,35,1],[35,2,35,5],[35,6,35,9],[35,10,35,14],[37,51,37,52],[37,53,37,54],[37,31,37,39],[37,45,37,46],[37,47,37,48],[37,49,37,50],[38,47,38,48],[38,49,38,50],[37,40,37,41],[36,45,36,46],[33,55,33,56],[33,57,33,58],[37,55,37,56],[37,57,37,58],[36,57,36,58],[35,57,35,58],[34,57,34,58],[36,42,36,44],[34,31,34,39],[34,40,34,41],[39,55,39,56],[39,57,39,58],[39,31,39,39],[39,40,39,41],[39,42,39,44],[39,45,39,46],[39,47,39,48],[39,49,39,50],[39,51,39,52],[39,53,39,54],[39,0,39,1],[39,2,39,5],[39,6,39,9],[39,10,39,14],[38,0,38,1],[38,2,38,5],[38,6,38,9],[38,10,38,14],[38,55,38,56],[38,57,38,58],[39,15,39,21],[39,22,39,30],[38,51,38,52],[38,53,38,54],[38,31,38,39],[38,40,38,41],[38,42,38,44],[38,45,38,46],[38,15,38,21],[38,22,38,30],[41,40,41,41],[41,42,41,44],[41,45,41,46],[41,47,41,48],[40,40,40,41],[40,55,40,56],[40,42,40,44],[40,45,40,46],[40,47,40,48],[40,49,40,50],[40,57,40,58],[40,0,40,1],[40,2,40,5],[40,6,40,9],[40,10,40,14],[40,15,40,21],[40,22,40,30],[40,31,40,39],[40,51,40,52],[40,53,40,54],[42,55,42,56],[42,57,42,58],[43,47,43,48],[43,49,43,50],[43,55,43,56],[43,57,43,58],[42,49,42,50],[42,51,42,52],[42,53,42,54],[41,55,41,56],[41,15,41,21],[41,22,41,30],[42,0,42,1],[42,2,42,5],[42,6,42,9],[42,10,42,14],[42,40,42,41],[42,42,42,44],[42,45,42,46],[41,49,41,50],[41,51,41,52],[41,53,41,54],[42,15,42,21],[42,22,42,30],[42,31,42,39],[42,47,42,48],[41,0,41,1],[41,2,41,5],[41,6,41,9],[41,10,41,14],[41,57,41,58],[41,31,41,39],[43,42,43,44],[43,45,43,46],[43,51,43,52],[45,57,45,58],[44,57,44,58],[44,55,44,56],[44,53,44,54],[45,55,45,56],[43,0,43,1],[43,2,43,5],[43,6,43,9],[43,10,43,14],[43,53,43,54],[43,15,43,21],[43,22,43,30],[43,31,43,39],[43,40,43,41],[44,0,44,1],[44,2,44,5],[44,6,44,9],[44,10,44,14],[45,53,45,54],[45,0,45,1],[45,2,45,5],[45,6,45,9],[45,10,45,14],[45,15,45,21],[44,15,44,21],[44,22,44,30],[44,31,44,39],[44,40,44,41],[44,45,44,46],[44,47,44,48],[44,49,44,50],[44,51,44,52],[47,2,47,5],[47,6,47,9],[47,10,47,14],[46,42,46,44],[46,0,46,1],[46,2,46,5],[46,6,46,9],[46,10,46,14],[46,53,46,54],[46,15,46,21],[46,22,46,30],[46,31,46,39],[46,40,46,41],[46,45,46,46],[45,22,45,30],[45,31,45,39],[45,40,45,41],[45,51,45,52],[45,45,45,46],[45,47,45,48],[45,49,45,50],[48,0,48,1],[48,2,48,5],[48,6,48,9],[48,10,48,14],[49,15,49,21],[49,22,49,30],[49,0,49,1],[49,2,49,5],[49,6,49,9],[49,10,49,14],[48,55,48,56],[48,57,48,58],[46,55,46,56],[46,57,46,58],[48,15,48,21],[48,22,48,30],[47,51,47,52],[47,53,47,54],[47,15,47,21],[47,22,47,30],[47,55,47,56],[47,57,47,58],[47,31,47,39],[47,40,47,41],[47,42,47,44],[47,45,47,46],[47,47,47,48],[47,49,47,50],[46,47,46,48],[46,49,46,50],[46,51,46,52],[47,0,47,1],[49,55,49,56],[49,57,49,58],[49,31,49,39],[49,40,49,41],[49,42,49,44],[49,45,49,46],[49,47,49,48],[49,49,49,50],[49,51,49,52],[49,53,49,54],[48,51,48,52],[48,53,48,54],[48,31,48,39],[48,40,48,41],[48,42,48,44],[48,45,48,46],[48,47,48,48],[48,49,48,50],[51,40,51,41],[51,42,51,44],[51,45,51,46],[51,47,51,48],[50,40,50,41],[50,55,50,56],[50,42,50,44],[50,45,50,46],[50,47,50,48],[50,49,50,50],[50,57,50,58],[50,0,50,1],[50,2,50,5],[50,6,50,9],[50,10,50,14],[50,15,50,21],[50,22,50,30],[50,31,50,39],[50,51,50,52],[50,53,50,54],[52,55,52,56],[52,57,52,58],[53,47,53,48],[53,49,53,50],[53,55,53,56],[53,57,53,58],[52,49,52,50],[52,51,52,52],[52,53,52,54],[51,55,51,56],[51,15,51,21],[51,22,51,30],[52,0,52,1],[52,2,52,5],[52,6,52,9],[52,10,52,14],[52,40,52,41],[52,42,52,44],[52,45,52,46],[51,49,51,50],[51,51,51,52],[51,53,51,54],[52,15,52,21],[52,22,52,30],[52,31,52,39],[52,47,52,48],[51,0,51,1],[51,2,51,5],[51,6,51,9],[51,10,51,14],[51,57,51,58],[51,31,51,39],[53,42,53,44],[53,45,53,46],[53,51,53,52],[55,57,55,58],[54,57,54,58],[54,55,54,56],[54,53,54,54],[55,55,55,56],[53,0,53,1],[53,2,53,5],[53,6,53,9],[53,10,53,14],[53,53,53,54],[53,15,53,21],[53,22,53,30],[53,31,53,39],[53,40,53,41],[54,0,54,1],[54,2,54,5],[54,6,54,9],[54,10,54,14],[55,53,55,54],[55,0,55,1],[55,2,55,5],[55,6,55,9],[55,10,55,14],[55,15,55,21],[54,15,54,21],[54,22,54,30],[54,31,54,39],[54,40,54,41],[54,45,54,46],[54,47,54,48],[54,49,54,50],[54,51,54,52],[57,2,57,5],[57,6,57,9],[57,10,57,14],[56,42,56,44],[56,0,56,1],[56,2,56,5],[56,6,56,9],[56,10,56,14],[56,53,56,54],[56,15,56,21],[56,22,56,30],[56,31,56,39],[56,40,56,41],[56,45,56,46],[55,22,55,30],[55,31,55,39],[55,40,55,41],[55,51,55,52],[55,45,55,46],[55,47,55,48],[55,49,55,50],[58,0,58,1],[58,2,58,5],[58,6,58,9],[58,10,58,14],[59,15,59,21],[59,22,59,30],[59,0,59,1],[59,2,59,5],[59,6,59,9],[59,10,59,14],[58,55,58,56],[58,57,58,58],[56,55,56,56],[56,57,56,58],[58,15,58,21],[58,22,58,30],[57,51,57,52],[57,53,57,54],[57,15,57,21],[57,22,57,30],[57,55,57,56],[57,57,57,58],[57,31,57,39],[57,40,57,41],[57,42,57,44],[57,45,57,46],[57,47,57,48],[57,49,57,50],[56,47,56,48],[56,49,56,50],[56,51,56,52],[57,0,57,1],[59,55,59,56],[59,57,59,58],[59,31,59,39],[59,40,59,41],[59,42,59,44],[59,45,59,46],[59,47,59,48],[59,49,59,50],[59,51,59,52],[59,53,59,54],[58,51,58,52],[58,53,58,54],[58,31,58,39],[58,40,58,41],[58,42,58,44],[58,45,58,46],[58,47,58,48],[58,49,58,50],[61,57,61,58],[61,31,61,39],[61,40,61,41],[61,42,61,44],[61,45,61,46],[61,47,61,48],[60,40,60,41],[60,55,60,56],[60,42,60,44],[60,45,60,46],[60,47,60,48],[60,49,60,50],[60,57,60,58],[60,0,60,1],[60,2,60,5],[60,6,60,9],[60,10,60,14],[60,15,60,21],[60,22,60,30],[60,31,60,39],[60,51,60,52],[60,53,60,54],[61,55,61,56],[61,15,61,21],[61,22,61,30],[62,0,62,1],[62,2,62,5],[62,6,62,9],[62,10,62,14],[62,40,62,41],[62,42,62,44],[62,45,62,46],[61,49,61,50],[61,51,61,52],[61,53,61,54],[62,15,62,21],[62,22,62,30],[62,31,62,39],[62,47,62,48],[61,0,61,1],[61,2,61,5],[61,6,61,9],[61,10,61,14],[63,31,63,39],[63,40,63,41],[64,49,64,50],[64,51,64,52],[63,45,63,46],[63,51,63,52],[63,0,63,1],[63,2,63,5],[63,6,63,9],[63,10,63,14],[63,15,63,21],[63,22,63,30],[62,55,62,56],[62,57,62,58],[63,47,63,48],[63,49,63,50],[63,55,63,56],[63,57,63,58],[63,53,63,54],[62,49,62,50],[62,51,62,52],[62,53,62,54],[64,0,64,1],[64,2,64,5],[64,6,64,9],[64,10,64,14],[64,45,64,46],[64,47,64,48],[64,42,64,44],[64,15,64,21],[64,22,64,30],[64,31,64,39],[64,40,64,41],[65,57,65,58],[64,57,64,58],[65,53,65,54],[64,55,64,56],[64,53,64,54],[65,31,65,39],[66,49,66,50],[65,40,65,41],[65,51,65,52],[65,45,65,46],[65,47,65,48],[65,49,65,50],[66,0,66,1],[66,2,66,5],[66,6,66,9],[66,10,66,14],[66,51,66,52],[65,0,65,1],[65,2,65,5],[65,6,65,9],[65,10,65,14],[65,15,65,21],[65,22,65,30],[68,57,68,58],[69,15,69,21],[69,22,69,30],[68,51,68,52],[68,53,68,54],[68,31,68,39],[68,40,68,41],[68,42,68,44],[67,47,67,48],[66,55,66,56],[66,57,66,58],[65,55,65,56],[68,15,68,21],[68,22,68,30],[67,51,67,52],[67,53,67,54],[67,55,67,56],[67,57,67,58],[67,49,67,50],[67,15,67,21],[67,22,67,30],[67,40,67,41],[67,42,67,44],[67,45,67,46],[66,53,66,54],[66,15,66,21],[66,22,66,30],[66,31,66,39],[66,40,66,41],[66,42,66,44],[66,45,66,46],[66,47,66,48],[68,47,68,48],[68,49,68,50],[70,31,70,39],[70,40,70,41],[70,51,70,52],[70,53,70,54],[68,45,68,46],[68,0,68,1],[68,2,68,5],[68,6,68,9],[68,10,68,14],[69,0,69,1],[69,2,69,5],[69,6,69,9],[69,10,69,14],[67,31,67,39],[68,55,68,56],[67,0,67,1],[67,2,67,5],[67,6,67,9],[67,10,67,14],[70,57,70,58],[71,15,71,21],[71,22,71,30],[70,42,70,44],[70,45,70,46],[70,47,70,48],[70,49,70,50],[70,15,70,21],[70,22,70,30],[69,55,69,56],[69,57,69,58],[69,31,69,39],[69,40,69,41],[69,42,69,44],[69,45,69,46],[69,47,69,48],[69,49,69,50],[69,51,69,52],[69,53,69,54],[71,31,71,39],[71,40,71,41],[71,42,71,44],[71,45,71,46],[71,47,71,48],[71,49,71,50],[71,51,71,52],[71,53,71,54],[71,0,71,1],[71,2,71,5],[71,6,71,9],[71,10,71,14],[70,0,70,1],[70,2,70,5],[70,6,70,9],[70,10,70,14],[70,55,70,56],[73,15,73,21],[73,22,73,30],[72,42,72,44],[72,45,72,46],[73,0,73,1],[73,2,73,5],[73,6,73,9],[73,10,73,14],[73,31,73,39],[73,40,73,41],[72,47,72,48],[72,49,72,50],[72,0,72,1],[72,2,72,5],[72,6,72,9],[72,10,72,14],[72,15,72,21],[72,22,72,30],[72,31,72,39],[72,40,72,41],[75,31,75,39]],"merged_total":1328,"flags":["merged_cut"]}
["確認シート（印刷版）"]
[]
["大  会  名",null,null,null,null,{"$f":"入力シート!F3","v":"第16回13-15歳ソロ・デュエット大会"},null,null,null,null,null,null,null,null,null,null,null,null,null,null,null,null,null,null,null,null,null,null,null,null,null,null,null,null,null,null,null,null,null,null,null,null,null,null,null,null,null,null,null,null,null,null,null,null,null,null,null,null,null,null,null,"ソ　ロ",null,null,null,null,null,null,null,null,"デュエット",null,null,null,null,null,null,null,null,"フィギュア"]
["期      日",null,null,null,null,{"$f":"入力シート!F4","v":"2013年1月26日（土）-1月27日（日）"},null,null,null,null,null,null,null,null,null,null,null,null,null,null,null,null,null,null,null,null,null,null,null,null,null,null,null,null,null,null,null,null,null,null,null,null,null,null,null,null,null,null,null,null,null,null,null,null,null,null,null,null,null,null,null,1,null,{"$f":"VLOOKUP(1,WORK!A3:B72,2,FALSE)","v":{"$error":"#N/A"}},null,null,null,null,null,null,1,1,{"$f":"VLOOKUP(\"11\",WORK!F3:G72,2,FALSE)","v":{"$error":"#N/A"}},null,null,null,null,null,null,"Ａ",1,{"$f":"VLOOKUP(\"A1\",WORK!P3:Q72,2,FALSE)","v":{"$error":"#N/A"}}]
["場      所",null,null,null,null,{"$f":"入力シート!F5","v":"横浜国際プール"},null,null,null,null,null,null,null,null,null,null,null,null,null,null,null,null,null,null,null,null,null,null,null,null,null,null,null,null,null,null,null,null,null,null,null,null,null,null,null,null,null,null,null,null,null,null,null,null,null,null,null,null,null,null,null,2,null,{"$f":"VLOOKUP(2,WORK!A3:B72,2,FALSE)","v":{"$error":"#N/A"}},null,null,null,null,null,null,null,2,{"$f":"VLOOKUP(\"12\",WORK!F3:G72,2,FALSE)","v":{"$error":"#N/A"}},null,null,null,null,null,null,null,2,{"$f":"VLOOKUP(\"A2\",WORK!P3:Q72,2,FALSE)","v":{"$error":"#N/A"}}]
["加盟団体名",null,null,null,null,{"$f":"入力シート!F19","v":0},null,null,null,null,null,null,null,null,null,null,null,null,null,null,null,null,null,null,null,null,null,null,null,null,null,null,null,null,null,null,null,null,null,null,null,null,null,null,null,null,null,null,null,null,null,null,null,null,null,null,null,null,null,null,null,3,null,{"$f":"VLOOKUP(3,WORK!A3:B72,2,FALSE)","v":{"$error":"#N/A"}},null,null,null,null,null,null,null,"R",{"$f":"VLOOKUP(\"1R\",WORK!F3:G72,2,FALSE)","v":{"$error":"#N/A"}},null,null,null,null,null,null,null,3,{"$f":"VLOOKUP(\"A3\",WORK!P3:Q72,2,FALSE)","v":{"$error":"#N/A"}}]
["登録団体名",null,null,null,null,{"$f":"入力シート!F6","v":0},null,null,null,null,null,null,null,null,null,null,null,null,null,null,null,null,null,null,null,null,null,null,null,null,null,null,null,null,null,null,null,null,null,null,null,null,null,null,null,null,null,null,null,null,null,null,null,null,null,null,null,null,null,null,null,4,null,{"$f":"VLOOKUP(4,WORK!A3:B72,2,FALSE)","v":{"$error":"#N/A"}},null,null,null,null,null,null,2,1,{"$f":"VLOOKUP(\"21\",WORK!F3:G72,2,FALSE)","v":{"$error":"#N/A"}},null,null,null,null,null,null,null,4,{"$f":"VLOOKUP(\"A4\",WORK!P3:Q72,2,FALSE)","v":{"$error":"#N/A"}}]
["代表者名",null,null,null,null,{"$f":"入力シート!F7","v":0},null,null,null,null,null,null,null,null,null,null,null,null,null,null,null,null,null,null,null,null,null,null,null,null,null,null,null,null,null,null,null,null,null,null,null,null,null,null,null,null,null,null,null,null,null,null,null,null,null,null,null,null,null,null,null,5,null,{"$f":"VLOOKUP(5,WORK!A3:B72,2,FALSE)","v":{"$error":"#N/A"}},null,null,null,null,null,null,null,2,{"$f":"VLOOKUP(\"22\",WORK!F3:G72,2,FALSE)","v":{"$error":"#N/A"}},null,null,null,null,null,null,null,5,{"$f":"VLOOKUP(\"A5\",WORK!P3:Q72,2,FALSE)","v":{"$error":"#N/A"}}]
["団体番号",null,null,null,null,{"$f":"入力シート!F8","v":0},null,null,null,null,null,null,null,null,null,null,null,null,null,null,null,null,null,null,null,null,null,null,null,null,null,null,null,null,null,null,null,null,null,null,null,null,null,null,null,null,null,null,null,null,null,null,null,null,null,null,null,null,null,null,null,6,null,{"$f":"VLOOKUP(6,WORK!A3:B72,2,FALSE)","v":{"$error":"#N/A"}},null,null,null,null,null,null,null,"R",{"$f":"VLOOKUP(\"2R\",WORK!F3:G72,2,FALSE)","v":{"$error":"#N/A"}},null,null,null,null,null,null,null,6,{"$f":"VLOOKUP(\"A6\",WORK!P3:Q72,2,FALSE)","v":{"$error":"#N/A"}}]
["登録団体住所",null,null,null,null,{"$f":"入力シート!F9","v":0},null,null,null,null,null,null,null,null,null,null,null,null,null,null,null,null,null,null,null,null,null,null,null,null,null,null,null,null,null,null,null,null,null,null,null,null,null,null,null,null,null,null,null,null,null,null,null,null,null,null,null,null,null,null,null,7,null,{"$f":"VLOOKUP(7,WORK!A3:B72,2,FALSE)","v":{"$error":"#N/A"}},null,null,null,null,null,null,3,1,{"$f":"VLOOKUP(\"31\",WORK!F3:G72,2,FALSE)","v":{"$error":"#N/A"}},null,null,null,null,null,null,null,7,{"$f":"VLOOKUP(\"A7\",WORK!P3:Q72,2,FALSE)","v":{"$error":"#N/A"}}]
["登録団体Tel",null,null,null,null,{"$f":"入力シート!F10","v":0},null,null,null,null,null,null,null,null,null,null,null,null,null,null,null,null,null,null,null,null,null,null,null,null,null,null,null,null,null,null,null,null,null,null,null,null,null,null,null,null,null,null,null,null,null,null,null,null,null,null,null,null,null,null,null,8,null,{"$f":"VLOOKUP(8,WORK!A3:B72,2,FALSE)","v":{"$error":"#N/A"}},null,null,null,null,null,null,null,2,{"$f":"VLOOKUP(\"32\",WORK!F3:G72,2,FALSE)","v":{"$error":"#N/A"}},null,null,null,null,null,null,null,8,{"$f":"VLOOKUP(\"A8\",WORK!P3:Q72,2,FALSE)","v":{"$error":"#N/A"}}]
["登録団体Fax",null,null,null,null,{"$f":"入力シート!F11","v":0},null,null,null,null,null,null,null,null,null,null,null,null,null,null,null,null,null,null,null,null,"金額シート",null,null,null,null,null,null,null,null,null,null,null,null,null,null,null,null,null,null,null,null,null,null,null,null,null,null,null,null,null,null,null,null,null,null,9,null,{"$f":"VLOOKUP(9,WORK!A3:B72,2,FALSE)","v":{"$error":"#N/A"}},null,null,null,null,null,null,null,"R",{"$f":"VLOOKUP(\"3R\",WORK!F3:G72,2,FALSE)","v":{"$error":"#N/A"}},null,null,null,null,null,null,null,9,{"$f":"VLOOKUP(\"A9\",WORK!P3:Q72,2,FALSE)","v":{"$error":"#N/A"}}]
["連絡責任者",null,null,null,null,{"$f":"入力シート!F12","v":0},null,null,null,null,null,null,null,null,null,null,null,null,null,null,null,null,null,null,null,null,"種　目",null,null,null,"エントリー数",null,null,null,null,"人　数",null,null,null,"合計（円）",null,null,null,null,null,null,null,null,null,null,null,null,null,null,null,null,null,null,null,null,null,10,null,{"$f":"VLOOKUP(10,WORK!A3:B72,2,FALSE)","v":{"$error":"#N/A"}},null,null,null,null,null,null,4,1,{"$f":"VLOOKUP(\"41\",WORK!F3:G72,2,FALSE)","v":{"$error":"#N/A"}},null,null,null,null,null,null,null,10,{"$f":"VLOOKUP(\"A10\",WORK!P3:Q72,2,FALSE)","v":{"$error":"#N/A"}}]
["連絡先住所",null,null,null,null,{"$f":"入力シート!F13","v":0},null,null,null,null,null,null,null,null,null,null,null,null,null,null,null,null,null,null,null,null,"ソ　　　　ロ",null,null,null,{"$f":"COUNTIF(AX24:AY93,\">0\")","v":0},null,null,null,null,{"$f":"COUNTIF(AX24:AY93,\">0\")","v":0},null,null,null,{"$f":"AE14*5000","v":0},null,null,null,null,null,null,null,null,null,null,null,null,null,null,null,null,null,null,null,null,null,11,null,{"$f":"VLOOKUP(11,WORK!A3:B72,2,FALSE)","v":{"$error":"#N/A"}},null,null,null,null,null,null,null,2,{"$f":"VLOOKUP(\"42\",WORK!F3:G72,2,FALSE)","v":{"$error":"#N/A"}},null,null,null,null,null,null,null,11,{"$f":"VLOOKUP(\"A11\",WORK!P3:Q72,2,FALSE)","v":{"$error":"#N/A"}}]
["Tel",null,null,null,null,{"$f":"入力シート!F14","v":0},null,null,null,null,null,null,null,null,null,null,null,null,null,null,null,null,null,null,null,null,"デュエット",null,null,null,{"$f":"COUNTIF(BB24:BC93,1)","v":0},null,null,null,null,{"$f":"COUNTIF(AZ24:BA93,\">0\")","v":0},null,null,null,{"$f":"AJ15*4000","v":0},null,null,null,null,null,null,null,null,null,null,null,null,null,null,null,null,null,null,null,null,null,12,null,{"$f":"VLOOKUP(12,WORK!A3:B72,2,FALSE)","v":{"$error":"#N/A"}},null,null,null,null,null,null,null,"R",{"$f":"VLOOKUP(\"4R\",WORK!F3:G72,2,FALSE)","v":{"$error":"#N/A"}},null,null,null,null,null,null,null,12,{"$f":"VLOOKUP(\"A12\",WORK!P3:Q72,2,FALSE)","v":{"$error":"#N/A"}}]
["Fax",null,null,null,null,{"$f":"入力シート!F15","v":0},null,null,null,null,null,null,null,null,null,null,null,null,null,null,null,null,null,null,null,null,"フィギュア",null,null,null,{"$f":"COUNTIF(BF24:BG93,\">0\")","v":0},null,null,null,null,{"$f":"COUNTIF(BF24:BG93,\">0\")","v":0},null,null,null,"-",null,null,null,null,null,null,null,null,null,null,null,null,null,null,null,null,null,null,null,null,null,13,null,{"$f":"VLOOKUP(13,WORK!A3:B72,2,FALSE)","v":{"$error":"#N/A"}},null,null,null,null,null,null,5,1,{"$f":"VLOOKUP(\"51\",WORK!F3:G72,2,FALSE)","v":{"$error":"#N/A"}},null,null,null,null,null,null,null,13,{"$f":"VLOOKUP(\"A13\",WORK!P3:Q72,2,FALSE)","v":{"$error":"#N/A"}}]
["携帯",null,null,null,null,{"$f":"入力シート!F16","v":0},null,null,null,null,null,null,null,null,null,null,null,null,null,null,null,null,null,null,null,null,"合　計",null,null,null,{"$f":"SUM(AE14:AI16)","v":0},null,null,null,null,{"$f":"SUM(AJ14:AM16)","v":0},null,null,null,{"$f":"SUM(AN14:AR16)","v":0},null,null,null,null,null,null,null,null,null,null,null,null,null,null,null,null,null,null,null,null,null,14,null,{"$f":"VLOOKUP(14,WORK!A3:B72,2,FALSE)","v":{"$error":"#N/A"}},null,null,null,null,null,null,null,2,{"$f":"VLOOKUP(\"52\",WORK!F3:G72,2,FALSE)","v":{"$error":"#N/A"}},null,null,null,null,null,null,null,14,{"$f":"VLOOKUP(\"A14\",WORK!P3:Q72,2,FALSE)","v":{"$error":"#N/A"}}]
["E-mail",null,null,null,null,{"$f":"入力シート!F17","v":0},null,null,null,null,null,null,null,null,null,null,null,null,null,null,null,null,null,null,null,null,null,null,null,null,null,null,null,null,null,null,null,null,null,null,null,null,null,null,null,null,null,null,null,null,null,null,null,null,null,null,null,null,null,null,null,15,null,{"$f":"VLOOKUP(15,WORK!A3:B72,2,FALSE)","v":{"$error":"#N/A"}},null,null,null,null,null,null,null,"R",{"$f":"VLOOKUP(\"5R\",WORK!F3:G72,2,FALSE)","v":{"$error":"#N/A"}},null,null,null,null,null,null,null,15,{"$f":"VLOOKUP(\"A15\",WORK!P3:Q72,2,FALSE)","v":{"$error":"#N/A"}}]
[null,null,null,null,null,null,null,null,null,null,null,null,null,null,null,null,null,null,null,null,null,null,null,null,null,null,null,null,null,null,null,null,null,null,null,null,null,null,null,null,null,null,null,null,null,null,null,null,null,null,null,null,null,null,null,null,null,null,null,null,null,16,null,{"$f":"VLOOKUP(16,WORK!A3:B72,2,FALSE)","v":{"$error":"#N/A"}},null,null,null,null,null,null,6,1,{"$f":"VLOOKUP(\"61\",WORK!F3:G72,2,FALSE)","v":{"$error":"#N/A"}},null,null,null,null,null,null,null,16,{"$f":"VLOOKUP(\"A16\",WORK!P3:Q72,2,FALSE)","v":{"$error":"#N/A"}}]
[null,null,null,null,null,null,null,null,null,null,null,null,null,null,null,null,null,null,null,null,null,null,null,null,null,null,null,null,null,null,null,null,null,null,null,null,null,null,null,null,null,null,null,null,null,null,null,null,null,null,null,null,null,null,null,null,null,null,null,null,null,17,null,{"$f":"VLOOKUP(17,WORK!A3:B72,2,FALSE)","v":{"$error":"#N/A"}},null,null,null,null,null,null,null,2,{"$f":"VLOOKUP(\"62\",WORK!F3:G72,2,FALSE)","v":{"$error":"#N/A"}},null,null,null,null,null,null,null,17,{"$f":"VLOOKUP(\"A17\",WORK!P3:Q72,2,FALSE)","v":{"$error":"#N/A"}}]
["番号",null,"加盟団体",null,null,null,"登録団体",null,null,null,"競技者番号",null,null,null,null,"氏　　　名",null,null,null,null,null,null,"ローマ字氏名",null,null,null,null,null,null,null,null,"学　　　校",null,null,null,null,null,null,null,null,"学年",null,"生年月日",null,null,null,null,null,null,"エントリー",null,null,null,null,null,null,null,null,null,null,null,18,null,{"$f":"VLOOKUP(18,WORK!A3:B72,2,FALSE)","v":{"$error":"#N/A"}},null,null,null,null,null,null,null,"R",{"$f":"VLOOKUP(\"6R\",WORK!F3:G72,2,FALSE)","v":{"$error":"#N/A"}},null,null,null,null,null,null,null,18,{"$f":"VLOOKUP(\"A18\",WORK!P3:Q72,2,FALSE)","v":{"$error":"#N/A"}}]
[null,null,null,null,null,null,null,null,null,null,null,null,null,null,null,null,null,null,null,null,null,null,null,null,null,null,null,null,null,null,null,null,null,null,null,null,null,null,null,null,null,null,"西暦",null,null,"月",null,"日",null,"ソロ",null,"デュエット",null,null,null,"フィギュア",null,null,null,null,null,19,null,{"$f":"VLOOKUP(19,WORK!A3:B72,2,FALSE)","v":{"$error":"#N/A"}},null,null,null,null,null,null,7,1,{"$f":"VLOOKUP(\"71\",WORK!F3:G72,2,FALSE)","v":{"$error":"#N/A"}},null,null,null,null,null,null,null,19,{"$f":"VLOOKUP(\"A19\",WORK!P3:Q72,2,FALSE)","v":{"$error":"#N/A"}}]
[null,null,null,null,null,null,null,null,null,null,null,null,null,null,null,null,null,null,null,null,null,null,null,null,null,null,null,null,null,null,null,null,null,null,null,null,null,null,null,null,null,null,null,null,null,null,null,null,null,"表示順",null,"組",null,"表示順",null,"組",null,"表示順",null,null,null,20,null,{"$f":"VLOOKUP(20,WORK!A3:B72,2,FALSE)","v":{"$error":"#N/A"}},null,null,null,null,null,null,null,2,{"$f":"VLOOKUP(\"72\",WORK!F3:G72,2,FALSE)","v":{"$error":"#N/A"}},null,null,null,null,null,null,null,20,{"$f":"VLOOKUP(\"A20\",WORK!P3:Q72,2,FALSE)","v":{"$error":"#N/A"}}]
[1,null,{"$f":"入力シート!C25","v":0},null,null,null,{"$f":"入力シート!G25","v":0},null,null,null,{"$f":"入力シート!K25","v":0},null,null,null,null,{"$f":"入力シート!P25","v":0},null,null,null,null,null,null,{"$f":"入力シート!W25","v":0},null,null,null,null,null,null,null,null,{"$f":"入力シート!AF25","v":0},null,null,null,null,null,null,null,null,{"$f":"入力シート!AO25","v":0},null,{"$f":"入力シート!AQ25","v":0},null,null,{"$f":"入力シート!AT25","v":0},null,{"$f":"入力シート!AV25","v":0},null,{"$f":"入力シート!AX25","v":0},null,{"$f":"入力シート!AZ25","v":0},null,{"$f":"入力シート!BB25","v":0},null,{"$f":"入力シート!BD25","v":"A"},null,{"$f":"入力シート!BF25","v":0},null,null,null,21,null,{"$f":"VLOOKUP(21,WORK!A3:B72,2,FALSE)","v":{"$error":"#N/A"}},null,null,null,null,null,null,null,"R",{"$f":"VLOOKUP(\"7R\",WORK!F3:G72,2,FALSE)","v":{"$error":"#N/A"}},null,null,null,null,null,null,null,21,{"$f":"VLOOKUP(\"A21\",WORK!P3:Q72,2,FALSE)","v":{"$error":"#N/A"}}]
[2,null,{"$f":"入力シート!C26","v":0},null,null,null,{"$f":"入力シート!G26","v":0},null,null,null,{"$f":"入力シート!K26","v":0},null,null,null,null,{"$f":"入力シート!P26","v":0},null,null,null,null,null,null,{"$f":"入力シート!W26","v":0},null,null,null,null,null,null,null,null,{"$f":"入力シート!AF26","v":0},null,null,null,null,null,null,null,null,{"$f":"入力シート!AO26","v":0},null,{"$f":"入力シート!AQ26","v":0},null,null,{"$f":"入力シート!AT26","v":0},null,{"$f":"入力シート!AV26","v":0},null,{"$f":"入力シート!AX26","v":0},null,{"$f":"入力シート!AZ26","v":0},null,{"$f":"入力シート!BB26","v":0},null,{"$f":"入力シート!BD26","v":"A"},null,{"$f":"入力シート!BF26","v":0},null,null,null,22,null,{"$f":"VLOOKUP(22,WORK!A3:B72,2,FALSE)","v":{"$error":"#N/A"}},null,null,null,null,null,null,8,1,{"$f":"VLOOKUP(\"81\",WORK!F3:G72,2,FALSE)","v":{"$error":"#N/A"}},null,null,null,null,null,null,null,22,{"$f":"VLOOKUP(\"A22\",WORK!P3:Q72,2,FALSE)","v":{"$error":"#N/A"}}]
[3,null,{"$f":"入力シート!C27","v":0},null,null,null,{"$f":"入力シート!G27","v":0},null,null,null,{"$f":"入力シート!K27","v":0},null,null,null,null,{"$f":"入力シート!P27","v":0},null,null,null,null,null,null,{"$f":"入力シート!W27","v":0},null,null,null,null,null,null,null,null,{"$f":"入力シート!AF27","v":0},null,null,null,null,null,null,null,null,{"$f":"入力シート!AO27","v":0},null,{"$f":"入力シート!AQ27","v":0},null,null,{"$f":"入力シート!AT27","v":0},null,{"$f":"入力シート!AV27","v":0},null,{"$f":"入力シート!AX27","v":0},null,{"$f":"入力シート!AZ27","v":0},null,{"$f":"入力シート!BB27","v":0},null,{"$f":"入力シート!BD27","v":"A"},null,{"$f":"入力シート!BF27","v":0},null,null,null,23,null,{"$f":"VLOOKUP(23,WORK!A3:B72,2,FALSE)","v":{"$error":"#N/A"}},null,null,null,null,null,null,null,2,{"$f":"VLOOKUP(\"82\",WORK!F3:G72,2,FALSE)","v":{"$error":"#N/A"}},null,null,null,null,null,null,null,23,{"$f":"VLOOKUP(\"A23\",WORK!P3:Q72,2,FALSE)","v":{"$error":"#N/A"}}]
[4,null,{"$f":"入力シート!C28","v":0},null,null,null,{"$f":"入力シート!G28","v":0},null,null,null,{"$f":"入力シート!K28","v":0},null,null,null,null,{"$f":"入力シート!P28","v":0},null,null,null,null,null,null,{"$f":"入力シート!W28","v":0},null,null,null,null,null,null,null,null,{"$f":"入力シート!AF28","v":0},null,null,null,null,null,null,null,null,{"$f":"入力シート!AO28","v":0},null,{"$f":"入力シート!AQ28","v":0},null,null,{"$f":"入力シート!AT28","v":0},null,{"$f":"入力シート!AV28","v":0},null,{"$f":"入力シート!AX28","v":0},null,{"$f":"入力シート!AZ28","v":0},null,{"$f":"入力シート!BB28","v":0},null,{"$f":"入力シート!BD28","v":"A"},null,{"$f":"入力シート!BF28","v":0},null,null,null,24,null,{"$f":"VLOOKUP(24,WORK!A3:B72,2,FALSE)","v":{"$error":"#N/A"}},null,null,null,null,null,null,null,"R",{"$f":"VLOOKUP(\"8R\",WORK!F3:G72,2,FALSE)","v":{"$error":"#N/A"}},null,null,null,null,null,null,null,24,{"$f":"VLOOKUP(\"A24\",WORK!P3:Q72,2,FALSE)","v":{"$error":"#N/A"}}]
[5,null,{"$f":"入力シート!C29","v":0},null,null,null,{"$f":"入力シート!G29","v":0},null,null,null,{"$f":"入力シート!K29","v":0},null,null,null,null,{"$f":"入力シート!P29","v":0},null,null,null,null,null,null,{"$f":"入力シート!W29","v":0},null,null,null,null,null,null,null,null,{"$f":"入力シート!AF29","v":0},null,null,null,null,null,null,null,null,{"$f":"入力シート!AO29","v":0},null,{"$f":"入力シート!AQ29","v":0},null,null,{"$f":"入力シート!AT29","v":0},null,{"$f":"入力シート!AV29","v":0},null,{"$f":"入力シート!AX29","v":0},null,{"$f":"入力シート!AZ29","v":0},null,{"$f":"入力シート!BB29","v":0},null,{"$f":"入力シート!BD29","v":"A"},null,{"$f":"入力シート!BF29","v":0},null,null,null,25,null,{"$f":"VLOOKUP(25,WORK!A3:B72,2,FALSE)","v":{"$error":"#N/A"}},null,null,null,null,null,null,9,1,{"$f":"VLOOKUP(\"91\",WORK!F3:G72,2,FALSE)","v":{"$error":"#N/A"}},null,null,null,null,null,null,null,25,{"$f":"VLOOKUP(\"A25\",WORK!P3:Q72,2,FALSE)","v":{"$error":"#N/A"}}]
[6,null,{"$f":"入力シート!C30","v":0},null,null,null,{"$f":"入力シート!G30","v":0},null,null,null,{"$f":"入力シート!K30","v":0},null,null,null,null,{"$f":"入力シート!P30","v":0},null,null,null,null,null,null,{"$f":"入力シート!W30","v":0},null,null,null,null,null,null,null,null,{"$f":"入力シート!AF30","v":0},null,null,null,null,null,null,null,null,{"$f":"入力シート!AO30","v":0},null,{"$f":"入力シート!AQ30","v":0},null,null,{"$f":"入力シート!AT30","v":0},null,{"$f":"入力シート!AV30","v":0},null,{"$f":"入力シート!AX30","v":0},null,{"$f":"入力シート!AZ30","v":0},null,{"$f":"入力シート!BB30","v":0},null,{"$f":"入力シート!BD30","v":"A"},null,{"$f":"入力シート!BF30","v":0},null,null,null,26,null,{"$f":"VLOOKUP(26,WORK!A3:B72,2,FALSE)","v":{"$error":"#N/A"}},null,null,null,null,null,null,null,2,{"$f":"VLOOKUP(\"92\",WORK!F3:G72,2,FALSE)","v":{"$error":"#N/A"}},null,null,null,null,null,null,null,26,{"$f":"VLOOKUP(\"A26\",WORK!P3:Q72,2,FALSE)","v":{"$error":"#N/A"}}]
[7,null,{"$f":"入力シート!C31","v":0},null,null,null,{"$f":"入力シート!G31","v":0},null,null,null,{"$f":"入力シート!K31","v":0},null,null,null,null,{"$f":"入力シート!P31","v":0},null,null,null,null,null,null,{"$f":"入力シート!W31","v":0},null,null,null,null,null,null,null,null,{"$f":"入力シート!AF31","v":0},null,null,null,null,null,null,null,null,{"$f":"入力シート!AO31","v":0},null,{"$f":"入力シート!AQ31","v":0},null,null,{"$f":"入力シート!AT31","v":0},null,{"$f":"入力シート!AV31","v":0},null,{"$f":"入力シート!AX31","v":0},null,{"$f":"入力シート!AZ31","v":0},null,{"$f":"入力シート!BB31","v":0},null,{"$f":"入力シート!BD31","v":"A"},null,{"$f":"入力シート!BF31","v":0},null,null,null,27,null,{"$f":"VLOOKUP(27,WORK!A3:B72,2,FALSE)","v":{"$error":"#N/A"}},null,null,null,null,null,null,null,"R",{"$f":"VLOOKUP(\"9R\",WORK!F3:G72,2,FALSE)","v":{"$error":"#N/A"}},null,null,null,null,null,null,null,27,{"$f":"VLOOKUP(\"A27\",WORK!P3:Q72,2,FALSE)","v":{"$error":"#N/A"}}]
[8,null,{"$f":"入力シート!C32","v":0},null,null,null,{"$f":"入力シート!G32","v":0},null,null,null,{"$f":"入力シート!K32","v":0},null,null,null,null,{"$f":"入力シート!P32","v":0},null,null,null,null,null,null,{"$f":"入力シート!W32","v":0},null,null,null,null,null,null,null,null,{"$f":"入力シート!AF32","v":0},null,null,null,null,null,null,null,null,{"$f":"入力シート!AO32","v":0},null,{"$f":"入力シート!AQ32","v":0},null,null,{"$f":"入力シート!AT32","v":0},null,{"$f":"入力シート!AV32","v":0},null,{"$f":"入力シート!AX32","v":0},null,{"$f":"入力シート!AZ32","v":0},null,{"$f":"入力シート!BB32","v":0},null,{"$f":"入力シート!BD32","v":"A"},null,{"$f":"入力シート!BF32","v":0},null,null,null,28,null,{"$f":"VLOOKUP(28,WORK!A3:B72,2,FALSE)","v":{"$error":"#N/A"}},null,null,null,null,null,null,10,1,{"$f":"VLOOKUP(\"101\",WORK!F3:G72,2,FALSE)","v":{"$error":"#N/A"}},null,null,null,null,null,null,null,28,{"$f":"VLOOKUP(\"A28\",WORK!P3:Q72,2,FALSE)","v":{"$error":"#N/A"}}]
[9,null,{"$f":"入力シート!C33","v":0},null,null,null,{"$f":"入力シート!G33","v":0},null,null,null,{"$f":"入力シート!K33","v":0},null,null,null,null,{"$f":"入力シート!P33","v":0},null,null,null,null,null,null,{"$f":"入力シート!W33","v":0},null,null,null,null,null,null,null,null,{"$f":"入力シート!AF33","v":0},null,null,null,null,null,null,null,null,{"$f":"入力シート!AO33","v":0},null,{"$f":"入力シート!AQ33","v":0},null,null,{"$f":"入力シート!AT33","v":0},null,{"$f":"入力シート!AV33","v":0},null,{"$f":"入力シート!AX33","v":0},null,{"$f":"入力シート!AZ33","v":0},null,{"$f":"入力シート!BB33","v":0},null,{"$f":"入力シート!BD33","v":"A"},null,{"$f":"入力シート!BF33","v":0},null,null,null,29,null,{"$f":"VLOOKUP(29,WORK!A3:B72,2,FALSE)","v":{"$error":"#N/A"}},null,null,null,null,null,null,null,2,{"$f":"VLOOKUP(\"102\",WORK!F3:G72,2,FALSE)","v":{"$error":"#N/A"}},null,null,null,null,null,null,null,29,{"$f":"VLOOKUP(\"A29\",WORK!P3:Q72,2,FALSE)","v":{"$error":"#N/A"}}]
[10,null,{"$f":"入力シート!C34","v":0},null,null,null,{"$f":"入力シート!G34","v":0},null,null,null,{"$f":"入力シート!K34","v":0},null,null,null,null,{"$f":"入力シート!P34","v":0},null,null,null,null,null,null,{"$f":"入力シート!W34","v":0},null,null,null,null,null,null,null,null,{"$f":"入力シート!AF34","v":0},null,null,null,null,null,null,null,null,{"$f":"入力シート!AO34","v":0},null,{"$f":"入力シート!AQ34","v":0},null,null,{"$f":"入力シート!AT34","v":0},null,{"$f":"入力シート!AV34","v":0},null,{"$f":"入力シート!AX34","v":0},null,{"$f":"入力シート!AZ34","v":0},null,{"$f":"入力シート!BB34","v":0},null,{"$f":"入力シート!BD34","v":"A"},null,{"$f":"入力シート!BF34","v":0},null,null,null,30,null,{"$f":"VLOOKUP(30,WORK!A3:B72,2,FALSE)","v":{"$error":"#N/A"}},null,null,null,null,null,null,null,"R",{"$f":"VLOOKUP(\"10R\",WORK!F3:G72,2,FALSE)","v":{"$error":"#N/A"}},null,null,null,null,null,null,null,30,{"$f":"VLOOKUP(\"A30\",WORK!P3:Q72,2,FALSE)","v":{"$error":"#N/A"}}]
[11,null,{"$f":"入力シート!C35","v":0},null,null,null,{"$f":"入力シート!G35","v":0},null,null,null,{"$f":"入力シート!K35","v":0},null,null,null,null,{"$f":"入力シート!P35","v":0},null,null,null,null,null,null,{"$f":"入力シート!W35","v":0},null,null,null,null,null,null,null,null,{"$f":"入力シート!AF35","v":0},null,null,null,null,null,null,null,null,{"$f":"入力シート!AO35","v":0},null,{"$f":"入力シート!AQ35","v":0},null,null,{"$f":"入力シート!AT35","v":0},null,{"$f":"入力シート!AV35","v":0},null,{"$f":"入力シート!AX35","v":0},null,{"$f":"入力シート!AZ35","v":0},null,{"$f":"入力シート!BB35","v":0},null,{"$f":"入力シート!BD35","v":"A"},null,{"$f":"入力シート!BF35","v":0}]
[12,null,{"$f":"入力シート!C36","v":0},null,null,null,{"$f":"入力シート!G36","v":0},null,null,null,{"$f":"入力シート!K36","v":0},null,null,null,null,{"$f":"入力シート!P36","v":0},null,null,null,null,null,null,{"$f":"入力シート!W36","v":0},null,null,null,null,null,null,null,null,{"$f":"入力シート!AF36","v":0},null,null,null,null,null,null,null,null,{"$f":"入力シート!AO36","v":0},null,{"$f":"入力シート!AQ36","v":0},null,null,{"$f":"入力シート!AT36","v":0},null,{"$f":"入力シート!AV36","v":0},null,{"$f":"入力シート!AX36","v":0},null,{"$f":"入力シート!AZ36","v":0},null,{"$f":"入力シート!BB36","v":0},null,{"$f":"入力シート!BD36","v":"A"},null,{"$f":"入力シート!BF36","v":0}]
[13,null,{"$f":"入力シート!C37","v":0},null,null,null,{"$f":"入力シート!G37","v":0},null,null,null,{"$f":"入力シート!K37","v":0},null,null,null,null,{"$f":"入力シート!P37","v":0},null,null,null,null,null,null,{"$f":"入力シート!W37","v":0},null,null,null,null,null,null,null,null,{"$f":"入力シート!AF37","v":0},null,null,null,null,null,null,null,null,{"$f":"入力シート!AO37","v":0},null,{"$f":"入力シート!AQ37","v":0},null,null,{"$f":"入力シート!AT37","v":0},null,{"$f":"入力シート!AV37","v":0},null,{"$f":"入力シート!AX37","v":0},null,{"$f":"入力シート!AZ37","v":0},null,{"$f":"入力シート!BB37","v":0},null,{"$f":"入力シート!BD37","v":"A"},null,{"$f":"入力シート!BF37","v":0}]
[14,null,{"$f":"入力シート!C38","v":0},null,null,null,{"$f":"入力シート!G38","v":0},null,null,null,{"$f":"入力シート!K38","v":0},null,null,null,null,{"$f":"入力シート!P38","v":0},null,null,null,null,null,null,{"$f":"入力シート!W38","v":0},null,null,null,null,null,null,null,null,{"$f":"入力シート!AF38","v":0},null,null,null,null,null,null,null,null,{"$f":"入力シート!AO38","v":0},null,{"$f":"入力シート!AQ38","v":0},null,null,{"$f":"入力シート!AT38","v":0},null,{"$f":"入力シート!AV38","v":0},null,{"$f":"入力シート!AX38","v":0},null,{"$f":"入力シート!AZ38","v":0},null,{"$f":"入力シート!BB38","v":0},null,{"$f":"入力シート!BD38","v":"A"},null,{"$f":"入力シート!BF38","v":0}]
[15,null,{"$f":"入力シート!C39","v":0},null,null,null,{"$f":"入力シート!G39","v":0},null,null,null,{"$f":"入力シート!K39","v":0},null,null,null,null,{"$f":"入力シート!P39","v":0},null,null,null,null,null,null,{"$f":"入力シート!W39","v":0},null,null,null,null,null,null,null,null,{"$f":"入力シート!AF39","v":0},null,null,null,null,null,null,null,null,{"$f":"入力シート!AO39","v":0},null,{"$f":"入力シート!AQ39","v":0},null,null,{"$f":"入力シート!AT39","v":0},null,{"$f":"入力シート!AV39","v":0},null,{"$f":"入力シート!AX39","v":0},null,{"$f":"入力シート!AZ39","v":0},null,{"$f":"入力シート!BB39","v":0},null,{"$f":"入力シート!BD39","v":"A"},null,{"$f":"入力シート!BF39","v":0}]
[16,null,{"$f":"入力シート!C40","v":0},null,null,null,{"$f":"入力シート!G40","v":0},null,null,null,{"$f":"入力シート!K40","v":0},null,null,null,null,{"$f":"入力シート!P40","v":0},null,null,null,null,null,null,{"$f":"入力シート!W40","v":0},null,null,null,null,null,null,null,null,{"$f":"入力シート!AF40","v":0},null,null,null,null,null,null,null,null,{"$f":"入力シート!AO40","v":0},null,{"$f":"入力シート!AQ40","v":0},null,null,{"$f":"入力シート!AT40","v":0},null,{"$f":"入力シート!AV40","v":0},null,{"$f":"入力シート!AX40","v":0},null,{"$f":"入力シート!AZ40","v":0},null,{"$f":"入力シート!BB40","v":0},null,{"$f":"入力シート!BD40","v":"A"},null,{"$f":"入力シート!BF40","v":0}]
[17,null,{"$f":"入力シート!C41","v":0},null,null,null,{"$f":"入力シート!G41","v":0},null,null,null,{"$f":"入力シート!K41","v":0},null,null,null,null,{"$f":"入力シート!P41","v":0},null,null,null,null,null,null,{"$f":"入力シート!W41","v":0},null,null,null,null,null,null,null,null,{"$f":"入力シート!AF41","v":0},null,null,null,null,null,null,null,null,{"$f":"入力シート!AO41","v":0},null,{"$f":"入力シート!AQ41","v":0},null,null,{"$f":"入力シート!AT41","v":0},null,{"$f":"入力シート!AV41","v":0},null,{"$f":"入力シート!AX41","v":0},null,{"$f":"入力シート!AZ41","v":0},null,{"$f":"入力シート!BB41","v":0},null,{"$f":"入力シート!BD41","v":"A"},null,{"$f":"入力シート!BF41","v":0}]
[18,null,{"$f":"入力シート!C42","v":0},null,null,null,{"$f":"入力シート!G42","v":0},null,null,null,{"$f":"入力シート!K42","v":0},null,null,null,null,{"$f":"入力シート!P42","v":0},null,null,null,null,null,null,{"$f":"入力シート!W42","v":0},null,null,null,null,null,null,null,null,{"$f":"入力シート!AF42","v":0},null,null,null,null,null,null,null,null,{"$f":"入力シート!AO42","v":0},null,{"$f":"入力シート!AQ42","v":0},null,null,{"$f":"入力シート!AT42","v":0},null,{"$f":"入力シート!AV42","v":0},null,{"$f":"入力シート!AX42","v":0},null,{"$f":"入力シート!AZ42","v":0},null,{"$f":"入力シート!BB42","v":0},null,{"$f":"入力シート!BD42","v":"A"},null,{"$f":"入力シート!BF42","v":0}]
[19,null,{"$f":"入力シート!C43","v":0},null,null,null,{"$f":"入力シート!G43","v":0},null,null,null,{"$f":"入力シート!K43","v":0},null,null,null,null,{"$f":"入力シート!P43","v":0},null,null,null,null,null,null,{"$f":"入力シート!W43","v":0},null,null,null,null,null,null,null,null,{"$f":"入力シート!AF43","v":0},null,null,null,null,null,null,null,null,{"$f":"入力シート!AO43","v":0},null,{"$f":"入力シート!AQ43","v":0},null,null,{"$f":"入力シート!AT43","v":0},null,{"$f":"入力シート!AV43","v":0},null,{"$f":"入力シート!AX43","v":0},null,{"$f":"入力シート!AZ43","v":0},null,{"$f":"入力シート!BB43","v":0},null,{"$f":"入力シート!BD43","v":"A"},null,{"$f":"入力シート!BF43","v":0}]
[20,null,{"$f":"入力シート!C44","v":0},null,null,null,{"$f":"入力シート!G44","v":0},null,null,null,{"$f":"入力シート!K44","v":0},null,null,null,null,{"$f":"入力シート!P44","v":0},null,null,null,null,null,null,{"$f":"入力シート!W44","v":0},null,null,null,null,null,null,null,null,{"$f":"入力シート!AF44","v":0},null,null,null,null,null,null,null,null,{"$f":"入力シート!AO44","v":0},null,{"$f":"入力シート!AQ44","v":0},null,null,{"$f":"入力シート!AT44","v":0},null,{"$f":"入力シート!AV44","v":0},null,{"$f":"入力シート!AX44","v":0},null,{"$f":"入力シート!AZ44","v":0},null,{"$f":"入力シート!BB44","v":0},null,{"$f":"入力シート!BD44","v":"A"},null,{"$f":"入力シート!BF44","v":0}]
[21,null,{"$f":"入力シート!C45","v":0},null,null,null,{"$f":"入力シート!G45","v":0},null,null,null,{"$f":"入力シート!K45","v":0},null,null,null,null,{"$f":"入力シート!P45","v":0},null,null,null,null,null,null,{"$f":"入力シート!W45","v":0},null,null,null,null,null,null,null,null,{"$f":"入力シート!AF45","v":0},null,null,null,null,null,null,null,null,{"$f":"入力シート!AO45","v":0},null,{"$f":"入力シート!AQ45","v":0},null,null,{"$f":"入力シート!AT45","v":0},null,{"$f":"入力シート!AV45","v":0},null,{"$f":"入力シート!AX45","v":0},null,{"$f":"入力シート!AZ45","v":0},null,{"$f":"入力シート!BB45","v":0},null,{"$f":"入力シート!BD45","v":"A"},null,{"$f":"入力シート!BF45","v":0}]
[22,null,{"$f":"入力シート!C46","v":0},null,null,null,{"$f":"入力シート!G46","v":0},null,null,null,{"$f":"入力シート!K46","v":0},null,null,null,null,{"$f":"入力シート!P46","v":0},null,null,null,null,null,null,{"$f":"入力シート!W46","v":0},null,null,null,null,null,null,null,null,{"$f":"入力シート!AF46","v":0},null,null,null,null,null,null,null,null,{"$f":"入力シート!AO46","v":0},null,{"$f":"入力シート!AQ46","v":0},null,null,{"$f":"入力シート!AT46","v":0},null,{"$f":"入力シート!AV46","v":0},null,{"$f":"入力シート!AX46","v":0},null,{"$f":"入力シート!AZ46","v":0},null,{"$f":"入力シート!BB46","v":0},null,{"$f":"入力シート!BD46","v":"A"},null,{"$f":"入力シート!BF46","v":0}]
[23,null,{"$f":"入力シート!C47","v":0},null,null,null,{"$f":"入力シート!G47","v":0},null,null,null,{"$f":"入力シート!K47","v":0},null,null,null,null,{"$f":"入力シート!P47","v":0},null,null,null,null,null,null,{"$f":"入力シート!W47","v":0},null,null,null,null,null,null,null,null,{"$f":"入力シート!AF47","v":0},null,null,null,null,null,null,null,null,{"$f":"入力シート!AO47","v":0},null,{"$f":"入力シート!AQ47","v":0},null,null,{"$f":"入力シート!AT47","v":0},null,{"$f":"入力シート!AV47","v":0},null,{"$f":"入力シート!AX47","v":0},null,{"$f":"入力シート!AZ47","v":0},null,{"$f":"入力シート!BB47","v":0},null,{"$f":"入力シート!BD47","v":"A"},null,{"$f":"入力シート!BF47","v":0}]
[24,null,{"$f":"入力シート!C48","v":0},null,null,null,{"$f":"入力シート!G48","v":0},null,null,null,{"$f":"入力シート!K48","v":0},null,null,null,null,{"$f":"入力シート!P48","v":0},null,null,null,null,null,null,{"$f":"入力シート!W48","v":0},null,null,null,null,null,null,null,null,{"$f":"入力シート!AF48","v":0},null,null,null,null,null,null,null,null,{"$f":"入力シート!AO48","v":0},null,{"$f":"入力シート!AQ48","v":0},null,null,{"$f":"入力シート!AT48","v":0},null,{"$f":"入力シート!AV48","v":0},null,{"$f":"入力シート!AX48","v":0},null,{"$f":"入力シート!AZ48","v":0},null,{"$f":"入力シート!BB48","v":0},null,{"$f":"入力シート!BD48","v":"A"},null,{"$f":"入力シート!BF48","v":0}]
[25,null,{"$f":"入力シート!C49","v":0},null,null,null,{"$f":"入力シート!G49","v":0},null,null,null,{"$f":"入力シート!K49","v":0},null,null,null,null,{"$f":"入力シート!P49","v":0},null,null,null,null,null,null,{"$f":"入力シート!W49","v":0},null,null,null,null,null,null,null,null,{"$f":"入力シート!AF49","v":0},null,null,null,null,null,null,null,null,{"$f":"入力シート!AO49","v":0},null,{"$f":"入力シート!AQ49","v":0},null,null,{"$f":"入力シート!AT49","v":0},null,{"$f":"入力シート!AV49","v":0},null,{"$f":"入力シート!AX49","v":0},null,{"$f":"入力シート!AZ49","v":0},null,{"$f":"入力シート!BB49","v":0},null,{"$f":"入力シート!BD49","v":"A"},null,{"$f":"入力シート!BF49","v":0}]
[26,null,{"$f":"入力シート!C50","v":0},null,null,null,{"$f":"入力シート!G50","v":0},null,null,null,{"$f":"入力シート!K50","v":0},null,null,null,null,{"$f":"入力シート!P50","v":0},null,null,null,null,null,null,{"$f":"入力シート!W50","v":0},null,null,null,null,null,null,null,null,{"$f":"入力シート!AF50","v":0},null,null,null,null,null,null,null,null,{"$f":"入力シート!AO50","v":0},null,{"$f":"入力シート!AQ50","v":0},null,null,{"$f":"入力シート!AT50","v":0},null,{"$f":"入力シート!AV50","v":0},null,{"$f":"入力シート!AX50","v":0},null,{"$f":"入力シート!AZ50","v":0},null,{"$f":"入力シート!BB50","v":0},null,{"$f":"入力シート!BD50","v":"A"},null,{"$f":"入力シート!BF50","v":0}]
[27,null,{"$f":"入力シート!C51","v":0},null,null,null,{"$f":"入力シート!G51","v":0},null,null,null,{"$f":"入力シート!K51","v":0},null,null,null,null,{"$f":"入力シート!P51","v":0},null,null,null,null,null,null,{"$f":"入力シート!W51","v":0},null,null,null,null,null,null,null,null,{"$f":"入力シート!AF51","v":0},null,null,null,null,null,null,null,null,{"$f":"入力シート!AO51","v":0},null,{"$f":"入力シート!AQ51","v":0},null,null,{"$f":"入力シート!AT51","v":0},null,{"$f":"入力シート!AV51","v":0},null,{"$f":"入力シート!AX51","v":0},null,{"$f":"入力シート!AZ51","v":0},null,{"$f":"入力シート!BB51","v":0},null,{"$f":"入力シート!BD51","v":"A"},null,{"$f":"入力シート!BF51","v":0}]
[28,null,{"$f":"入力シート!C52","v":0},null,null,null,{"$f":"入力シート!G52","v":0},null,null,null,{"$f":"入力シート!K52","v":0},null,null,null,null,{"$f":"入力シート!P52","v":0},null,null,null,null,null,null,{"$f":"入力シート!W52","v":0},null,null,null,null,null,null,null,null,{"$f":"入力シート!AF52","v":0},null,null,null,null,null,null,null,null,{"$f":"入力シート!AO52","v":0},null,{"$f":"入力シート!AQ52","v":0},null,null,{"$f":"入力シート!AT52","v":0},null,{"$f":"入力シート!AV52","v":0},null,{"$f":"入力シート!AX52","v":0},null,{"$f":"入力シート!AZ52","v":0},null,{"$f":"入力シート!BB52","v":0},null,{"$f":"入力シート!BD52","v":"A"},null,{"$f":"入力シート!BF52","v":0}]
[29,null,{"$f":"入力シート!C53","v":0},null,null,null,{"$f":"入力シート!G53","v":0},null,null,null,{"$f":"入力シート!K53","v":0},null,null,null,null,{"$f":"入力シート!P53","v":0},null,null,null,null,null,null,{"$f":"入力シート!W53","v":0},null,null,null,null,null,null,null,null,{"$f":"入力シート!AF53","v":0},null,null,null,null,null,null,null,null,{"$f":"入力シート!AO53","v":0},null,{"$f":"入力シート!AQ53","v":0},null,null,{"$f":"入力シート!AT53","v":0},null,{"$f":"入力シート!AV53","v":0},null,{"$f":"入力シート!AX53","v":0},null,{"$f":"入力シート!AZ53","v":0},null,{"$f":"入力シート!BB53","v":0},null,{"$f":"入力シート!BD53","v":"A"},null,{"$f":"入力シート!BF53","v":0}]
[30,null,{"$f":"入力シート!C54","v":0},null,null,null,{"$f":"入力シート!G54","v":0},null,null,null,{"$f":"入力シート!K54","v":0},null,null,null,null,{"$f":"入力シート!P54","v":0},null,null,null,null,null,null,{"$f":"入力シート!W54","v":0},null,null,null,null,null,null,null,null,{"$f":"入力シート!AF54","v":0},null,null,null,null,null,null,null,null,{"$f":"入力シート!AO54","v":0},null,{"$f":"入力シート!AQ54","v":0},null,null,{"$f":"入力シート!AT54","v":0},null,{"$f":"入力シート!AV54","v":0},null,{"$f":"入力シート!AX54","v":0},null,{"$f":"入力シート!AZ54","v":0},null,{"$f":"入力シート!BB54","v":0},null,{"$f":"入力シート!BD54","v":"A"},null,{"$f":"入力シート!BF54","v":0}]
[31,null,{"$f":"入力シート!C55","v":0},null,null,null,{"$f":"入力シート!G55","v":0},null,null,null,{"$f":"入力シート!K55","v":0},null,null,null,null,{"$f":"入力シート!P55","v":0},null,null,null,null,null,null,{"$f":"入力シート!W55","v":0},null,null,null,null,null,null,null,null,{"$f":"入力シート!AF55","v":0},null,null,null,null,null,null,null,null,{"$f":"入力シート!AO55","v":0},null,{"$f":"入力シート!AQ55","v":0},null,null,{"$f":"入力シート!AT55","v":0},null,{"$f":"入力シート!AV55","v":0},null,{"$f":"入力シート!AX55","v":0},null,{"$f":"入力シート!AZ55","v":0},null,{"$f":"入力シート!BB55","v":0},null,{"$f":"入力シート!BD55","v":"A"},null,{"$f":"入力シート!BF55","v":0}]
[32,null,{"$f":"入力シート!C56","v":0},null,null,null,{"$f":"入力シート!G56","v":0},null,null,null,{"$f":"入力シート!K56","v":0},null,null,null,null,{"$f":"入力シート!P56","v":0},null,null,null,null,null,null,{"$f":"入力シート!W56","v":0},null,null,null,null,null,null,null,null,{"$f":"入力シート!AF56","v":0},null,null,null,null,null,null,null,null,{"$f":"入力シート!AO56","v":0},null,{"$f":"入力シート!AQ56","v":0},null,null,{"$f":"入力シート!AT56","v":0},null,{"$f":"入力シート!AV56","v":0},null,{"$f":"入力シート!AX56","v":0},null,{"$f":"入力シート!AZ56","v":0},null,{"$f":"入力シート!BB56","v":0},null,{"$f":"入力シート!BD56","v":"A"},null,{"$f":"入力シート!BF56","v":0}]
[33,null,{"$f":"入力シート!C57","v":0},null,null,null,{"$f":"入力シート!G57","v":0},null,null,null,{"$f":"入力シート!K57","v":0},null,null,null,null,{"$f":"入力シート!P57","v":0},null,null,null,null,null,null,{"$f":"入力シート!W57","v":0},null,null,null,null,null,null,null,null,{"$f":"入力シート!AF57","v":0},null,null,null,null,null,null,null,null,{"$f":"入力シート!AO57","v":0},null,{"$f":"入力シート!AQ57","v":0},null,null,{"$f":"入力シート!AT57","v":0},null,{"$f":"入力シート!AV57","v":0},null,{"$f":"入力シート!AX57","v":0},null,{"$f":"入力シート!AZ57","v":0},null,{"$f":"入力シート!BB57","v":0},null,{"$f":"入力シート!BD57","v":"A"},null,{"$f":"入力シート!BF57","v":0}]
[34,null,{"$f":"入力シート!C58","v":0},null,null,null,{"$f":"入力シート!G58","v":0},null,null,null,{"$f":"入力シート!K58","v":0},null,null,null,null,{"$f":"入力シート!P58","v":0},null,null,null,null,null,null,{"$f":"入力シート!W58","v":0},null,null,null,null,null,null,null,null,{"$f":"入力シート!AF58","v":0},null,null,null,null,null,null,null,null,{"$f":"入力シート!AO58","v":0},null,{"$f":"入力シート!AQ58","v":0},null,null,{"$f":"入力シート!AT58","v":0},null,{"$f":"入力シート!AV58","v":0},null,{"$f":"入力シート!AX58","v":0},null,{"$f":"入力シート!AZ58","v":0},null,{"$f":"入力シート!BB58","v":0},null,{"$f":"入力シート!BD58","v":"A"},null,{"$f":"入力シート!BF58","v":0}]
[35,null,{"$f":"入力シート!C59","v":0},null,null,null,{"$f":"入力シート!G59","v":0},null,null,null,{"$f":"入力シート!K59","v":0},null,null,null,null,{"$f":"入力シート!P59","v":0},null,null,null,null,null,null,{"$f":"入力シート!W59","v":0},null,null,null,null,null,null,null,null,{"$f":"入力シート!AF59","v":0},null,null,null,null,null,null,null,null,{"$f":"入力シート!AO59","v":0},null,{"$f":"入力シート!AQ59","v":0},null,null,{"$f":"入力シート!AT59","v":0},null,{"$f":"入力シート!AV59","v":0},null,{"$f":"入力シート!AX59","v":0},null,{"$f":"入力シート!AZ59","v":0},null,{"$f":"入力シート!BB59","v":0},null,{"$f":"入力シート!BD59","v":"A"},null,{"$f":"入力シート!BF59","v":0}]
[36,null,{"$f":"入力シート!C60","v":0},null,null,null,{"$f":"入力シート!G60","v":0},null,null,null,{"$f":"入力シート!K60","v":0},null,null,null,null,{"$f":"入力シート!P60","v":0},null,null,null,null,null,null,{"$f":"入力シート!W60","v":0},null,null,null,null,null,null,null,null,{"$f":"入力シート!AF60","v":0},null,null,null,null,null,null,null,null,{"$f":"入力シート!AO60","v":0},null,{"$f":"入力シート!AQ60","v":0},null,null,{"$f":"入力シート!AT60","v":0},null,{"$f":"入力シート!AV60","v":0},null,{"$f":"入力シート!AX60","v":0},null,{"$f":"入力シート!AZ60","v":0},null,{"$f":"入力シート!BB60","v":0},null,{"$f":"入力シート!BD60","v":"A"},null,{"$f":"入力シート!BF60","v":0}]
[37,null,{"$f":"入力シート!C61","v":0},null,null,null,{"$f":"入力シート!G61","v":0},null,null,null,{"$f":"入力シート!K61","v":0},null,null,null,null,{"$f":"入力シート!P61","v":0},null,null,null,null,null,null,{"$f":"入力シート!W61","v":0},null,null,null,null,null,null,null,null,{"$f":"入力シート!AF61","v":0},null,null,null,null,null,null,null,null,{"$f":"入力シート!AO61","v":0},null,{"$f":"入力シート!AQ61","v":0},null,null,{"$f":"入力シート!AT61","v":0},null,{"$f":"入力シート!AV61","v":0},null,{"$f":"入力シート!AX61","v":0},null,{"$f":"入力シート!AZ61","v":0},null,{"$f":"入力シート!BB61","v":0},null,{"$f":"入力シート!BD61","v":"A"},null,{"$f":"入力シート!BF61","v":0}]
[38,null,{"$f":"入力シート!C62","v":0},null,null,null,{"$f":"入力シート!G62","v":0},null,null,null,{"$f":"入力シート!K62","v":0},null,null,null,null,{"$f":"入力シート!P62","v":0},null,null,null,null,null,null,{"$f":"入力シート!W62","v":0},null,null,null,null,null,null,null,null,{"$f":"入力シート!AF62","v":0},null,null,null,null,null,null,null,null,{"$f":"入力シート!AO62","v":0},null,{"$f":"入力シート!AQ62","v":0},null,null,{"$f":"入力シート!AT62","v":0},null,{"$f":"入力シート!AV62","v":0},null,{"$f":"入力シート!AX62","v":0},null,{"$f":"入力シート!AZ62","v":0},null,{"$f":"入力シート!BB62","v":0},null,{"$f":"入力シート!BD62","v":"A"},null,{"$f":"入力シート!BF62","v":0}]
[39,null,{"$f":"入力シート!C63","v":0},null,null,null,{"$f":"入力シート!G63","v":0},null,null,null,{"$f":"入力シート!K63","v":0},null,null,null,null,{"$f":"入力シート!P63","v":0},null,null,null,null,null,null,{"$f":"入力シート!W63","v":0},null,null,null,null,null,null,null,null,{"$f":"入力シート!AF63","v":0},null,null,null,null,null,null,null,null,{"$f":"入力シート!AO63","v":0},null,{"$f":"入力シート!AQ63","v":0},null,null,{"$f":"入力シート!AT63","v":0},null,{"$f":"入力シート!AV63","v":0},null,{"$f":"入力シート!AX63","v":0},null,{"$f":"入力シート!AZ63","v":0},null,{"$f":"入力シート!BB63","v":0},null,{"$f":"入力シート!BD63","v":"A"},null,{"$f":"入力シート!BF63","v":0}]
[40,null,{"$f":"入力シート!C64","v":0},null,null,null,{"$f":"入力シート!G64","v":0},null,null,null,{"$f":"入力シート!K64","v":0},null,null,null,null,{"$f":"入力シート!P64","v":0},null,null,null,null,null,null,{"$f":"入力シート!W64","v":0},null,null,null,null,null,null,null,null,{"$f":"入力シート!AF64","v":0},null,null,null,null,null,null,null,null,{"$f":"入力シート!AO64","v":0},null,{"$f":"入力シート!AQ64","v":0},null,null,{"$f":"入力シート!AT64","v":0},null,{"$f":"入力シート!AV64","v":0},null,{"$f":"入力シート!AX64","v":0},null,{"$f":"入力シート!AZ64","v":0},null,{"$f":"入力シート!BB64","v":0},null,{"$f":"入力シート!BD64","v":"A"},null,{"$f":"入力シート!BF64","v":0}]
[41,null,{"$f":"入力シート!C65","v":0},null,null,null,{"$f":"入力シート!G65","v":0},null,null,null,{"$f":"入力シート!K65","v":0},null,null,null,null,{"$f":"入力シート!P65","v":0},null,null,null,null,null,null,{"$f":"入力シート!W65","v":0},null,null,null,null,null,null,null,null,{"$f":"入力シート!AF65","v":0},null,null,null,null,null,null,null,null,{"$f":"入力シート!AO65","v":0},null,{"$f":"入力シート!AQ65","v":0},null,null,{"$f":"入力シート!AT65","v":0},null,{"$f":"入力シート!AV65","v":0},null,{"$f":"入力シート!AX65","v":0},null,{"$f":"入力シート!AZ65","v":0},null,{"$f":"入力シート!BB65","v":0},null,{"$f":"入力シート!BD65","v":"A"},null,{"$f":"入力シート!BF65","v":0}]
[42,null,{"$f":"入力シート!C66","v":0},null,null,null,{"$f":"入力シート!G66","v":0},null,null,null,{"$f":"入力シート!K66","v":0},null,null,null,null,{"$f":"入力シート!P66","v":0},null,null,null,null,null,null,{"$f":"入力シート!W66","v":0},null,null,null,null,null,null,null,null,{"$f":"入力シート!AF66","v":0},null,null,null,null,null,null,null,null,{"$f":"入力シート!AO66","v":0},null,{"$f":"入力シート!AQ66","v":0},null,null,{"$f":"入力シート!AT66","v":0},null,{"$f":"入力シート!AV66","v":0},null,{"$f":"入力シート!AX66","v":0},null,{"$f":"入力シート!AZ66","v":0},null,{"$f":"入力シート!BB66","v":0},null,{"$f":"入力シート!BD66","v":"A"},null,{"$f":"入力シート!BF66","v":0}]
[43,null,{"$f":"入力シート!C67","v":0},null,null,null,{"$f":"入力シート!G67","v":0},null,null,null,{"$f":"入力シート!K67","v":0},null,null,null,null,{"$f":"入力シート!P67","v":0},null,null,null,null,null,null,{"$f":"入力シート!W67","v":0},null,null,null,null,null,null,null,null,{"$f":"入力シート!AF67","v":0},null,null,null,null,null,null,null,null,{"$f":"入力シート!AO67","v":0},null,{"$f":"入力シート!AQ67","v":0},null,null,{"$f":"入力シート!AT67","v":0},null,{"$f":"入力シート!AV67","v":0},null,{"$f":"入力シート!AX67","v":0},null,{"$f":"入力シート!AZ67","v":0},null,{"$f":"入力シート!BB67","v":0},null,{"$f":"入力シート!BD67","v":"A"},null,{"$f":"入力シート!BF67","v":0}]
[44,null,{"$f":"入力シート!C68","v":0},null,null,null,{"$f":"入力シート!G68","v":0},null,null,null,{"$f":"入力シート!K68","v":0},null,null,null,null,{"$f":"入力シート!P68","v":0},null,null,null,null,null,null,{"$f":"入力シート!W68","v":0},null,null,null,null,null,null,null,null,{"$f":"入力シート!AF68","v":0},null,null,null,null,null,null,null,null,{"$f":"入力シート!AO68","v":0},null,{"$f":"入力シート!AQ68","v":0},null,null,{"$f":"入力シート!AT68","v":0},null,{"$f":"入力シート!AV68","v":0},null,{"$f":"入力シート!AX68","v":0},null,{"$f":"入力シート!AZ68","v":0},null,{"$f":"入力シート!BB68","v":0},null,{"$f":"入力シート!BD68","v":"A"},null,{"$f":"入力シート!BF68","v":0}]
[45,null,{"$f":"入力シート!C69","v":0},null,null,null,{"$f":"入力シート!G69","v":0},null,null,null,{"$f":"入力シート!K69","v":0},null,null,null,null,{"$f":"入力シート!P69","v":0},null,null,null,null,null,null,{"$f":"入力シート!W69","v":0},null,null,null,null,null,null,null,null,{"$f":"入力シート!AF69","v":0},null,null,null,null,null,null,null,null,{"$f":"入力シート!AO69","v":0},null,{"$f":"入力シート!AQ69","v":0},null,null,{"$f":"入力シート!AT69","v":0},null,{"$f":"入力シート!AV69","v":0},null,{"$f":"入力シート!AX69","v":0},null,{"$f":"入力シート!AZ69","v":0},null,{"$f":"入力シート!BB69","v":0},null,{"$f":"入力シート!BD69","v":"A"},null,{"$f":"入力シート!BF69","v":0}]
[46,null,{"$f":"入力シート!C70","v":0},null,null,null,{"$f":"入力シート!G70","v":0},null,null,null,{"$f":"入力シート!K70","v":0},null,null,null,null,{"$f":"入力シート!P70","v":0},null,null,null,null,null,null,{"$f":"入力シート!W70","v":0},null,null,null,null,null,null,null,null,{"$f":"入力シート!AF70","v":0},null,null,null,null,null,null,null,null,{"$f":"入力シート!AO70","v":0},null,{"$f":"入力シート!AQ70","v":0},null,null,{"$f":"入力シート!AT70","v":0},null,{"$f":"入力シート!AV70","v":0},null,{"$f":"入力シート!AX70","v":0},null,{"$f":"入力シート!AZ70","v":0},null,{"$f":"入力シート!BB70","v":0},null,{"$f":"入力シート!BD70","v":"A"},null,{"$f":"入力シート!BF70","v":0}]
[47,null,{"$f":"入力シート!C71","v":0},null,null,null,{"$f":"入力シート!G71","v":0},null,null,null,{"$f":"入力シート!K71","v":0},null,null,null,null,{"$f":"入力シート!P71","v":0},null,null,null,null,null,null,{"$f":"入力シート!W71","v":0},null,null,null,null,null,null,null,null,{"$f":"入力シート!AF71","v":0},null,null,null,null,null,null,null,null,{"$f":"入力シート!AO71","v":0},null,{"$f":"入力シート!AQ71","v":0},null,null,{"$f":"入力シート!AT71","v":0},null,{"$f":"入力シート!AV71","v":0},null,{"$f":"入力シート!AX71","v":0},null,{"$f":"入力シート!AZ71","v":0},null,{"$f":"入力シート!BB71","v":0},null,{"$f":"入力シート!BD71","v":"A"},null,{"$f":"入力シート!BF71","v":0}]
[48,null,{"$f":"入力シート!C72","v":0},null,null,null,{"$f":"入力シート!G72","v":0},null,null,null,{"$f":"入力シート!K72","v":0},null,null,null,null,{"$f":"入力シート!P72","v":0},null,null,null,null,null,null,{"$f":"入力シート!W72","v":0},null,null,null,null,null,null,null,null,{"$f":"入力シート!AF72","v":0},null,null,null,null,null,null,null,null,{"$f":"入力シート!AO72","v":0},null,{"$f":"入力シート!AQ72","v":0},null,null,{"$f":"入力シート!AT72","v":0},null,{"$f":"入力シート!AV72","v":0},null,{"$f":"入力シート!AX72","v":0},null,{"$f":"入力シート!AZ72","v":0},null,{"$f":"入力シート!BB72","v":0},null,{"$f":"入力シート!BD72","v":"A"},null,{"$f":"入力シート!BF72","v":0}]
[49,null,{"$f":"入力シート!C73","v":0},null,null,null,{"$f":"入力シート!G73","v":0},null,null,null,{"$f":"入力シート!K73","v":0},null,null,null,null,{"$f":"入力シート!P73","v":0},null,null,null,null,null,null,{"$f":"入力シート!W73","v":0},null,null,null,null,null,null,null,null,{"$f":"入力シート!AF73","v":0},null,null,null,null,null,null,null,null,{"$f":"入力シート!AO73","v":0},null,{"$f":"入力シート!AQ73","v":0},null,null,{"$f":"入力シート!AT73","v":0},null,{"$f":"入力シート!AV73","v":0},null,{"$f":"入力シート!AX73","v":0},null,{"$f":"入力シート!AZ73","v":0},null,{"$f":"入力シート!BB73","v":0},null,{"$f":"入力シート!BD73","v":"A"},null,{"$f":"入力シート!BF73","v":0}]
[50,null,{"$f":"入力シート!C74","v":0},null,null,null,{"$f":"入力シート!G74","v":0},null,null,null,{"$f":"入力シート!K74","v":0},null,null,null,null,{"$f":"入力シート!P74","v":0},null,null,null,null,null,null,{"$f":"入力シート!W74","v":0},null,null,null,null,null,null,null,null,{"$f":"入力シート!AF74","v":0},null,null,null,null,null,null,null,null,{"$f":"入力シート!AO74","v":0},null,{"$f":"入力シート!AQ74","v":0},null,null,{"$f":"入力シート!AT74","v":0},null,{"$f":"入力シート!AV74","v":0},null,{"$f":"入力シート!AX74","v":0},null,{"$f":"入力シート!AZ74","v":0},null,{"$f":"入力シート!BB74","v":0},null,{"$f":"入力シート!BD74","v":"A"},null,{"$f":"入力シート!BF74","v":0}]
[51,null,{"$f":"入力シート!C75","v":0},null,null,null,{"$f":"入力シート!G75","v":0},null,null,null,{"$f":"入力シート!K75","v":0},null,null,null,null,{"$f":"入力シート!P75","v":0},null,null,null,null,null,null,{"$f":"入力シート!W75","v":0},null,null,null,null,null,null,null,null,{"$f":"入力シート!AF75","v":0},null,null,null,null,null,null,null,null,{"$f":"入力シート!AO75","v":0},null,{"$f":"入力シート!AQ75","v":0},null,null,{"$f":"入力シート!AT75","v":0},null,{"$f":"入力シート!AV75","v":0},null,{"$f":"入力シート!AX75","v":0},null,{"$f":"入力シート!AZ75","v":0},null,{"$f":"入力シート!BB75","v":0},null,{"$f":"入力シート!BD75","v":"A"},null,{"$f":"入力シート!BF75","v":0}]
[52,null,{"$f":"入力シート!C76","v":0},null,null,null,{"$f":"入力シート!G76","v":0},null,null,null,{"$f":"入力シート!K76","v":0},null,null,null,null,{"$f":"入力シート!P76","v":0},null,null,null,null,null,null,{"$f":"入力シート!W76","v":0},null,null,null,null,null,null,null,null,{"$f":"入力シート!AF76","v":0},null,null,null,null,null,null,null,null,{"$f":"入力シート!AO76","v":0},null,{"$f":"入力シート!AQ76","v":0},null,null,{"$f":"入力シート!AT76","v":0},null,{"$f":"入力シート!AV76","v":0},null,{"$f":"入力シート!AX76","v":0},null,{"$f":"入力シート!AZ76","v":0},null,{"$f":"入力シート!BB76","v":0},null,{"$f":"入力シート!BD76","v":"A"},null,{"$f":"入力シート!BF76","v":0}]
[53,null,{"$f":"入力シート!C77","v":0},null,null,null,{"$f":"入力シート!G77","v":0},null,null,null,{"$f":"入力シート!K77","v":0},null,null,null,null,{"$f":"入力シート!P77","v":0},null,null,null,null,null,null,{"$f":"入力シート!W77","v":0},null,null,null,null,null,null,null,null,{"$f":"入力シート!AF77","v":0},null,null,null,null,null,null,null,null,{"$f":"入力シート!AO77","v":0},null,{"$f":"入力シート!AQ77","v":0},null,null,{"$f":"入力シート!AT77","v":0},null,{"$f":"入力シート!AV77","v":0},null,{"$f":"入力シート!AX77","v":0},null,{"$f":"入力シート!AZ77","v":0},null,{"$f":"入力シート!BB77","v":0},null,{"$f":"入力シート!BD77","v":"A"},null,{"$f":"入力シート!BF77","v":0}]
[54,null,{"$f":"入力シート!C78","v":0},null,null,null,{"$f":"入力シート!G78","v":0},null,null,null,{"$f":"入力シート!K78","v":0},null,null,null,null,{"$f":"入力シート!P78","v":0},null,null,null,null,null,null,{"$f":"入力シート!W78","v":0},null,null,null,null,null,null,null,null,{"$f":"入力シート!AF78","v":0},null,null,null,null,null,null,null,null,{"$f":"入力シート!AO78","v":0},null,{"$f":"入力シート!AQ78","v":0},null,null,{"$f":"入力シート!AT78","v":0},null,{"$f":"入力シート!AV78","v":0},null,{"$f":"入力シート!AX78","v":0},null,{"$f":"入力シート!AZ78","v":0},null,{"$f":"入力シート!BB78","v":0},null,{"$f":"入力シート!BD78","v":"A"},null,{"$f":"入力シート!BF78","v":0}]
[55,null,{"$f":"入力シート!C79","v":0},null,null,null,{"$f":"入力シート!G79","v":0},null,null,null,{"$f":"入力シート!K79","v":0},null,null,null,null,{"$f":"入力シート!P79","v":0},null,null,null,null,null,null,{"$f":"入力シート!W79","v":0},null,null,null,null,null,null,null,null,{"$f":"入力シート!AF79","v":0},null,null,null,null,null,null,null,null,{"$f":"入力シート!AO79","v":0},null,{"$f":"入力シート!AQ79","v":0},null,null,{"$f":"入力シート!AT79","v":0},null,{"$f":"入力シート!AV79","v":0},null,{"$f":"入力シート!AX79","v":0},null,{"$f":"入力シート!AZ79","v":0},null,{"$f":"入力シート!BB79","v":0},null,{"$f":"入力シート!BD79","v":"A"},null,{"$f":"入力シート!BF79","v":0}]
[56,null,{"$f":"入力シート!C80","v":0},null,null,null,{"$f":"入力シート!G80","v":0},null,null,null,{"$f":"入力シート!K80","v":0},null,null,null,null,{"$f":"入力シート!P80","v":0},null,null,null,null,null,null,{"$f":"入力シート!W80","v":0},null,null,null,null,null,null,null,null,{"$f":"入力シート!AF80","v":0},null,null,null,null,null,null,null,null,{"$f":"入力シート!AO80","v":0},null,{"$f":"入力シート!AQ80","v":0},null,null,{"$f":"入力シート!AT80","v":0},null,{"$f":"入力シート!AV80","v":0},null,{"$f":"入力シート!AX80","v":0},null,{"$f":"入力シート!AZ80","v":0},null,{"$f":"入力シート!BB80","v":0},null,{"$f":"入力シート!BD80","v":"A"},null,{"$f":"入力シート!BF80","v":0}]
[57,null,{"$f":"入力シート!C81","v":0},null,null,null,{"$f":"入力シート!G81","v":0},null,null,null,{"$f":"入力シート!K81","v":0},null,null,null,null,{"$f":"入力シート!P81","v":0},null,null,null,null,null,null,{"$f":"入力シート!W81","v":0},null,null,null,null,null,null,null,null,{"$f":"入力シート!AF81","v":0},null,null,null,null,null,null,null,null,{"$f":"入力シート!AO81","v":0},null,{"$f":"入力シート!AQ81","v":0},null,null,{"$f":"入力シート!AT81","v":0},null,{"$f":"入力シート!AV81","v":0},null,{"$f":"入力シート!AX81","v":0},null,{"$f":"入力シート!AZ81","v":0},null,{"$f":"入力シート!BB81","v":0},null,{"$f":"入力シート!BD81","v":"A"},null,{"$f":"入力シート!BF81","v":0}]
[58,null,{"$f":"入力シート!C82","v":0},null,null,null,{"$f":"入力シート!G82","v":0},null,null,null,{"$f":"入力シート!K82","v":0},null,null,null,null,{"$f":"入力シート!P82","v":0},null,null,null,null,null,null,{"$f":"入力シート!W82","v":0},null,null,null,null,null,null,null,null,{"$f":"入力シート!AF82","v":0},null,null,null,null,null,null,null,null,{"$f":"入力シート!AO82","v":0},null,{"$f":"入力シート!AQ82","v":0},null,null,{"$f":"入力シート!AT82","v":0},null,{"$f":"入力シート!AV82","v":0},null,{"$f":"入力シート!AX82","v":0},null,{"$f":"入力シート!AZ82","v":0},null,{"$f":"入力シート!BB82","v":0},null,{"$f":"入力シート!BD82","v":"A"},null,{"$f":"入力シート!BF82","v":0}]
[59,null,{"$f":"入力シート!C83","v":0},null,null,null,{"$f":"入力シート!G83","v":0},null,null,null,{"$f":"入力シート!K83","v":0},null,null,null,null,{"$f":"入力シート!P83","v":0},null,null,null,null,null,null,{"$f":"入力シート!W83","v":0},null,null,null,null,null,null,null,null,{"$f":"入力シート!AF83","v":0},null,null,null,null,null,null,null,null,{"$f":"入力シート!AO83","v":0},null,{"$f":"入力シート!AQ83","v":0},null,null,{"$f":"入力シート!AT83","v":0},null,{"$f":"入力シート!AV83","v":0},null,{"$f":"入力シート!AX83","v":0},null,{"$f":"入力シート!AZ83","v":0},null,{"$f":"入力シート!BB83","v":0},null,{"$f":"入力シート!BD83","v":"A"},null,{"$f":"入力シート!BF83","v":0}]
[60,null,{"$f":"入力シート!C84","v":0},null,null,null,{"$f":"入力シート!G84","v":0},null,null,null,{"$f":"入力シート!K84","v":0},null,null,null,null,{"$f":"入力シート!P84","v":0},null,null,null,null,null,null,{"$f":"入力シート!W84","v":0},null,null,null,null,null,null,null,null,{"$f":"入力シート!AF84","v":0},null,null,null,null,null,null,null,null,{"$f":"入力シート!AO84","v":0},null,{"$f":"入力シート!AQ84","v":0},null,null,{"$f":"入力シート!AT84","v":0},null,{"$f":"入力シート!AV84","v":0},null,{"$f":"入力シート!AX84","v":0},null,{"$f":"入力シート!AZ84","v":0},null,{"$f":"入力シート!BB84","v":0},null,{"$f":"入力シート!BD84","v":"A"},null,{"$f":"入力シート!BF84","v":0}]
[61,null,{"$f":"入力シート!C85","v":0},null,null,null,{"$f":"入力シート!G85","v":0},null,null,null,{"$f":"入力シート!K85","v":0},null,null,null,null,{"$f":"入力シート!P85","v":0},null,null,null,null,null,null,{"$f":"入力シート!W85","v":0},null,null,null,null,null,null,null,null,{"$f":"入力シート!AF85","v":0},null,null,null,null,null,null,null,null,{"$f":"入力シート!AO85","v":0},null,{"$f":"入力シート!AQ85","v":0},null,null,{"$f":"入力シート!AT85","v":0},null,{"$f":"入力シート!AV85","v":0},null,{"$f":"入力シート!AX85","v":0},null,{"$f":"入力シート!AZ85","v":0},null,{"$f":"入力シート!BB85","v":0},null,{"$f":"入力シート!BD85","v":"A"},null,{"$f":"入力シート!BF85","v":0}]
[62,null,{"$f":"入力シート!C86","v":0},null,null,null,{"$f":"入力シート!G86","v":0},null,null,null,{"$f":"入力シート!K86","v":0},null,null,null,null,{"$f":"入力シート!P86","v":0},null,null,null,null,null,null,{"$f":"入力シート!W86","v":0},null,null,null,null,null,null,null,null,{"$f":"入力シート!AF86","v":0},null,null,null,null,null,null,null,null,{"$f":"入力シート!AO86","v":0},null,{"$f":"入力シート!AQ86","v":0},null,null,{"$f":"入力シート!AT86","v":0},null,{"$f":"入力シート!AV86","v":0},null,{"$f":"入力シート!AX86","v":0},null,{"$f":"入力シート!AZ86","v":0},null,{"$f":"入力シート!BB86","v":0},null,{"$f":"入力シート!BD86","v":"A"},null,{"$f":"入力シート!BF86","v":0}]
[63,null,{"$f":"入力シート!C87","v":0},null,null,null,{"$f":"入力シート!G87","v":0},null,null,null,{"$f":"入力シート!K87","v":0},null,null,null,null,{"$f":"入力シート!P87","v":0},null,null,null,null,null,null,{"$f":"入力シート!W87","v":0},null,null,null,null,null,null,null,null,{"$f":"入力シート!AF87","v":0},null,null,null,null,null,null,null,null,{"$f":"入力シート!AO87","v":0},null,{"$f":"入力シート!AQ87","v":0},null,null,{"$f":"入力シート!AT87","v":0},null,{"$f":"入力シート!AV87","v":0},null,{"$f":"入力シート!AX87","v":0},null,{"$f":"入力シート!AZ87","v":0},null,{"$f":"入力シート!BB87","v":0},null,{"$f":"入力シート!BD87","v":"A"},null,{"$f":"入力シート!BF87","v":0}]
[64,null,{"$f":"入力シート!C88","v":0},null,null,null,{"$f":"入力シート!G88","v":0},null,null,null,{"$f":"入力シート!K88","v":0},null,null,null,null,{"$f":"入力シート!P88","v":0},null,null,null,null,null,null,{"$f":"入力シート!W88","v":0},null,null,null,null,null,null,null,null,{"$f":"入力シート!AF88","v":0},null,null,null,null,null,null,null,null,{"$f":"入力シート!AO88","v":0},null,{"$f":"入力シート!AQ88","v":0},null,null,{"$f":"入力シート!AT88","v":0},null,{"$f":"入力シート!AV88","v":0},null,{"$f":"入力シート!AX88","v":0},null,{"$f":"入力シート!AZ88","v":0},null,{"$f":"入力シート!BB88","v":0},null,{"$f":"入力シート!BD88","v":"A"},null,{"$f":"入力シート!BF88","v":0}]
[65,null,{"$f":"入力シート!C89","v":0},null,null,null,{"$f":"入力シート!G89","v":0},null,null,null,{"$f":"入力シート!K89","v":0},null,null,null,null,{"$f":"入力シート!P89","v":0},null,null,null,null,null,null,{"$f":"入力シート!W89","v":0},null,null,null,null,null,null,null,null,{"$f":"入力シート!AF89","v":0},null,null,null,null,null,null,null,null,{"$f":"入力シート!AO89","v":0},null,{"$f":"入力シート!AQ89","v":0},null,null,{"$f":"入力シート!AT89","v":0},null,{"$f":"入力シート!AV89","v":0},null,{"$f":"入力シート!AX89","v":0},null,{"$f":"入力シート!AZ89","v":0},null,{"$f":"入力シート!BB89","v":0},null,{"$f":"入力シート!BD89","v":"A"},null,{"$f":"入力シート!BF89","v":0}]
[66,null,{"$f":"入力シート!C90","v":0},null,null,null,{"$f":"入力シート!G90","v":0},null,null,null,{"$f":"入力シート!K90","v":0},null,null,null,null,{"$f":"入力シート!P90","v":0},null,null,null,null,null,null,{"$f":"入力シート!W90","v":0},null,null,null,null,null,null,null,null,{"$f":"入力シート!AF90","v":0},null,null,null,null,null,null,null,null,{"$f":"入力シート!AO90","v":0},null,{"$f":"入力シート!AQ90","v":0},null,null,{"$f":"入力シート!AT90","v":0},null,{"$f":"入力シート!AV90","v":0},null,{"$f":"入力シート!AX90","v":0},null,{"$f":"入力シート!AZ90","v":0},null,{"$f":"入力シート!BB90","v":0},null,{"$f":"入力シート!BD90","v":"A"},null,{"$f":"入力シート!BF90","v":0}]
[67,null,{"$f":"入力シート!C91","v":0},null,null,null,{"$f":"入力シート!G91","v":0},null,null,null,{"$f":"入力シート!K91","v":0},null,null,null,null,{"$f":"入力シート!P91","v":0},null,null,null,null,null,null,{"$f":"入力シート!W91","v":0},null,null,null,null,null,null,null,null,{"$f":"入力シート!AF91","v":0},null,null,null,null,null,null,null,null,{"$f":"入力シート!AO91","v":0},null,{"$f":"入力シート!AQ91","v":0},null,null,{"$f":"入力シート!AT91","v":0},null,{"$f":"入力シート!AV91","v":0},null,{"$f":"入力シート!AX91","v":0},null,{"$f":"入力シート!AZ91","v":0},null,{"$f":"入力シート!BB91","v":0},null,{"$f":"入力シート!BD91","v":"A"},null,{"$f":"入力シート!BF91","v":0}]
[68,null,{"$f":"入力シート!C92","v":0},null,null,null,{"$f":"入力シート!G92","v":0},null,null,null,{"$f":"入力シート!K92","v":0},null,null,null,null,{"$f":"入力シート!P92","v":0},null,null,null,null,null,null,{"$f":"入力シート!W92","v":0},null,null,null,null,null,null,null,null,{"$f":"入力シート!AF92","v":0},null,null,null,null,null,null,null,null,{"$f":"入力シート!AO92","v":0},null,{"$f":"入力シート!AQ92","v":0},null,null,{"$f":"入力シート!AT92","v":0},null,{"$f":"入力シート!AV92","v":0},null,{"$f":"入力シート!AX92","v":0},null,{"$f":"入力シート!AZ92","v":0},null,{"$f":"入力シート!BB92","v":0},null,{"$f":"入力シート!BD92","v":"A"},null,{"$f":"入力シート!BF92","v":0}]
[69,null,{"$f":"入力シート!C93","v":0},null,null,null,{"$f":"入力シート!G93","v":0},null,null,null,{"$f":"入力シート!K93","v":0},null,null,null,null,{"$f":"入力シート!P93","v":0},null,null,null,null,null,null,{"$f":"入力シート!W93","v":0},null,null,null,null,null,null,null,null,{"$f":"入力シート!AF93","v":0},null,null,null,null,null,null,null,null,{"$f":"入力シート!AO93","v":0},null,{"$f":"入力シート!AQ93","v":0},null,null,{"$f":"入力シート!AT93","v":0},null,{"$f":"入力シート!AV93","v":0},null,{"$f":"入力シート!AX93","v":0},null,{"$f":"入力シート!AZ93","v":0},null,{"$f":"入力シート!BB93","v":0},null,{"$f":"入力シート!BD93","v":"A"},null,{"$f":"入力シート!BF93","v":0}]
[70,null,{"$f":"入力シート!C94","v":0},null,null,null,{"$f":"入力シート!G94","v":0},null,null,null,{"$f":"入力シート!K94","v":0},null,null,null,null,{"$f":"入力シート!P94","v":0},null,null,null,null,null,null,{"$f":"入力シート!W94","v":0},null,null,null,null,null,null,null,null,{"$f":"入力シート!AF94","v":0},null,null,null,null,null,null,null,null,{"$f":"入力シート!AO94","v":0},null,{"$f":"入力シート!AQ94","v":0},null,null,{"$f":"入力シート!AT94","v":0},null,{"$f":"入力シート!AV94","v":0},null,{"$f":"入力シート!AX94","v":0},null,{"$f":"入力シート!AZ94","v":0},null,{"$f":"入力シート!BB94","v":0},null,{"$f":"入力シート!BD94","v":"A"},null,{"$f":"入力シート!BF94","v":0}]

{"sheet":"出場資格確認書（印刷版）","index":3,"n_rows":93,"n_cols":66,"rows_kept":93,"cut":false,"hidden":false,"merged":[[72,63,72,64],[72,65,72,66],[73,59,73,62],[73,63,73,64],[73,65,73,66],[84,63,84,64],[84,65,84,66],[85,59,85,62],[85,63,85,64],[85,65,85,66],[80,63,80,64],[80,65,80,66],[81,59,81,62],[81,63,81,64],[81,65,81,66],[92,59,92,62],[92,63,92,64],[92,65,92,66],[88,63,88,64],[88,65,88,66],[89,59,89,62],[89,63,89,64],[89,65,89,66],[90,59,90,62],[90,63,90,64],[56,63,56,64],[56,65,56,66],[57,59,57,62],[57,63,57,64],[57,65,57,66],[56,59,56,62],[60,63,60,64],[60,65,60,66],[61,59,61,62],[61,63,61,64],[61,65,61,66],[60,59,60,62],[64,63,64,64],[64,65,64,66],[65,59,65,62],[65,63,65,64],[65,65,65,66],[64,59,64,62],[44,63,44,64],[44,65,44,66],[45,59,45,62],[45,63,45,64],[45,65,45,66],[44,59,44,62],[48,63,48,64],[48,65,48,66],[49,59,49,62],[49,63,49,64],[49,65,49,66],[48,59,48,62],[52,63,52,64],[52,65,52,66],[53,59,53,62],[53,63,53,64],[53,65,53,66],[52,59,52,62],[23,59,23,62],[23,63,23,64],[23,65,23,66],[24,59,24,62],[24,63,24,64],[24,65,24,66],[32,63,32,64],[32,65,32,66],[33,59,33,62],[33,63,33,64],[33,65,33,66],[25,65,25,66],[26,59,26,62],[26,63,26,64],[26,65,26,66],[25,63,25,64],[36,63,36,64],[36,65,36,66],[36,59,36,62],[74,63,74,64],[74,65,74,66],[75,59,75,62],[75,63,75,64],[75,65,75,66],[83,65,83,66],[78,63,78,64],[78,65,78,66],[79,59,79,62],[79,63,79,64],[79,65,79,66],[91,59,91,62],[91,63,91,64],[91,65,91,66],[86,63,86,64],[86,65,86,66],[87,59,87,62],[87,63,87,64],[87,65,87,66],[88,59,88,62],[90,65,90,66],[82,63,82,64],[82,65,82,66],[83,59,83,62],[83,63,83,64],[76,63,76,64],[76,65,76,66],[77,59,77,62],[77,63,77,64],[77,65,77,66],[58,63,58,64],[58,65,58,66],[59,59,59,62],[59,63,59,64],[59,65,59,66],[62,59,62,62],[62,63,62,64],[62,65,62,66],[63,59,63,62],[63,63,63,64],[63,65,63,66],[71,59,71,62],[71,63,71,64],[71,65,71,66],[66,59,66,62],[66,63,66,64],[66,65,66,66],[67,59,67,62],[67,63,67,64],[67,65,67,66],[68,63,68,64],[68,65,68,66],[69,59,69,62],[69,63,69,64],[69,65,69,66],[68,59,68,62],[70,59,70,62],[70,63,70,64],[70,65,70,66],[46,63,46,64],[46,65,46,66],[47,59,47,62],[47,63,47,64],[47,65,47,66],[50,59,50,62],[50,63,50,64],[50,65,50,66],[51,59,51,62],[51,63,51,64],[51,65,51,66],[54,59,54,62],[54,63,54,64],[54,65,54,66],[55,59,55,62],[55,63,55,64],[55,65,55,66],[34,63,34,64],[34,65,34,66],[35,59,35,62],[35,63,35,64],[35,65,35,66],[38,59,38,62],[38,63,38,64],[38,65,38,66],[39,59,39,62],[39,63,39,64],[39,65,39,66],[42,59,42,62],[42,63,42,64],[42,65,42,66],[43,59,43,62],[43,63,43,64],[43,65,43,66],[37,59,37,62],[37,63,37,64],[37,65,37,66],[40,63,40,64],[40,65,40,66],[41,59,41,62],[41,63,41,64],[41,65,41,66],[40,59,40,62],[92,55,92,56],[92,57,92,58],[91,55,91,56],[91,57,91,58],[90,55,90,56],[90,57,90,58],[31,59,31,62],[32,59,32,62],[25,59,25,62],[27,59,27,62],[29,59,29,62],[89,55,89,56],[89,57,89,58],[88,55,88,56],[88,57,88,58],[87,55,87,56],[84,59,84,62],[80,59,80,62],[76,59,76,62],[78,59,78,62],[82,59,82,62],[86,59,86,62],[34,59,34,62],[46,59,46,62],[58,59,58,62],[74,59,74,62],[72,59,72,62],[91,0,91,1],[91,2,91,5],[91,6,91,9],[91,10,91,14],[91,15,91,21],[91,22,91,30],[92,31,92,39],[92,40,92,41],[91,42,91,44],[91,45,91,46],[91,51,91,52],[91,53,91,54],[91,47,91,48],[91,49,91,50],[91,31,91,39],[91,40,91,41],[92,0,92,1],[92,2,92,5],[92,6,92,9],[92,10,92,14],[92,15,92,21],[92,22,92,30],[92,42,92,44],[92,45,92,46],[92,51,92,52],[92,53,92,54],[92,47,92,48],[92,49,92,50],[90,31,90,39],[90,40,90,41],[89,42,89,44],[89,45,89,46],[89,51,89,52],[89,53,89,54],[89,47,89,48],[89,49,89,50],[89,31,89,39],[89,40,89,41],[90,0,90,1],[90,2,90,5],[90,6,90,9],[90,10,90,14],[90,15,90,21],[90,22,90,30],[90,42,90,44],[90,45,90,46],[90,51,90,52],[90,53,90,54],[90,47,90,48],[90,49,90,50],[88,0,88,1],[88,2,88,5],[88,6,88,9],[88,10,88,14],[87,0,87,1],[87,2,87,5],[88,31,88,39],[88,40,88,41],[88,42,88,44],[88,45,88,46],[88,47,88,48],[88,49,88,50],[89,0,89,1],[89,2,89,5],[89,6,89,9],[89,10,89,14],[89,15,89,21],[89,22,89,30],[87,6,87,9],[87,10,87,14],[86,55,86,56],[86,57,86,58],[87,15,87,21],[87,22,87,30],[86,51,86,52],[86,53,86,54],[86,31,86,39],[86,40,86,41],[87,57,87,58],[88,15,88,21],[88,22,88,30],[87,51,87,52],[87,53,87,54],[87,31,87,39],[87,40,87,41],[87,42,87,44],[87,45,87,46],[88,51,88,52],[88,53,88,54],[87,47,87,48],[87,49,87,50],[85,0,85,1],[85,2,85,5],[85,6,85,9],[85,10,85,14],[84,55,84,56],[84,57,84,58],[85,15,85,21],[85,22,85,30],[84,51,84,52],[84,53,84,54],[85,55,85,56],[85,57,85,58],[86,15,86,21],[86,22,86,30],[85,51,85,52],[85,53,85,54],[85,31,85,39],[85,40,85,41],[85,42,85,44],[85,45,85,46],[86,42,86,44],[86,45,86,46],[85,47,85,48],[85,49,85,50],[86,0,86,1],[86,2,86,5],[86,6,86,9],[86,10,86,14],[86,47,86,48],[86,49,86,50],[83,0,83,1],[83,2,83,5],[83,6,83,9],[83,10,83,14],[82,55,82,56],[82,57,82,58],[83,15,83,21],[83,22,83,30],[82,51,82,52],[82,53,82,54],[83,55,83,56],[83,57,83,58],[84,15,84,21],[84,22,84,30],[83,51,83,52],[83,53,83,54],[83,31,83,39],[83,40,83,41],[83,42,83,44],[83,45,83,46],[84,0,84,1],[84,2,84,5],[84,6,84,9],[84,10,84,14],[84,47,84,48],[84,49,84,50],[84,31,84,39],[84,40,84,41],[84,42,84,44],[84,45,84,46],[83,47,83,48],[83,49,83,50],[81,0,81,1],[81,2,81,5],[81,6,81,9],[81,10,81,14],[80,55,80,56],[80,57,80,58],[81,15,81,21],[81,22,81,30],[80,51,80,52],[80,53,80,54],[81,55,81,56],[81,57,81,58],[82,15,82,21],[82,22,82,30],[81,51,81,52],[81,53,81,54],[81,31,81,39],[81,40,81,41],[81,42,81,44],[81,45,81,46],[82,0,82,1],[82,2,82,5],[82,6,82,9],[82,10,82,14],[82,47,82,48],[82,49,82,50],[82,31,82,39],[82,40,82,41],[82,42,82,44],[82,45,82,46],[81,47,81,48],[81,49,81,50],[79,0,79,1],[79,2,79,5],[79,6,79,9],[79,10,79,14],[78,55,78,56],[78,57,78,58],[79,15,79,21],[79,22,79,30],[78,51,78,52],[78,53,78,54],[79,55,79,56],[79,57,79,58],[80,15,80,21],[80,22,80,30],[79,51,79,52],[79,53,79,54],[79,31,79,39],[79,40,79,41],[79,42,79,44],[79,45,79,46],[80,0,80,1],[80,2,80,5],[80,6,80,9],[80,10,80,14],[80,47,80,48],[80,49,80,50],[80,31,80,39],[80,40,80,41],[80,42,80,44],[80,45,80,46],[79,47,79,48],[79,49,79,50],[77,0,77,1],[77,2,77,5],[77,6,77,9],[77,10,77,14],[76,55,76,56],[76,57,76,58],[77,15,77,21],[77,22,77,30],[76,51,76,52],[76,53,76,54],[77,55,77,56],[77,57,77,58],[78,15,78,21],[78,22,78,30],[77,51,77,52],[77,53,77,54],[77,31,77,39],[77,40,77,41],[77,42,77,44],[77,45,77,46],[78,0,78,1],[78,2,78,5],[78,6,78,9],[78,10,78,14],[78,47,78,48],[78,49,78,50],[78,31,78,39],[78,40,78,41],[78,42,78,44],[78,45,78,46],[77,47,77,48],[77,49,77,50],[75,0,75,1],[75,2,75,5],[75,6,75,9],[75,10,75,14],[74,55,74,56],[74,57,74,58],[75,15,75,21],[75,22,75,30],[74,51,74,52],[74,53,74,54],[75,55,75,56],[75,57,75,58],[76,15,76,21],[76,22,76,30],[75,51,75,52],[75,53,75,54],[75,31,75,39],[75,40,75,41],[75,42,75,44],[75,45,75,46],[76,0,76,1],[76,2,76,5],[76,6,76,9],[76,10,76,14],[76,47,76,48],[76,49,76,50],[76,31,76,39],[76,40,76,41],[76,42,76,44],[76,45,76,46],[75,47,75,48],[75,49,75,50],[74,15,74,21],[74,22,74,30],[73,51,73,52],[73,53,73,54],[73,31,73,39],[73,40,73,41],[73,42,73,44],[73,45,73,46],[74,0,74,1],[74,2,74,5],[74,6,74,9],[74,10,74,14],[74,47,74,48],[74,49,74,50],[74,31,74,39],[74,40,74,41],[74,42,74,44],[74,45,74,46],[73,47,73,48],[73,49,73,50],[72,55,72,56],[72,57,72,58],[72,53,72,54],[71,55,71,56],[71,57,71,58],[72,0,72,1],[72,2,72,5],[72,6,72,9],[72,10,72,14],[72,15,72,21],[72,51,72,52],[72,40,72,41],[73,15,73,21],[73,22,73,30],[72,42,72,44],[72,45,72,46],[72,22,72,30],[72,31,72,39],[73,0,73,1],[73,2,73,5],[73,6,73,9],[73,10,73,14],[72,47,72,48],[72,49,72,50],[73,55,73,56],[73,57,73,58],[71,49,71,50],[71,51,71,52],[71,53,71,54],[70,51,70,52],[70,53,70,54],[71,0,71,1],[71,2,71,5],[71,6,71,9],[71,10,71,14],[70,42,70,44],[71,47,71,48],[71,31,71,39],[71,40,71,41],[71,42,71,44],[71,45,71,46],[71,15,71,21],[71,22,71,30],[69,55,69,56],[69,57,69,58],[69,51,69,52],[69,53,69,54],[69,31,69,39],[69,40,69,41],[69,42,69,44],[69,45,69,46],[70,0,70,1],[70,2,70,5],[70,6,70,9],[70,10,70,14],[70,55,70,56],[70,57,70,58],[70,45,70,46],[70,47,70,48],[70,49,70,50],[70,15,70,21],[70,22,70,30],[70,31,70,39],[70,40,70,41],[69,15,69,21],[69,22,69,30],[68,51,68,52],[68,53,68,54],[68,31,68,39],[68,40,68,41],[68,42,68,44],[68,45,68,46],[68,47,68,48],[68,49,68,50],[69,0,69,1],[69,2,69,5],[69,6,69,9],[69,10,69,14],[69,47,69,48],[69,49,69,50],[68,0,68,1],[68,2,68,5],[66,6,66,9],[66,10,66,14],[67,22,67,30],[67,15,67,21],[64,57,64,58],[63,55,63,56],[66,53,66,54],[65,51,65,52],[66,15,66,21],[66,22,66,30],[66,31,66,39],[66,40,66,41],[68,6,68,9],[68,10,68,14],[68,15,68,21],[68,22,68,30],[67,51,67,52],[67,53,67,54],[67,31,67,39],[67,40,67,41],[67,42,67,44],[67,45,67,46],[68,55,68,56],[68,57,68,58],[65,0,65,1],[65,2,65,5],[65,6,65,9],[65,10,65,14],[64,0,64,1],[64,2,64,5],[64,6,64,9],[64,10,64,14],[67,47,67,48],[67,55,67,56],[67,57,67,58],[65,57,65,58],[65,53,65,54],[67,49,67,50],[66,51,66,52],[66,55,66,56],[66,57,66,58],[65,55,65,56],[65,42,65,44],[65,45,65,46],[65,47,65,48],[65,49,65,50],[66,42,66,44],[66,45,66,46],[66,47,66,48],[66,49,66,50],[67,0,67,1],[67,2,67,5],[67,6,67,9],[67,10,67,14],[66,0,66,1],[66,2,66,5],[63,22,63,30],[63,31,63,39],[63,40,63,41],[64,42,64,44],[64,45,64,46],[64,47,64,48],[64,55,64,56],[64,53,64,54],[64,49,64,50],[64,51,64,52],[65,15,65,21],[65,22,65,30],[65,31,65,39],[65,40,65,41],[64,15,64,21],[64,22,64,30],[64,31,64,39],[64,40,64,41],[60,15,60,21],[62,0,62,1],[62,2,62,5],[62,6,62,9],[62,10,62,14],[61,49,61,50],[61,51,61,52],[62,53,62,54],[63,57,63,58],[62,15,62,21],[62,22,62,30],[62,31,62,39],[61,47,61,48],[62,40,62,41],[62,42,62,44],[62,45,62,46],[62,47,62,48],[63,0,63,1],[63,2,63,5],[63,6,63,9],[63,10,63,14],[62,55,62,56],[62,57,62,58],[63,47,63,48],[63,49,63,50],[62,49,62,50],[62,51,62,52],[63,42,63,44],[63,45,63,46],[63,51,63,52],[63,53,63,54],[63,15,63,21],[61,57,61,58],[59,55,59,56],[59,57,59,58],[60,55,60,56],[60,57,60,58],[59,51,59,52],[59,53,59,54],[60,40,60,41],[60,0,60,1],[60,2,60,5],[60,6,60,9],[60,10,60,14],[61,55,61,56],[60,22,60,30],[61,15,61,21],[61,22,61,30],[60,42,60,44],[60,45,60,46],[61,31,61,39],[61,40,61,41],[61,42,61,44],[61,45,61,46],[60,31,60,39],[61,53,61,54],[60,51,60,52],[60,53,60,54],[61,0,61,1],[61,2,61,5],[61,6,61,9],[61,10,61,14],[60,47,60,48],[60,49,60,50],[58,0,58,1],[58,2,58,5],[58,6,58,9],[58,10,58,14],[58,15,58,21],[58,22,58,30],[58,55,58,56],[58,57,58,58],[59,15,59,21],[59,22,59,30],[58,51,58,52],[58,53,58,54],[58,31,58,39],[58,40,58,41],[58,42,58,44],[58,45,58,46],[59,0,59,1],[59,2,59,5],[59,6,59,9],[59,10,59,14],[59,47,59,48],[59,49,59,50],[59,31,59,39],[59,40,59,41],[59,42,59,44],[59,45,59,46],[58,47,58,48],[58,49,58,50],[56,10,56,14],[57,22,57,30],[57,15,57,21],[54,57,54,58],[53,55,53,56],[56,53,56,54],[55,51,55,52],[56,15,56,21],[56,22,56,30],[56,31,56,39],[56,40,56,41],[57,51,57,52],[57,53,57,54],[57,31,57,39],[57,40,57,41],[57,42,57,44],[57,45,57,46],[57,47,57,48],[55,0,55,1],[55,2,55,5],[55,6,55,9],[55,10,55,14],[54,0,54,1],[54,2,54,5],[54,6,54,9],[54,10,54,14],[57,55,57,56],[57,57,57,58],[55,57,55,58],[55,53,55,54],[57,49,57,50],[56,51,56,52],[56,55,56,56],[56,57,56,58],[55,55,55,56],[55,42,55,44],[55,45,55,46],[55,47,55,48],[55,49,55,50],[56,42,56,44],[56,45,56,46],[56,47,56,48],[56,49,56,50],[57,0,57,1],[57,2,57,5],[57,6,57,9],[57,10,57,14],[56,0,56,1],[56,2,56,5],[56,6,56,9],[53,22,53,30],[53,31,53,39],[53,40,53,41],[54,42,54,44],[54,45,54,46],[54,47,54,48],[54,55,54,56],[54,53,54,54],[54,49,54,50],[54,51,54,52],[55,15,55,21],[55,22,55,30],[55,31,55,39],[55,40,55,41],[54,15,54,21],[54,22,54,30],[54,31,54,39],[54,40,54,41],[50,15,50,21],[52,0,52,1],[52,2,52,5],[52,6,52,9],[52,10,52,14],[51,49,51,50],[51,51,51,52],[52,53,52,54],[53,57,53,58],[52,15,52,21],[52,22,52,30],[52,31,52,39],[51,47,51,48],[52,40,52,41],[52,42,52,44],[52,45,52,46],[52,47,52,48],[53,0,53,1],[53,2,53,5],[53,6,53,9],[53,10,53,14],[52,55,52,56],[52,57,52,58],[53,47,53,48],[53,49,53,50],[52,49,52,50],[52,51,52,52],[53,42,53,44],[53,45,53,46],[53,51,53,52],[53,53,53,54],[53,15,53,21],[51,57,51,58],[49,55,49,56],[49,57,49,58],[50,55,50,56],[50,57,50,58],[49,51,49,52],[49,53,49,54],[50,40,50,41],[50,0,50,1],[50,2,50,5],[50,6,50,9],[50,10,50,14],[51,55,51,56],[50,22,50,30],[51,15,51,21],[51,22,51,30],[50,42,50,44],[50,45,50,46],[51,31,51,39],[51,40,51,41],[51,42,51,44],[51,45,51,46],[50,31,50,39],[51,53,51,54],[50,51,50,52],[50,53,50,54],[51,0,51,1],[51,2,51,5],[51,6,51,9],[51,10,51,14],[50,47,50,48],[50,49,50,50],[48,0,48,1],[48,2,48,5],[48,6,48,9],[48,10,48,14],[48,15,48,21],[48,22,48,30],[48,55,48,56],[48,57,48,58],[49,15,49,21],[49,22,49,30],[48,51,48,52],[48,53,48,54],[48,31,48,39],[48,40,48,41],[48,42,48,44],[48,45,48,46],[49,0,49,1],[49,2,49,5],[49,6,49,9],[49,10,49,14],[49,47,49,48],[49,49,49,50],[49,31,49,39],[49,40,49,41],[49,42,49,44],[49,45,49,46],[48,47,48,48],[48,49,48,50],[43,57,43,58],[46,55,46,56],[46,57,46,58],[45,55,45,56],[47,0,47,1],[47,2,47,5],[47,6,47,9],[47,10,47,14],[46,42,46,44],[46,45,46,46],[47,22,47,30],[47,15,47,21],[47,47,47,48],[47,49,47,50],[43,55,43,56],[46,51,46,52],[46,53,46,54],[45,51,45,52],[46,47,46,48],[46,49,46,50],[47,51,47,52],[47,53,47,54],[47,31,47,39],[47,40,47,41],[47,42,47,44],[47,45,47,46],[46,15,46,21],[46,22,46,30],[45,53,45,54],[44,0,44,1],[44,2,44,5],[44,6,44,9],[44,10,44,14],[45,15,45,21],[47,57,47,58],[45,57,45,58],[44,57,44,58],[44,55,44,56],[45,2,45,5],[45,6,45,9],[45,10,45,14],[47,55,47,56],[45,42,45,44],[45,45,45,46],[46,31,46,39],[46,40,46,41],[46,0,46,1],[46,2,46,5],[46,6,46,9],[46,10,46,14],[44,42,44,44],[44,45,44,46],[44,47,44,48],[43,42,43,44],[43,45,43,46],[43,49,43,50],[43,51,43,52],[43,53,43,54],[43,47,43,48],[44,53,44,54],[44,49,44,50],[44,51,44,52],[45,22,45,30],[45,31,45,39],[45,40,45,41],[45,0,45,1],[44,15,44,21],[44,22,44,30],[44,31,44,39],[44,40,44,41],[45,47,45,48],[45,49,45,50],[42,55,42,56],[42,51,42,52],[42,53,42,54],[41,55,41,56],[42,15,42,21],[42,22,42,30],[42,31,42,39],[42,40,42,41],[42,0,42,1],[42,2,42,5]],"merged_total":1389,"flags":["merged_cut"]}
["出場資格確認書（印刷版）"]
[]
["大  会  名",null,null,null,null,{"$f":"入力シート!F3","v":"第16回13-15歳ソロ・デュエット大会"}]
["期      日",null,null,null,null,{"$f":"入力シート!F4","v":"2013年1月26日（土）-1月27日（日）"}]
["場      所",null,null,null,null,{"$f":"入力シート!F5","v":"横浜国際プール"}]
["加盟団体名",null,null,null,null,{"$f":"入力シート!F19","v":0}]
["登録団体名",null,null,null,null,{"$f":"入力シート!F6","v":0}]
["代表者名",null,null,null,null,{"$f":"入力シート!F7","v":0}]
["団体番号",null,null,null,null,{"$f":"入力シート!F8","v":0}]
["登録団体住所",null,null,null,null,{"$f":"入力シート!F9","v":0}]
["登録団体Tel",null,null,null,null,{"$f":"入力シート!F10","v":0}]
["登録団体Fax",null,null,null,null,{"$f":"入力シート!F11","v":0}]
["連絡責任者",null,null,null,null,{"$f":"入力シート!F12","v":0}]
["連絡先住所",null,null,null,null,{"$f":"入力シート!F13","v":0}]
["Tel",null,null,null,null,{"$f":"入力シート!F14","v":0}]
["Fax",null,null,null,null,{"$f":"入力シート!F15","v":0}]
["携帯",null,null,null,null,{"$f":"入力シート!F16","v":0}]
["E-mail",null,null,null,null,{"$f":"入力シート!F17","v":0}]
[]
[]
["番号",null,"加盟団体",null,null,null,"登録団体",null,null,null,"競技者番号",null,null,null,null,"氏　　　名",null,null,null,null,null,null,"ローマ字氏名",null,null,null,null,null,null,null,null,"学　　　校",null,null,null,null,null,null,null,null,"学年",null,"生年月日",null,null,null,null,null,null,"エントリー",null,null,null,null,null,null,null,null,null,"バッジテスト資格"]
[null,null,null,null,null,null,null,null,null,null,null,null,null,null,null,null,null,null,null,null,null,null,null,null,null,null,null,null,null,null,null,null,null,null,null,null,null,null,null,null,null,null,"西暦",null,null,"月",null,"日",null,"ソロ",null,"デュエット",null,null,null,"フィギュア",null,null,null,"取得",null,null,null,"バッジテスト資格"]
[null,null,null,null,null,null,null,null,null,null,null,null,null,null,null,null,null,null,null,null,null,null,null,null,null,null,null,null,null,null,null,null,null,null,null,null,null,null,null,null,null,null,null,null,null,null,null,null,null,"表示順",null,"組",null,"表示順",null,"組",null,"表示順",null,"年度",null,null,null,"場所",null,"ステージ"]
[1,null,{"$f":"入力シート!C25","v":0},null,null,null,{"$f":"入力シート!G25","v":0},null,null,null,{"$f":"入力シート!K25","v":0},null,null,null,null,{"$f":"入力シート!P25","v":0},null,null,null,null,null,null,{"$f":"入力シート!W25","v":0},null,null,null,null,null,null,null,null,{"$f":"入力シート!AF25","v":0},null,null,null,null,null,null,null,null,{"$f":"入力シート!AO25","v":0},null,{"$f":"入力シート!AQ25","v":0},null,null,{"$f":"入力シート!AT25","v":0},null,{"$f":"入力シート!AV25","v":0},null,{"$f":"入力シート!AX25","v":0},null,{"$f":"入力シート!AZ25","v":0},null,{"$f":"入力シート!BB25","v":0},null,{"$f":"入力シート!BD25","v":"A"},null,{"$f":"入力シート!BF25","v":0}]
[2,null,{"$f":"入力シート!C26","v":0},null,null,null,{"$f":"入力シート!G26","v":0},null,null,null,{"$f":"入力シート!K26","v":0},null,null,null,null,{"$f":"入力シート!P26","v":0},null,null,null,null,null,null,{"$f":"入力シート!W26","v":0},null,null,null,null,null,null,null,null,{"$f":"入力シート!AF26","v":0},null,null,null,null,null,null,null,null,{"$f":"入力シート!AO26","v":0},null,{"$f":"入力シート!AQ26","v":0},null,null,{"$f":"入力シート!AT26","v":0},null,{"$f":"入力シート!AV26","v":0},null,{"$f":"入力シート!AX26","v":0},null,{"$f":"入力シート!AZ26","v":0},null,{"$f":"入力シート!BB26","v":0},null,{"$f":"入力シート!BD26","v":"A"},null,{"$f":"入力シート!BF26","v":0}]
[3,null,{"$f":"入力シート!C27","v":0},null,null,null,{"$f":"入力シート!G27","v":0},null,null,null,{"$f":"入力シート!K27","v":0},null,null,null,null,{"$f":"入力シート!P27","v":0},null,null,null,null,null,null,{"$f":"入力シート!W27","v":0},null,null,null,null,null,null,null,null,{"$f":"入力シート!AF27","v":0},null,null,null,null,null,null,null,null,{"$f":"入力シート!AO27","v":0},null,{"$f":"入力シート!AQ27","v":0},null,null,{"$f":"入力シート!AT27","v":0},null,{"$f":"入力シート!AV27","v":0},null,{"$f":"入力シート!AX27","v":0},null,{"$f":"入力シート!AZ27","v":0},null,{"$f":"入力シート!BB27","v":0},null,{"$f":"入力シート!BD27","v":"A"},null,{"$f":"入力シート!BF27","v":0}]
[4,null,{"$f":"入力シート!C28","v":0},null,null,null,{"$f":"入力シート!G28","v":0},null,null,null,{"$f":"入力シート!K28","v":0},null,null,null,null,{"$f":"入力シート!P28","v":0},null,null,null,null,null,null,{"$f":"入力シート!W28","v":0},null,null,null,null,null,null,null,null,{"$f":"入力シート!AF28","v":0},null,null,null,null,null,null,null,null,{"$f":"入力シート!AO28","v":0},null,{"$f":"入力シート!AQ28","v":0},null,null,{"$f":"入力シート!AT28","v":0},null,{"$f":"入力シート!AV28","v":0},null,{"$f":"入力シート!AX28","v":0},null,{"$f":"入力シート!AZ28","v":0},null,{"$f":"入力シート!BB28","v":0},null,{"$f":"入力シート!BD28","v":"A"},null,{"$f":"入力シート!BF28","v":0}]
[5,null,{"$f":"入力シート!C29","v":0},null,null,null,{"$f":"入力シート!G29","v":0},null,null,null,{"$f":"入力シート!K29","v":0},null,null,null,null,{"$f":"入力シート!P29","v":0},null,null,null,null,null,null,{"$f":"入力シート!W29","v":0},null,null,null,null,null,null,null,null,{"$f":"入力シート!AF29","v":0},null,null,null,null,null,null,null,null,{"$f":"入力シート!AO29","v":0},null,{"$f":"入力シート!AQ29","v":0},null,null,{"$f":"入力シート!AT29","v":0},null,{"$f":"入力シート!AV29","v":0},null,{"$f":"入力シート!AX29","v":0},null,{"$f":"入力シート!AZ29","v":0},null,{"$f":"入力シート!BB29","v":0},null,{"$f":"入力シート!BD29","v":"A"},null,{"$f":"入力シート!BF29","v":0}]
[6,null,{"$f":"入力シート!C30","v":0},null,null,null,{"$f":"入力シート!G30","v":0},null,null,null,{"$f":"入力シート!K30","v":0},null,null,null,null,{"$f":"入力シート!P30","v":0},null,null,null,null,null,null,{"$f":"入力シート!W30","v":0},null,null,null,null,null,null,null,null,{"$f":"入力シート!AF30","v":0},null,null,null,null,null,null,null,null,{"$f":"入力シート!AO30","v":0},null,{"$f":"入力シート!AQ30","v":0},null,null,{"$f":"入力シート!AT30","v":0},null,{"$f":"入力シート!AV30","v":0},null,{"$f":"入力シート!AX30","v":0},null,{"$f":"入力シート!AZ30","v":0},null,{"$f":"入力シート!BB30","v":0},null,{"$f":"入力シート!BD30","v":"A"},null,{"$f":"入力シート!BF30","v":0}]
[7,null,{"$f":"入力シート!C31","v":0},null,null,null,{"$f":"入力シート!G31","v":0},null,null,null,{"$f":"入力シート!K31","v":0},null,null,null,null,{"$f":"入力シート!P31","v":0},null,null,null,null,null,null,{"$f":"入力シート!W31","v":0},null,null,null,null,null,null,null,null,{"$f":"入力シート!AF31","v":0},null,null,null,null,null,null,null,null,{"$f":"入力シート!AO31","v":0},null,{"$f":"入力シート!AQ31","v":0},null,null,{"$f":"入力シート!AT31","v":0},null,{"$f":"入力シート!AV31","v":0},null,{"$f":"入力シート!AX31","v":0},null,{"$f":"入力シート!AZ31","v":0},null,{"$f":"入力シート!BB31","v":0},null,{"$f":"入力シート!BD31","v":"A"},null,{"$f":"入力シート!BF31","v":0}]
[8,null,{"$f":"入力シート!C32","v":0},null,null,null,{"$f":"入力シート!G32","v":0},null,null,null,{"$f":"入力シート!K32","v":0},null,null,null,null,{"$f":"入力シート!P32","v":0},null,null,null,null,null,null,{"$f":"入力シート!W32","v":0},null,null,null,null,null,null,null,null,{"$f":"入力シート!AF32","v":0},null,null,null,null,null,null,null,null,{"$f":"入力シート!AO32","v":0},null,{"$f":"入力シート!AQ32","v":0},null,null,{"$f":"入力シート!AT32","v":0},null,{"$f":"入力シート!AV32","v":0},null,{"$f":"入力シート!AX32","v":0},null,{"$f":"入力シート!AZ32","v":0},null,{"$f":"入力シート!BB32","v":0},null,{"$f":"入力シート!BD32","v":"A"},null,{"$f":"入力シート!BF32","v":0}]
[9,null,{"$f":"入力シート!C33","v":0},null,null,null,{"$f":"入力シート!G33","v":0},null,null,null,{"$f":"入力シート!K33","v":0},null,null,null,null,{"$f":"入力シート!P33","v":0},null,null,null,null,null,null,{"$f":"入力シート!W33","v":0},null,null,null,null,null,null,null,null,{"$f":"入力シート!AF33","v":0},null,null,null,null,null,null,null,null,{"$f":"入力シート!AO33","v":0},null,{"$f":"入力シート!AQ33","v":0},null,null,{"$f":"入力シート!AT33","v":0},null,{"$f":"入力シート!AV33","v":0},null,{"$f":"入力シート!AX33","v":0},null,{"$f":"入力シート!AZ33","v":0},null,{"$f":"入力シート!BB33","v":0},null,{"$f":"入力シート!BD33","v":"A"},null,{"$f":"入力シート!BF33","v":0}]
[10,null,{"$f":"入力シート!C34","v":0},null,null,null,{"$f":"入力シート!G34","v":0},null,null,null,{"$f":"入力シート!K34","v":0},null,null,null,null,{"$f":"入力シート!P34","v":0},null,null,null,null,null,null,{"$f":"入力シート!W34","v":0},null,null,null,null,null,null,null,null,{"$f":"入力シート!AF34","v":0},null,null,null,null,null,null,null,null,{"$f":"入力シート!AO34","v":0},null,{"$f":"入力シート!AQ34","v":0},null,null,{"$f":"入力シート!AT34","v":0},null,{"$f":"入力シート!AV34","v":0},null,{"$f":"入力シート!AX34","v":0},null,{"$f":"入力シート!AZ34","v":0},null,{"$f":"入力シート!BB34","v":0},null,{"$f":"入力シート!BD34","v":"A"},null,{"$f":"入力シート!BF34","v":0}]
[11,null,{"$f":"入力シート!C35","v":0},null,null,null,{"$f":"入力シート!G35","v":0},null,null,null,{"$f":"入力シート!K35","v":0},null,null,null,null,{"$f":"入力シート!P35","v":0},null,null,null,null,null,null,{"$f":"入力シート!W35","v":0},null,null,null,null,null,null,null,null,{"$f":"入力シート!AF35","v":0},null,null,null,null,null,null,null,null,{"$f":"入力シート!AO35","v":0},null,{"$f":"入力シート!AQ35","v":0},null,null,{"$f":"入力シート!AT35","v":0},null,{"$f":"入力シート!AV35","v":0},null,{"$f":"入力シート!AX35","v":0},null,{"$f":"入力シート!AZ35","v":0},null,{"$f":"入力シート!BB35","v":0},null,{"$f":"入力シート!BD35","v":"A"},null,{"$f":"入力シート!BF35","v":0}]
[12,null,{"$f":"入力シート!C36","v":0},null,null,null,{"$f":"入力シート!G36","v":0},null,null,null,{"$f":"入力シート!K36","v":0},null,null,null,null,{"$f":"入力シート!P36","v":0},null,null,null,null,null,null,{"$f":"入力シート!W36","v":0},null,null,null,null,null,null,null,null,{"$f":"入力シート!AF36","v":0},null,null,null,null,null,null,null,null,{"$f":"入力シート!AO36","v":0},null,{"$f":"入力シート!AQ36","v":0},null,null,{"$f":"入力シート!AT36","v":0},null,{"$f":"入力シート!AV36","v":0},null,{"$f":"入力シート!AX36","v":0},null,{"$f":"入力シート!AZ36","v":0},null,{"$f":"入力シート!BB36","v":0},null,{"$f":"入力シート!BD36","v":"A"},null,{"$f":"入力シート!BF36","v":0}]
[13,null,{"$f":"入力シート!C37","v":0},null,null,null,{"$f":"入力シート!G37","v":0},null,null,null,{"$f":"入力シート!K37","v":0},null,null,null,null,{"$f":"入力シート!P37","v":0},null,null,null,null,null,null,{"$f":"入力シート!W37","v":0},null,null,null,null,null,null,null,null,{"$f":"入力シート!AF37","v":0},null,null,null,null,null,null,null,null,{"$f":"入力シート!AO37","v":0},null,{"$f":"入力シート!AQ37","v":0},null,null,{"$f":"入力シート!AT37","v":0},null,{"$f":"入力シート!AV37","v":0},null,{"$f":"入力シート!AX37","v":0},null,{"$f":"入力シート!AZ37","v":0},null,{"$f":"入力シート!BB37","v":0},null,{"$f":"入力シート!BD37","v":"A"},null,{"$f":"入力シート!BF37","v":0}]
[14,null,{"$f":"入力シート!C38","v":0},null,null,null,{"$f":"入力シート!G38","v":0},null,null,null,{"$f":"入力シート!K38","v":0},null,null,null,null,{"$f":"入力シート!P38","v":0},null,null,null,null,null,null,{"$f":"入力シート!W38","v":0},null,null,null,null,null,null,null,null,{"$f":"入力シート!AF38","v":0},null,null,null,null,null,null,null,null,{"$f":"入力シート!AO38","v":0},null,{"$f":"入力シート!AQ38","v":0},null,null,{"$f":"入力シート!AT38","v":0},null,{"$f":"入力シート!AV38","v":0},null,{"$f":"入力シート!AX38","v":0},null,{"$f":"入力シート!AZ38","v":0},null,{"$f":"入力シート!BB38","v":0},null,{"$f":"入力シート!BD38","v":"A"},null,{"$f":"入力シート!BF38","v":0}]
[15,null,{"$f":"入力シート!C39","v":0},null,null,null,{"$f":"入力シート!G39","v":0},null,null,null,{"$f":"入力シート!K39","v":0},null,null,null,null,{"$f":"入力シート!P39","v":0},null,null,null,null,null,null,{"$f":"入力シート!W39","v":0},null,null,null,null,null,null,null,null,{"$f":"入力シート!AF39","v":0},null,null,null,null,null,null,null,null,{"$f":"入力シート!AO39","v":0},null,{"$f":"入力シート!AQ39","v":0},null,null,{"$f":"入力シート!AT39","v":0},null,{"$f":"入力シート!AV39","v":0},null,{"$f":"入力シート!AX39","v":0},null,{"$f":"入力シート!AZ39","v":0},null,{"$f":"入力シート!BB39","v":0},null,{"$f":"入力シート!BD39","v":"A"},null,{"$f":"入力シート!BF39","v":0}]
[16,null,{"$f":"入力シート!C40","v":0},null,null,null,{"$f":"入力シート!G40","v":0},null,null,null,{"$f":"入力シート!K40","v":0},null,null,null,null,{"$f":"入力シート!P40","v":0},null,null,null,null,null,null,{"$f":"入力シート!W40","v":0},null,null,null,null,null,null,null,null,{"$f":"入力シート!AF40","v":0},null,null,null,null,null,null,null,null,{"$f":"入力シート!AO40","v":0},null,{"$f":"入力シート!AQ40","v":0},null,null,{"$f":"入力シート!AT40","v":0},null,{"$f":"入力シート!AV40","v":0},null,{"$f":"入力シート!AX40","v":0},null,{"$f":"入力シート!AZ40","v":0},null,{"$f":"入力シート!BB40","v":0},null,{"$f":"入力シート!BD40","v":"A"},null,{"$f":"入力シート!BF40","v":0}]
[17,null,{"$f":"入力シート!C41","v":0},null,null,null,{"$f":"入力シート!G41","v":0},null,null,null,{"$f":"入力シート!K41","v":0},null,null,null,null,{"$f":"入力シート!P41","v":0},null,null,null,null,null,null,{"$f":"入力シート!W41","v":0},null,null,null,null,null,null,null,null,{"$f":"入力シート!AF41","v":0},null,null,null,null,null,null,null,null,{"$f":"入力シート!AO41","v":0},null,{"$f":"入力シート!AQ41","v":0},null,null,{"$f":"入力シート!AT41","v":0},null,{"$f":"入力シート!AV41","v":0},null,{"$f":"入力シート!AX41","v":0},null,{"$f":"入力シート!AZ41","v":0},null,{"$f":"入力シート!BB41","v":0},null,{"$f":"入力シート!BD41","v":"A"},null,{"$f":"入力シート!BF41","v":0}]
[18,null,{"$f":"入力シート!C42","v":0},null,null,null,{"$f":"入力シート!G42","v":0},null,null,null,{"$f":"入力シート!K42","v":0},null,null,null,null,{"$f":"入力シート!P42","v":0},null,null,null,null,null,null,{"$f":"入力シート!W42","v":0},null,null,null,null,null,null,null,null,{"$f":"入力シート!AF42","v":0},null,null,null,null,null,null,null,null,{"$f":"入力シート!AO42","v":0},null,{"$f":"入力シート!AQ42","v":0},null,null,{"$f":"入力シート!AT42","v":0},null,{"$f":"入力シート!AV42","v":0},null,{"$f":"入力シート!AX42","v":0},null,{"$f":"入力シート!AZ42","v":0},null,{"$f":"入力シート!BB42","v":0},null,{"$f":"入力シート!BD42","v":"A"},null,{"$f":"入力シート!BF42","v":0}]
[19,null,{"$f":"入力シート!C43","v":0},null,null,null,{"$f":"入力シート!G43","v":0},null,null,null,{"$f":"入力シート!K43","v":0},null,null,null,null,{"$f":"入力シート!P43","v":0},null,null,null,null,null,null,{"$f":"入力シート!W43","v":0},null,null,null,null,null,null,null,null,{"$f":"入力シート!AF43","v":0},null,null,null,null,null,null,null,null,{"$f":"入力シート!AO43","v":0},null,{"$f":"入力シート!AQ43","v":0},null,null,{"$f":"入力シート!AT43","v":0},null,{"$f":"入力シート!AV43","v":0},null,{"$f":"入力シート!AX43","v":0},null,{"$f":"入力シート!AZ43","v":0},null,{"$f":"入力シート!BB43","v":0},null,{"$f":"入力シート!BD43","v":"A"},null,{"$f":"入力シート!BF43","v":0}]
[20,null,{"$f":"入力シート!C44","v":0},null,null,null,{"$f":"入力シート!G44","v":0},null,null,null,{"$f":"入力シート!K44","v":0},null,null,null,null,{"$f":"入力シート!P44","v":0},null,null,null,null,null,null,{"$f":"入力シート!W44","v":0},null,null,null,null,null,null,null,null,{"$f":"入力シート!AF44","v":0},null,null,null,null,null,null,null,null,{"$f":"入力シート!AO44","v":0},null,{"$f":"入力シート!AQ44","v":0},null,null,{"$f":"入力シート!AT44","v":0},null,{"$f":"入力シート!AV44","v":0},null,{"$f":"入力シート!AX44","v":0},null,{"$f":"入力シート!AZ44","v":0},null,{"$f":"入力シート!BB44","v":0},null,{"$f":"入力シート!BD44","v":"A"},null,{"$f":"入力シート!BF44","v":0}]
[21,null,{"$f":"入力シート!C45","v":0},null,null,null,{"$f":"入力シート!G45","v":0},null,null,null,{"$f":"入力シート!K45","v":0},null,null,null,null,{"$f":"入力シート!P45","v":0},null,null,null,null,null,null,{"$f":"入力シート!W45","v":0},null,null,null,null,null,null,null,null,{"$f":"入力シート!AF45","v":0},null,null,null,null,null,null,null,null,{"$f":"入力シート!AO45","v":0},null,{"$f":"入力シート!AQ45","v":0},null,null,{"$f":"入力シート!AT45","v":0},null,{"$f":"入力シート!AV45","v":0},null,{"$f":"入力シート!AX45","v":0},null,{"$f":"入力シート!AZ45","v":0},null,{"$f":"入力シート!BB45","v":0},null,{"$f":"入力シート!BD45","v":"A"},null,{"$f":"入力シート!BF45","v":0}]
[22,null,{"$f":"入力シート!C46","v":0},null,null,null,{"$f":"入力シート!G46","v":0},null,null,null,{"$f":"入力シート!K46","v":0},null,null,null,null,{"$f":"入力シート!P46","v":0},null,null,null,null,null,null,{"$f":"入力シート!W46","v":0},null,null,null,null,null,null,null,null,{"$f":"入力シート!AF46","v":0},null,null,null,null,null,null,null,null,{"$f":"入力シート!AO46","v":0},null,{"$f":"入力シート!AQ46","v":0},null,null,{"$f":"入力シート!AT46","v":0},null,{"$f":"入力シート!AV46","v":0},null,{"$f":"入力シート!AX46","v":0},null,{"$f":"入力シート!AZ46","v":0},null,{"$f":"入力シート!BB46","v":0},null,{"$f":"入力シート!BD46","v":"A"},null,{"$f":"入力シート!BF46","v":0}]
[23,null,{"$f":"入力シート!C47","v":0},null,null,null,{"$f":"入力シート!G47","v":0},null,null,null,{"$f":"入力シート!K47","v":0},null,null,null,null,{"$f":"入力シート!P47","v":0},null,null,null,null,null,null,{"$f":"入力シート!W47","v":0},null,null,null,null,null,null,null,null,{"$f":"入力シート!AF47","v":0},null,null,null,null,null,null,null,null,{"$f":"入力シート!AO47","v":0},null,{"$f":"入力シート!AQ47","v":0},null,null,{"$f":"入力シート!AT47","v":0},null,{"$f":"入力シート!AV47","v":0},null,{"$f":"入力シート!AX47","v":0},null,{"$f":"入力シート!AZ47","v":0},null,{"$f":"入力シート!BB47","v":0},null,{"$f":"入力シート!BD47","v":"A"},null,{"$f":"入力シート!BF47","v":0}]
[24,null,{"$f":"入力シート!C48","v":0},null,null,null,{"$f":"入力シート!G48","v":0},null,null,null,{"$f":"入力シート!K48","v":0},null,null,null,null,{"$f":"入力シート!P48","v":0},null,null,null,null,null,null,{"$f":"入力シート!W48","v":0},null,null,null,null,null,null,null,null,{"$f":"入力シート!AF48","v":0},null,null,null,null,null,null,null,null,{"$f":"入力シート!AO48","v":0},null,{"$f":"入力シート!AQ48","v":0},null,null,{"$f":"入力シート!AT48","v":0},null,{"$f":"入力シート!AV48","v":0},null,{"$f":"入力シート!AX48","v":0},null,{"$f":"入力シート!AZ48","v":0},null,{"$f":"入力シート!BB48","v":0},null,{"$f":"入力シート!BD48","v":"A"},null,{"$f":"入力シート!BF48","v":0}]
[25,null,{"$f":"入力シート!C49","v":0},null,null,null,{"$f":"入力シート!G49","v":0},null,null,null,{"$f":"入力シート!K49","v":0},null,null,null,null,{"$f":"入力シート!P49","v":0},null,null,null,null,null,null,{"$f":"入力シート!W49","v":0},null,null,null,null,null,null,null,null,{"$f":"入力シート!AF49","v":0},null,null,null,null,null,null,null,null,{"$f":"入力シート!AO49","v":0},null,{"$f":"入力シート!AQ49","v":0},null,null,{"$f":"入力シート!AT49","v":0},null,{"$f":"入力シート!AV49","v":0},null,{"$f":"入力シート!AX49","v":0},null,{"$f":"入力シート!AZ49","v":0},null,{"$f":"入力シート!BB49","v":0},null,{"$f":"入力シート!BD49","v":"A"},null,{"$f":"入力シート!BF49","v":0}]
[26,null,{"$f":"入力シート!C50","v":0},null,null,null,{"$f":"入力シート!G50","v":0},null,null,null,{"$f":"入力シート!K50","v":0},null,null,null,null,{"$f":"入力シート!P50","v":0},null,null,null,null,null,null,{"$f":"入力シート!W50","v":0},null,null,null,null,null,null,null,null,{"$f":"入力シート!AF50","v":0},null,null,null,null,null,null,null,null,{"$f":"入力シート!AO50","v":0},null,{"$f":"入力シート!AQ50","v":0},null,null,{"$f":"入力シート!AT50","v":0},null,{"$f":"入力シート!AV50","v":0},null,{"$f":"入力シート!AX50","v":0},null,{"$f":"入力シート!AZ50","v":0},null,{"$f":"入力シート!BB50","v":0},null,{"$f":"入力シート!BD50","v":"A"},null,{"$f":"入力シート!BF50","v":0}]
[27,null,{"$f":"入力シート!C51","v":0},null,null,null,{"$f":"入力シート!G51","v":0},null,null,null,{"$f":"入力シート!K51","v":0},null,null,null,null,{"$f":"入力シート!P51","v":0},null,null,null,null,null,null,{"$f":"入力シート!W51","v":0},null,null,null,null,null,null,null,null,{"$f":"入力シート!AF51","v":0},null,null,null,null,null,null,null,null,{"$f":"入力シート!AO51","v":0},null,{"$f":"入力シート!AQ51","v":0},null,null,{"$f":"入力シート!AT51","v":0},null,{"$f":"入力シート!AV51","v":0},null,{"$f":"入力シート!AX51","v":0},null,{"$f":"入力シート!AZ51","v":0},null,{"$f":"入力シート!BB51","v":0},null,{"$f":"入力シート!BD51","v":"A"},null,{"$f":"入力シート!BF51","v":0}]
[28,null,{"$f":"入力シート!C52","v":0},null,null,null,{"$f":"入力シート!G52","v":0},null,null,null,{"$f":"入力シート!K52","v":0},null,null,null,null,{"$f":"入力シート!P52","v":0},null,null,null,null,null,null,{"$f":"入力シート!W52","v":0},null,null,null,null,null,null,null,null,{"$f":"入力シート!AF52","v":0},null,null,null,null,null,null,null,null,{"$f":"入力シート!AO52","v":0},null,{"$f":"入力シート!AQ52","v":0},null,null,{"$f":"入力シート!AT52","v":0},null,{"$f":"入力シート!AV52","v":0},null,{"$f":"入力シート!AX52","v":0},null,{"$f":"入力シート!AZ52","v":0},null,{"$f":"入力シート!BB52","v":0},null,{"$f":"入力シート!BD52","v":"A"},null,{"$f":"入力シート!BF52","v":0}]
[29,null,{"$f":"入力シート!C53","v":0},null,null,null,{"$f":"入力シート!G53","v":0},null,null,null,{"$f":"入力シート!K53","v":0},null,null,null,null,{"$f":"入力シート!P53","v":0},null,null,null,null,null,null,{"$f":"入力シート!W53","v":0},null,null,null,null,null,null,null,null,{"$f":"入力シート!AF53","v":0},null,null,null,null,null,null,null,null,{"$f":"入力シート!AO53","v":0},null,{"$f":"入力シート!AQ53","v":0},null,null,{"$f":"入力シート!AT53","v":0},null,{"$f":"入力シート!AV53","v":0},null,{"$f":"入力シート!AX53","v":0},null,{"$f":"入力シート!AZ53","v":0},null,{"$f":"入力シート!BB53","v":0},null,{"$f":"入力シート!BD53","v":"A"},null,{"$f":"入力シート!BF53","v":0}]
[30,null,{"$f":"入力シート!C54","v":0},null,null,null,{"$f":"入力シート!G54","v":0},null,null,null,{"$f":"入力シート!K54","v":0},null,null,null,null,{"$f":"入力シート!P54","v":0},null,null,null,null,null,null,{"$f":"入力シート!W54","v":0},null,null,null,null,null,null,null,null,{"$f":"入力シート!AF54","v":0},null,null,null,null,null,null,null,null,{"$f":"入力シート!AO54","v":0},null,{"$f":"入力シート!AQ54","v":0},null,null,{"$f":"入力シート!AT54","v":0},null,{"$f":"入力シート!AV54","v":0},null,{"$f":"入力シート!AX54","v":0},null,{"$f":"入力シート!AZ54","v":0},null,{"$f":"入力シート!BB54","v":0},null,{"$f":"入力シート!BD54","v":"A"},null,{"$f":"入力シート!BF54","v":0}]
[31,null,{"$f":"入力シート!C55","v":0},null,null,null,{"$f":"入力シート!G55","v":0},null,null,null,{"$f":"入力シート!K55","v":0},null,null,null,null,{"$f":"入力シート!P55","v":0},null,null,null,null,null,null,{"$f":"入力シート!W55","v":0},null,null,null,null,null,null,null,null,{"$f":"入力シート!AF55","v":0},null,null,null,null,null,null,null,null,{"$f":"入力シート!AO55","v":0},null,{"$f":"入力シート!AQ55","v":0},null,null,{"$f":"入力シート!AT55","v":0},null,{"$f":"入力シート!AV55","v":0},null,{"$f":"入力シート!AX55","v":0},null,{"$f":"入力シート!AZ55","v":0},null,{"$f":"入力シート!BB55","v":0},null,{"$f":"入力シート!BD55","v":"A"},null,{"$f":"入力シート!BF55","v":0}]
[32,null,{"$f":"入力シート!C56","v":0},null,null,null,{"$f":"入力シート!G56","v":0},null,null,null,{"$f":"入力シート!K56","v":0},null,null,null,null,{"$f":"入力シート!P56","v":0},null,null,null,null,null,null,{"$f":"入力シート!W56","v":0},null,null,null,null,null,null,null,null,{"$f":"入力シート!AF56","v":0},null,null,null,null,null,null,null,null,{"$f":"入力シート!AO56","v":0},null,{"$f":"入力シート!AQ56","v":0},null,null,{"$f":"入力シート!AT56","v":0},null,{"$f":"入力シート!AV56","v":0},null,{"$f":"入力シート!AX56","v":0},null,{"$f":"入力シート!AZ56","v":0},null,{"$f":"入力シート!BB56","v":0},null,{"$f":"入力シート!BD56","v":"A"},null,{"$f":"入力シート!BF56","v":0}]
[33,null,{"$f":"入力シート!C57","v":0},null,null,null,{"$f":"入力シート!G57","v":0},null,null,null,{"$f":"入力シート!K57","v":0},null,null,null,null,{"$f":"入力シート!P57","v":0},null,null,null,null,null,null,{"$f":"入力シート!W57","v":0},null,null,null,null,null,null,null,null,{"$f":"入力シート!AF57","v":0},null,null,null,null,null,null,null,null,{"$f":"入力シート!AO57","v":0},null,{"$f":"入力シート!AQ57","v":0},null,null,{"$f":"入力シート!AT57","v":0},null,{"$f":"入力シート!AV57","v":0},null,{"$f":"入力シート!AX57","v":0},null,{"$f":"入力シート!AZ57","v":0},null,{"$f":"入力シート!BB57","v":0},null,{"$f":"入力シート!BD57","v":"A"},null,{"$f":"入力シート!BF57","v":0}]
[34,null,{"$f":"入力シート!C58","v":0},null,null,null,{"$f":"入力シート!G58","v":0},null,null,null,{"$f":"入力シート!K58","v":0},null,null,null,null,{"$f":"入力シート!P58","v":0},null,null,null,null,null,null,{"$f":"入力シート!W58","v":0},null,null,null,null,null,null,null,null,{"$f":"入力シート!AF58","v":0},null,null,null,null,null,null,null,null,{"$f":"入力シート!AO58","v":0},null,{"$f":"入力シート!AQ58","v":0},null,null,{"$f":"入力シート!AT58","v":0},null,{"$f":"入力シート!AV58","v":0},null,{"$f":"入力シート!AX58","v":0},null,{"$f":"入力シート!AZ58","v":0},null,{"$f":"入力シート!BB58","v":0},null,{"$f":"入力シート!BD58","v":"A"},null,{"$f":"入力シート!BF58","v":0}]
[35,null,{"$f":"入力シート!C59","v":0},null,null,null,{"$f":"入力シート!G59","v":0},null,null,null,{"$f":"入力シート!K59","v":0},null,null,null,null,{"$f":"入力シート!P59","v":0},null,null,null,null,null,null,{"$f":"入力シート!W59","v":0},null,null,null,null,null,null,null,null,{"$f":"入力シート!AF59","v":0},null,null,null,null,null,null,null,null,{"$f":"入力シート!AO59","v":0},null,{"$f":"入力シート!AQ59","v":0},null,null,{"$f":"入力シート!AT59","v":0},null,{"$f":"入力シート!AV59","v":0},null,{"$f":"入力シート!AX59","v":0},null,{"$f":"入力シート!AZ59","v":0},null,{"$f":"入力シート!BB59","v":0},null,{"$f":"入力シート!BD59","v":"A"},null,{"$f":"入力シート!BF59","v":0}]
[36,null,{"$f":"入力シート!C60","v":0},null,null,null,{"$f":"入力シート!G60","v":0},null,null,null,{"$f":"入力シート!K60","v":0},null,null,null,null,{"$f":"入力シート!P60","v":0},null,null,null,null,null,null,{"$f":"入力シート!W60","v":0},null,null,null,null,null,null,null,null,{"$f":"入力シート!AF60","v":0},null,null,null,null,null,null,null,null,{"$f":"入力シート!AO60","v":0},null,{"$f":"入力シート!AQ60","v":0},null,null,{"$f":"入力シート!AT60","v":0},null,{"$f":"入力シート!AV60","v":0},null,{"$f":"入力シート!AX60","v":0},null,{"$f":"入力シート!AZ60","v":0},null,{"$f":"入力シート!BB60","v":0},null,{"$f":"入力シート!BD60","v":"A"},null,{"$f":"入力シート!BF60","v":0}]
[37,null,{"$f":"入力シート!C61","v":0},null,null,null,{"$f":"入力シート!G61","v":0},null,null,null,{"$f":"入力シート!K61","v":0},null,null,null,null,{"$f":"入力シート!P61","v":0},null,null,null,null,null,null,{"$f":"入力シート!W61","v":0},null,null,null,null,null,null,null,null,{"$f":"入力シート!AF61","v":0},null,null,null,null,null,null,null,null,{"$f":"入力シート!AO61","v":0},null,{"$f":"入力シート!AQ61","v":0},null,null,{"$f":"入力シート!AT61","v":0},null,{"$f":"入力シート!AV61","v":0},null,{"$f":"入力シート!AX61","v":0},null,{"$f":"入力シート!AZ61","v":0},null,{"$f":"入力シート!BB61","v":0},null,{"$f":"入力シート!BD61","v":"A"},null,{"$f":"入力シート!BF61","v":0}]
[38,null,{"$f":"入力シート!C62","v":0},null,null,null,{"$f":"入力シート!G62","v":0},null,null,null,{"$f":"入力シート!K62","v":0},null,null,null,null,{"$f":"入力シート!P62","v":0},null,null,null,null,null,null,{"$f":"入力シート!W62","v":0},null,null,null,null,null,null,null,null,{"$f":"入力シート!AF62","v":0},null,null,null,null,null,null,null,null,{"$f":"入力シート!AO62","v":0},null,{"$f":"入力シート!AQ62","v":0},null,null,{"$f":"入力シート!AT62","v":0},null,{"$f":"入力シート!AV62","v":0},null,{"$f":"入力シート!AX62","v":0},null,{"$f":"入力シート!AZ62","v":0},null,{"$f":"入力シート!BB62","v":0},null,{"$f":"入力シート!BD62","v":"A"},null,{"$f":"入力シート!BF62","v":0}]
[39,null,{"$f":"入力シート!C63","v":0},null,null,null,{"$f":"入力シート!G63","v":0},null,null,null,{"$f":"入力シート!K63","v":0},null,null,null,null,{"$f":"入力シート!P63","v":0},null,null,null,null,null,null,{"$f":"入力シート!W63","v":0},null,null,null,null,null,null,null,null,{"$f":"入力シート!AF63","v":0},null,null,null,null,null,null,null,null,{"$f":"入力シート!AO63","v":0},null,{"$f":"入力シート!AQ63","v":0},null,null,{"$f":"入力シート!AT63","v":0},null,{"$f":"入力シート!AV63","v":0},null,{"$f":"入力シート!AX63","v":0},null,{"$f":"入力シート!AZ63","v":0},null,{"$f":"入力シート!BB63","v":0},null,{"$f":"入力シート!BD63","v":"A"},null,{"$f":"入力シート!BF63","v":0}]
[40,null,{"$f":"入力シート!C64","v":0},null,null,null,{"$f":"入力シート!G64","v":0},null,null,null,{"$f":"入力シート!K64","v":0},null,null,null,null,{"$f":"入力シート!P64","v":0},null,null,null,null,null,null,{"$f":"入力シート!W64","v":0},null,null,null,null,null,null,null,null,{"$f":"入力シート!AF64","v":0},null,null,null,null,null,null,null,null,{"$f":"入力シート!AO64","v":0},null,{"$f":"入力シート!AQ64","v":0},null,null,{"$f":"入力シート!AT64","v":0},null,{"$f":"入力シート!AV64","v":0},null,{"$f":"入力シート!AX64","v":0},null,{"$f":"入力シート!AZ64","v":0},null,{"$f":"入力シート!BB64","v":0},null,{"$f":"入力シート!BD64","v":"A"},null,{"$f":"入力シート!BF64","v":0}]
[41,null,{"$f":"入力シート!C65","v":0},null,null,null,{"$f":"入力シート!G65","v":0},null,null,null,{"$f":"入力シート!K65","v":0},null,null,null,null,{"$f":"入力シート!P65","v":0},null,null,null,null,null,null,{"$f":"入力シート!W65","v":0},null,null,null,null,null,null,null,null,{"$f":"入力シート!AF65","v":0},null,null,null,null,null,null,null,null,{"$f":"入力シート!AO65","v":0},null,{"$f":"入力シート!AQ65","v":0},null,null,{"$f":"入力シート!AT65","v":0},null,{"$f":"入力シート!AV65","v":0},null,{"$f":"入力シート!AX65","v":0},null,{"$f":"入力シート!AZ65","v":0},null,{"$f":"入力シート!BB65","v":0},null,{"$f":"入力シート!BD65","v":"A"},null,{"$f":"入力シート!BF65","v":0}]
[42,null,{"$f":"入力シート!C66","v":0},null,null,null,{"$f":"入力シート!G66","v":0},null,null,null,{"$f":"入力シート!K66","v":0},null,null,null,null,{"$f":"入力シート!P66","v":0},null,null,null,null,null,null,{"$f":"入力シート!W66","v":0},null,null,null,null,null,null,null,null,{"$f":"入力シート!AF66","v":0},null,null,null,null,null,null,null,null,{"$f":"入力シート!AO66","v":0},null,{"$f":"入力シート!AQ66","v":0},null,null,{"$f":"入力シート!AT66","v":0},null,{"$f":"入力シート!AV66","v":0},null,{"$f":"入力シート!AX66","v":0},null,{"$f":"入力シート!AZ66","v":0},null,{"$f":"入力シート!BB66","v":0},null,{"$f":"入力シート!BD66","v":"A"},null,{"$f":"入力シート!BF66","v":0}]
[43,null,{"$f":"入力シート!C67","v":0},null,null,null,{"$f":"入力シート!G67","v":0},null,null,null,{"$f":"入力シート!K67","v":0},null,null,null,null,{"$f":"入力シート!P67","v":0},null,null,null,null,null,null,{"$f":"入力シート!W67","v":0},null,null,null,null,null,null,null,null,{"$f":"入力シート!AF67","v":0},null,null,null,null,null,null,null,null,{"$f":"入力シート!AO67","v":0},null,{"$f":"入力シート!AQ67","v":0},null,null,{"$f":"入力シート!AT67","v":0},null,{"$f":"入力シート!AV67","v":0},null,{"$f":"入力シート!AX67","v":0},null,{"$f":"入力シート!AZ67","v":0},null,{"$f":"入力シート!BB67","v":0},null,{"$f":"入力シート!BD67","v":"A"},null,{"$f":"入力シート!BF67","v":0}]
[44,null,{"$f":"入力シート!C68","v":0},null,null,null,{"$f":"入力シート!G68","v":0},null,null,null,{"$f":"入力シート!K68","v":0},null,null,null,null,{"$f":"入力シート!P68","v":0},null,null,null,null,null,null,{"$f":"入力シート!W68","v":0},null,null,null,null,null,null,null,null,{"$f":"入力シート!AF68","v":0},null,null,null,null,null,null,null,null,{"$f":"入力シート!AO68","v":0},null,{"$f":"入力シート!AQ68","v":0},null,null,{"$f":"入力シート!AT68","v":0},null,{"$f":"入力シート!AV68","v":0},null,{"$f":"入力シート!AX68","v":0},null,{"$f":"入力シート!AZ68","v":0},null,{"$f":"入力シート!BB68","v":0},null,{"$f":"入力シート!BD68","v":"A"},null,{"$f":"入力シート!BF68","v":0}]
[45,null,{"$f":"入力シート!C69","v":0},null,null,null,{"$f":"入力シート!G69","v":0},null,null,null,{"$f":"入力シート!K69","v":0},null,null,null,null,{"$f":"入力シート!P69","v":0},null,null,null,null,null,null,{"$f":"入力シート!W69","v":0},null,null,null,null,null,null,null,null,{"$f":"入力シート!AF69","v":0},null,null,null,null,null,null,null,null,{"$f":"入力シート!AO69","v":0},null,{"$f":"入力シート!AQ69","v":0},null,null,{"$f":"入力シート!AT69","v":0},null,{"$f":"入力シート!AV69","v":0},null,{"$f":"入力シート!AX69","v":0},null,{"$f":"入力シート!AZ69","v":0},null,{"$f":"入力シート!BB69","v":0},null,{"$f":"入力シート!BD69","v":"A"},null,{"$f":"入力シート!BF69","v":0}]
[46,null,{"$f":"入力シート!C70","v":0},null,null,null,{"$f":"入力シート!G70","v":0},null,null,null,{"$f":"入力シート!K70","v":0},null,null,null,null,{"$f":"入力シート!P70","v":0},null,null,null,null,null,null,{"$f":"入力シート!W70","v":0},null,null,null,null,null,null,null,null,{"$f":"入力シート!AF70","v":0},null,null,null,null,null,null,null,null,{"$f":"入力シート!AO70","v":0},null,{"$f":"入力シート!AQ70","v":0},null,null,{"$f":"入力シート!AT70","v":0},null,{"$f":"入力シート!AV70","v":0},null,{"$f":"入力シート!AX70","v":0},null,{"$f":"入力シート!AZ70","v":0},null,{"$f":"入力シート!BB70","v":0},null,{"$f":"入力シート!BD70","v":"A"},null,{"$f":"入力シート!BF70","v":0}]
[47,null,{"$f":"入力シート!C71","v":0},null,null,null,{"$f":"入力シート!G71","v":0},null,null,null,{"$f":"入力シート!K71","v":0},null,null,null,null,{"$f":"入力シート!P71","v":0},null,null,null,null,null,null,{"$f":"入力シート!W71","v":0},null,null,null,null,null,null,null,null,{"$f":"入力シート!AF71","v":0},null,null,null,null,null,null,null,null,{"$f":"入力シート!AO71","v":0},null,{"$f":"入力シート!AQ71","v":0},null,null,{"$f":"入力シート!AT71","v":0},null,{"$f":"入力シート!AV71","v":0},null,{"$f":"入力シート!AX71","v":0},null,{"$f":"入力シート!AZ71","v":0},null,{"$f":"入力シート!BB71","v":0},null,{"$f":"入力シート!BD71","v":"A"},null,{"$f":"入力シート!BF71","v":0}]
[48,null,{"$f":"入力シート!C72","v":0},null,null,null,{"$f":"入力シート!G72","v":0},null,null,null,{"$f":"入力シート!K72","v":0},null,null,null,null,{"$f":"入力シート!P72","v":0},null,null,null,null,null,null,{"$f":"入力シート!W72","v":0},null,null,null,null,null,null,null,null,{"$f":"入力シート!AF72","v":0},null,null,null,null,null,null,null,null,{"$f":"入力シート!AO72","v":0},null,{"$f":"入力シート!AQ72","v":0},null,null,{"$f":"入力シート!AT72","v":0},null,{"$f":"入力シート!AV72","v":0},null,{"$f":"入力シート!AX72","v":0},null,{"$f":"入力シート!AZ72","v":0},null,{"$f":"入力シート!BB72","v":0},null,{"$f":"入力シート!BD72","v":"A"},null,{"$f":"入力シート!BF72","v":0}]
[49,null,{"$f":"入力シート!C73","v":0},null,null,null,{"$f":"入力シート!G73","v":0},null,null,null,{"$f":"入力シート!K73","v":0},null,null,null,null,{"$f":"入力シート!P73","v":0},null,null,null,null,null,null,{"$f":"入力シート!W73","v":0},null,null,null,null,null,null,null,null,{"$f":"入力シート!AF73","v":0},null,null,null,null,null,null,null,null,{"$f":"入力シート!AO73","v":0},null,{"$f":"入力シート!AQ73","v":0},null,null,{"$f":"入力シート!AT73","v":0},null,{"$f":"入力シート!AV73","v":0},null,{"$f":"入力シート!AX73","v":0},null,{"$f":"入力シート!AZ73","v":0},null,{"$f":"入力シート!BB73","v":0},null,{"$f":"入力シート!BD73","v":"A"},null,{"$f":"入力シート!BF73","v":0}]
[50,null,{"$f":"入力シート!C74","v":0},null,null,null,{"$f":"入力シート!G74","v":0},null,null,null,{"$f":"入力シート!K74","v":0},null,null,null,null,{"$f":"入力シート!P74","v":0},null,null,null,null,null,null,{"$f":"入力シート!W74","v":0},null,null,null,null,null,null,null,null,{"$f":"入力シート!AF74","v":0},null,null,null,null,null,null,null,null,{"$f":"入力シート!AO74","v":0},null,{"$f":"入力シート!AQ74","v":0},null,null,{"$f":"入力シート!AT74","v":0},null,{"$f":"入力シート!AV74","v":0},null,{"$f":"入力シート!AX74","v":0},null,{"$f":"入力シート!AZ74","v":0},null,{"$f":"入力シート!BB74","v":0},null,{"$f":"入力シート!BD74","v":"A"},null,{"$f":"入力シート!BF74","v":0}]
[51,null,{"$f":"入力シート!C75","v":0},null,null,null,{"$f":"入力シート!G75","v":0},null,null,null,{"$f":"入力シート!K75","v":0},null,null,null,null,{"$f":"入力シート!P75","v":0},null,null,null,null,null,null,{"$f":"入力シート!W75","v":0},null,null,null,null,null,null,null,null,{"$f":"入力シート!AF75","v":0},null,null,null,null,null,null,null,null,{"$f":"入力シート!AO75","v":0},null,{"$f":"入力シート!AQ75","v":0},null,null,{"$f":"入力シート!AT75","v":0},null,{"$f":"入力シート!AV75","v":0},null,{"$f":"入力シート!AX75","v":0},null,{"$f":"入力シート!AZ75","v":0},null,{"$f":"入力シート!BB75","v":0},null,{"$f":"入力シート!BD75","v":"A"},null,{"$f":"入力シート!BF75","v":0}]
[52,null,{"$f":"入力シート!C76","v":0},null,null,null,{"$f":"入力シート!G76","v":0},null,null,null,{"$f":"入力シート!K76","v":0},null,null,null,null,{"$f":"入力シート!P76","v":0},null,null,null,null,null,null,{"$f":"入力シート!W76","v":0},null,null,null,null,null,null,null,null,{"$f":"入力シート!AF76","v":0},null,null,null,null,null,null,null,null,{"$f":"入力シート!AO76","v":0},null,{"$f":"入力シート!AQ76","v":0},null,null,{"$f":"入力シート!AT76","v":0},null,{"$f":"入力シート!AV76","v":0},null,{"$f":"入力シート!AX76","v":0},null,{"$f":"入力シート!AZ76","v":0},null,{"$f":"入力シート!BB76","v":0},null,{"$f":"入力シート!BD76","v":"A"},null,{"$f":"入力シート!BF76","v":0}]
[53,null,{"$f":"入力シート!C77","v":0},null,null,null,{"$f":"入力シート!G77","v":0},null,null,null,{"$f":"入力シート!K77","v":0},null,null,null,null,{"$f":"入力シート!P77","v":0},null,null,null,null,null,null,{"$f":"入力シート!W77","v":0},null,null,null,null,null,null,null,null,{"$f":"入力シート!AF77","v":0},null,null,null,null,null,null,null,null,{"$f":"入力シート!AO77","v":0},null,{"$f":"入力シート!AQ77","v":0},null,null,{"$f":"入力シート!AT77","v":0},null,{"$f":"入力シート!AV77","v":0},null,{"$f":"入力シート!AX77","v":0},null,{"$f":"入力シート!AZ77","v":0},null,{"$f":"入力シート!BB77","v":0},null,{"$f":"入力シート!BD77","v":"A"},null,{"$f":"入力シート!BF77","v":0}]
[54,null,{"$f":"入力シート!C78","v":0},null,null,null,{"$f":"入力シート!G78","v":0},null,null,null,{"$f":"入力シート!K78","v":0},null,null,null,null,{"$f":"入力シート!P78","v":0},null,null,null,null,null,null,{"$f":"入力シート!W78","v":0},null,null,null,null,null,null,null,null,{"$f":"入力シート!AF78","v":0},null,null,null,null,null,null,null,null,{"$f":"入力シート!AO78","v":0},null,{"$f":"入力シート!AQ78","v":0},null,null,{"$f":"入力シート!AT78","v":0},null,{"$f":"入力シート!AV78","v":0},null,{"$f":"入力シート!AX78","v":0},null,{"$f":"入力シート!AZ78","v":0},null,{"$f":"入力シート!BB78","v":0},null,{"$f":"入力シート!BD78","v":"A"},null,{"$f":"入力シート!BF78","v":0}]
[55,null,{"$f":"入力シート!C79","v":0},null,null,null,{"$f":"入力シート!G79","v":0},null,null,null,{"$f":"入力シート!K79","v":0},null,null,null,null,{"$f":"入力シート!P79","v":0},null,null,null,null,null,null,{"$f":"入力シート!W79","v":0},null,null,null,null,null,null,null,null,{"$f":"入力シート!AF79","v":0},null,null,null,null,null,null,null,null,{"$f":"入力シート!AO79","v":0},null,{"$f":"入力シート!AQ79","v":0},null,null,{"$f":"入力シート!AT79","v":0},null,{"$f":"入力シート!AV79","v":0},null,{"$f":"入力シート!AX79","v":0},null,{"$f":"入力シート!AZ79","v":0},null,{"$f":"入力シート!BB79","v":0},null,{"$f":"入力シート!BD79","v":"A"},null,{"$f":"入力シート!BF79","v":0}]
[56,null,{"$f":"入力シート!C80","v":0},null,null,null,{"$f":"入力シート!G80","v":0},null,null,null,{"$f":"入力シート!K80","v":0},null,null,null,null,{"$f":"入力シート!P80","v":0},null,null,null,null,null,null,{"$f":"入力シート!W80","v":0},null,null,null,null,null,null,null,null,{"$f":"入力シート!AF80","v":0},null,null,null,null,null,null,null,null,{"$f":"入力シート!AO80","v":0},null,{"$f":"入力シート!AQ80","v":0},null,null,{"$f":"入力シート!AT80","v":0},null,{"$f":"入力シート!AV80","v":0},null,{"$f":"入力シート!AX80","v":0},null,{"$f":"入力シート!AZ80","v":0},null,{"$f":"入力シート!BB80","v":0},null,{"$f":"入力シート!BD80","v":"A"},null,{"$f":"入力シート!BF80","v":0}]
[57,null,{"$f":"入力シート!C81","v":0},null,null,null,{"$f":"入力シート!G81","v":0},null,null,null,{"$f":"入力シート!K81","v":0},null,null,null,null,{"$f":"入力シート!P81","v":0},null,null,null,null,null,null,{"$f":"入力シート!W81","v":0},null,null,null,null,null,null,null,null,{"$f":"入力シート!AF81","v":0},null,null,null,null,null,null,null,null,{"$f":"入力シート!AO81","v":0},null,{"$f":"入力シート!AQ81","v":0},null,null,{"$f":"入力シート!AT81","v":0},null,{"$f":"入力シート!AV81","v":0},null,{"$f":"入力シート!AX81","v":0},null,{"$f":"入力シート!AZ81","v":0},null,{"$f":"入力シート!BB81","v":0},null,{"$f":"入力シート!BD81","v":"A"},null,{"$f":"入力シート!BF81","v":0}]
[58,null,{"$f":"入力シート!C82","v":0},null,null,null,{"$f":"入力シート!G82","v":0},null,null,null,{"$f":"入力シート!K82","v":0},null,null,null,null,{"$f":"入力シート!P82","v":0},null,null,null,null,null,null,{"$f":"入力シート!W82","v":0},null,null,null,null,null,null,null,null,{"$f":"入力シート!AF82","v":0},null,null,null,null,null,null,null,null,{"$f":"入力シート!AO82","v":0},null,{"$f":"入力シート!AQ82","v":0},null,null,{"$f":"入力シート!AT82","v":0},null,{"$f":"入力シート!AV82","v":0},null,{"$f":"入力シート!AX82","v":0},null,{"$f":"入力シート!AZ82","v":0},null,{"$f":"入力シート!BB82","v":0},null,{"$f":"入力シート!BD82","v":"A"},null,{"$f":"入力シート!BF82","v":0}]
[59,null,{"$f":"入力シート!C83","v":0},null,null,null,{"$f":"入力シート!G83","v":0},null,null,null,{"$f":"入力シート!K83","v":0},null,null,null,null,{"$f":"入力シート!P83","v":0},null,null,null,null,null,null,{"$f":"入力シート!W83","v":0},null,null,null,null,null,null,null,null,{"$f":"入力シート!AF83","v":0},null,null,null,null,null,null,null,null,{"$f":"入力シート!AO83","v":0},null,{"$f":"入力シート!AQ83","v":0},null,null,{"$f":"入力シート!AT83","v":0},null,{"$f":"入力シート!AV83","v":0},null,{"$f":"入力シート!AX83","v":0},null,{"$f":"入力シート!AZ83","v":0},null,{"$f":"入力シート!BB83","v":0},null,{"$f":"入力シート!BD83","v":"A"},null,{"$f":"入力シート!BF83","v":0}]
[60,null,{"$f":"入力シート!C84","v":0},null,null,null,{"$f":"入力シート!G84","v":0},null,null,null,{"$f":"入力シート!K84","v":0},null,null,null,null,{"$f":"入力シート!P84","v":0},null,null,null,null,null,null,{"$f":"入力シート!W84","v":0},null,null,null,null,null,null,null,null,{"$f":"入力シート!AF84","v":0},null,null,null,null,null,null,null,null,{"$f":"入力シート!AO84","v":0},null,{"$f":"入力シート!AQ84","v":0},null,null,{"$f":"入力シート!AT84","v":0},null,{"$f":"入力シート!AV84","v":0},null,{"$f":"入力シート!AX84","v":0},null,{"$f":"入力シート!AZ84","v":0},null,{"$f":"入力シート!BB84","v":0},null,{"$f":"入力シート!BD84","v":"A"},null,{"$f":"入力シート!BF84","v":0}]
[61,null,{"$f":"入力シート!C85","v":0},null,null,null,{"$f":"入力シート!G85","v":0},null,null,null,{"$f":"入力シート!K85","v":0},null,null,null,null,{"$f":"入力シート!P85","v":0},null,null,null,null,null,null,{"$f":"入力シート!W85","v":0},null,null,null,null,null,null,null,null,{"$f":"入力シート!AF85","v":0},null,null,null,null,null,null,null,null,{"$f":"入力シート!AO85","v":0},null,{"$f":"入力シート!AQ85","v":0},null,null,{"$f":"入力シート!AT85","v":0},null,{"$f":"入力シート!AV85","v":0},null,{"$f":"入力シート!AX85","v":0},null,{"$f":"入力シート!AZ85","v":0},null,{"$f":"入力シート!BB85","v":0},null,{"$f":"入力シート!BD85","v":"A"},null,{"$f":"入力シート!BF85","v":0}]
[62,null,{"$f":"入力シート!C86","v":0},null,null,null,{"$f":"入力シート!G86","v":0},null,null,null,{"$f":"入力シート!K86","v":0},null,null,null,null,{"$f":"入力シート!P86","v":0},null,null,null,null,null,null,{"$f":"入力シート!W86","v":0},null,null,null,null,null,null,null,null,{"$f":"入力シート!AF86","v":0},null,null,null,null,null,null,null,null,{"$f":"入力シート!AO86","v":0},null,{"$f":"入力シート!AQ86","v":0},null,null,{"$f":"入力シート!AT86","v":0},null,{"$f":"入力シート!AV86","v":0},null,{"$f":"入力シート!AX86","v":0},null,{"$f":"入力シート!AZ86","v":0},null,{"$f":"入力シート!BB86","v":0},null,{"$f":"入力シート!BD86","v":"A"},null,{"$f":"入力シート!BF86","v":0}]
[63,null,{"$f":"入力シート!C87","v":0},null,null,null,{"$f":"入力シート!G87","v":0},null,null,null,{"$f":"入力シート!K87","v":0},null,null,null,null,{"$f":"入力シート!P87","v":0},null,null,null,null,null,null,{"$f":"入力シート!W87","v":0},null,null,null,null,null,null,null,null,{"$f":"入力シート!AF87","v":0},null,null,null,null,null,null,null,null,{"$f":"入力シート!AO87","v":0},null,{"$f":"入力シート!AQ87","v":0},null,null,{"$f":"入力シート!AT87","v":0},null,{"$f":"入力シート!AV87","v":0},null,{"$f":"入力シート!AX87","v":0},null,{"$f":"入力シート!AZ87","v":0},null,{"$f":"入力シート!BB87","v":0},null,{"$f":"入力シート!BD87","v":"A"},null,{"$f":"入力シート!BF87","v":0}]
[64,null,{"$f":"入力シート!C88","v":0},null,null,null,{"$f":"入力シート!G88","v":0},null,null,null,{"$f":"入力シート!K88","v":0},null,null,null,null,{"$f":"入力シート!P88","v":0},null,null,null,null,null,null,{"$f":"入力シート!W88","v":0},null,null,null,null,null,null,null,null,{"$f":"入力シート!AF88","v":0},null,null,null,null,null,null,null,null,{"$f":"入力シート!AO88","v":0},null,{"$f":"入力シート!AQ88","v":0},null,null,{"$f":"入力シート!AT88","v":0},null,{"$f":"入力シート!AV88","v":0},null,{"$f":"入力シート!AX88","v":0},null,{"$f":"入力シート!AZ88","v":0},null,{"$f":"入力シート!BB88","v":0},null,{"$f":"入力シート!BD88","v":"A"},null,{"$f":"入力シート!BF88","v":0}]
[65,null,{"$f":"入力シート!C89","v":0},null,null,null,{"$f":"入力シート!G89","v":0},null,null,null,{"$f":"入力シート!K89","v":0},null,null,null,null,{"$f":"入力シート!P89","v":0},null,null,null,null,null,null,{"$f":"入力シート!W89","v":0},null,null,null,null,null,null,null,null,{"$f":"入力シート!AF89","v":0},null,null,null,null,null,null,null,null,{"$f":"入力シート!AO89","v":0},null,{"$f":"入力シート!AQ89","v":0},null,null,{"$f":"入力シート!AT89","v":0},null,{"$f":"入力シート!AV89","v":0},null,{"$f":"入力シート!AX89","v":0},null,{"$f":"入力シート!AZ89","v":0},null,{"$f":"入力シート!BB89","v":0},null,{"$f":"入力シート!BD89","v":"A"},null,{"$f":"入力シート!BF89","v":0}]
[66,null,{"$f":"入力シート!C90","v":0},null,null,null,{"$f":"入力シート!G90","v":0},null,null,null,{"$f":"入力シート!K90","v":0},null,null,null,null,{"$f":"入力シート!P90","v":0},null,null,null,null,null,null,{"$f":"入力シート!W90","v":0},null,null,null,null,null,null,null,null,{"$f":"入力シート!AF90","v":0},null,null,null,null,null,null,null,null,{"$f":"入力シート!AO90","v":0},null,{"$f":"入力シート!AQ90","v":0},null,null,{"$f":"入力シート!AT90","v":0},null,{"$f":"入力シート!AV90","v":0},null,{"$f":"入力シート!AX90","v":0},null,{"$f":"入力シート!AZ90","v":0},null,{"$f":"入力シート!BB90","v":0},null,{"$f":"入力シート!BD90","v":"A"},null,{"$f":"入力シート!BF90","v":0}]
[67,null,{"$f":"入力シート!C91","v":0},null,null,null,{"$f":"入力シート!G91","v":0},null,null,null,{"$f":"入力シート!K91","v":0},null,null,null,null,{"$f":"入力シート!P91","v":0},null,null,null,null,null,null,{"$f":"入力シート!W91","v":0},null,null,null,null,null,null,null,null,{"$f":"入力シート!AF91","v":0},null,null,null,null,null,null,null,null,{"$f":"入力シート!AO91","v":0},null,{"$f":"入力シート!AQ91","v":0},null,null,{"$f":"入力シート!AT91","v":0},null,{"$f":"入力シート!AV91","v":0},null,{"$f":"入力シート!AX91","v":0},null,{"$f":"入力シート!AZ91","v":0},null,{"$f":"入力シート!BB91","v":0},null,{"$f":"入力シート!BD91","v":"A"},null,{"$f":"入力シート!BF91","v":0}]
[68,null,{"$f":"入力シート!C92","v":0},null,null,null,{"$f":"入力シート!G92","v":0},null,null,null,{"$f":"入力シート!K92","v":0},null,null,null,null,{"$f":"入力シート!P92","v":0},null,null,null,null,null,null,{"$f":"入力シート!W92","v":0},null,null,null,null,null,null,null,null,{"$f":"入力シート!AF92","v":0},null,null,null,null,null,null,null,null,{"$f":"入力シート!AO92","v":0},null,{"$f":"入力シート!AQ92","v":0},null,null,{"$f":"入力シート!AT92","v":0},null,{"$f":"入力シート!AV92","v":0},null,{"$f":"入力シート!AX92","v":0},null,{"$f":"入力シート!AZ92","v":0},null,{"$f":"入力シート!BB92","v":0},null,{"$f":"入力シート!BD92","v":"A"},null,{"$f":"入力シート!BF92","v":0}]
[69,null,{"$f":"入力シート!C93","v":0},null,null,null,{"$f":"入力シート!G93","v":0},null,null,null,{"$f":"入力シート!K93","v":0},null,null,null,null,{"$f":"入力シート!P93","v":0},null,null,null,null,null,null,{"$f":"入力シート!W93","v":0},null,null,null,null,null,null,null,null,{"$f":"入力シート!AF93","v":0},null,null,null,null,null,null,null,null,{"$f":"入力シート!AO93","v":0},null,{"$f":"入力シート!AQ93","v":0},null,null,{"$f":"入力シート!AT93","v":0},null,{"$f":"入力シート!AV93","v":0},null,{"$f":"入力シート!AX93","v":0},null,{"$f":"入力シート!AZ93","v":0},null,{"$f":"入力シート!BB93","v":0},null,{"$f":"入力シート!BD93","v":"A"},null,{"$f":"入力シート!BF93","v":0}]
[70,null,{"$f":"入力シート!C94","v":0},null,null,null,{"$f":"入力シート!G94","v":0},null,null,null,{"$f":"入力シート!K94","v":0},null,null,null,null,{"$f":"入力シート!P94","v":0},null,null,null,null,null,null,{"$f":"入力シート!W94","v":0},null,null,null,null,null,null,null,null,{"$f":"入力シート!AF94","v":0},null,null,null,null,null,null,null,null,{"$f":"入力シート!AO94","v":0},null,{"$f":"入力シート!AQ94","v":0},null,null,{"$f":"入力シート!AT94","v":0},null,{"$f":"入力シート!AV94","v":0},null,{"$f":"入力シート!AX94","v":0},null,{"$f":"入力シート!AZ94","v":0},null,{"$f":"入力シート!BB94","v":0},null,{"$f":"入力シート!BD94","v":"A"},null,{"$f":"入力シート!BF94","v":0}]

{"sheet":"FRSheet","index":4,"n_rows":51,"n_cols":16,"rows_kept":51,"cut":false,"hidden":false,"merged":[[11,14,11,16],[40,2,40,3],[6,2,6,6],[7,2,7,6],[21,0,21,13],[9,12,9,13],[6,8,6,10],[39,0,39,1],[40,0,40,1],[39,2,39,3],[39,4,39,6],[6,12,6,13],[31,10,31,11],[20,0,20,13],[24,10,24,11],[30,0,30,16],[23,0,23,16],[20,14,20,16],[48,14,50,16],[1,14,3,16],[1,12,3,13],[6,14,6,16],[5,14,5,16],[21,14,21,16],[40,15,40,16],[12,14,12,16],[18,14,18,16],[19,14,19,16],[13,14,13,16],[48,12,50,13],[46,14,46,16],[5,12,5,13],[9,14,9,16],[10,14,10,16],[39,15,39,16],[44,14,44,16],[17,14,17,16],[14,14,14,16],[15,14,15,16],[16,14,16,16]]}
["フリー　ルーティン用紙　及び　最終結果"]
[null,null,null,null,null,null,null,null,null,null,null,null,"出場順"]
["競技会名",null,"第16回13-15歳ソロ・デュエット大会"]
[]
["場所",null,"横浜国際プール"]
["日付",null,"2013年1月26日（土）-1月27日（日）",null,null,null,null,null,null,null,null,null,"Solo"]
["音楽",null,null,null,null,null,null,null,"略称",null,null,null,"Duet"]
["国/クラブ名",null,"　　　　　　　　　　　　　　　　　　　　(         )"]
[]
["No","氏名",null,null,null,null,null,null,null,null,null,null,"補　欠\n　予選　　決勝　",null,"フィギュア得点"]
[1]
[2]
[3]
[4]
[5]
[6]
[7]
[8]
[9]
[10]
["フィギュア点合計（ルーティン泳者）"]
["フィギュア結果"]
[]
["テクニカル　メリット"]
[null,1,2,3,4,5,6,7,"小計(N*-2)",null,"平均（÷(N*-2)）",null,"S(％)","D(％)"]
["完遂度",null,null,null,null,null,null,null,null,null,null,null,50,40]
["同時性",null,null,null,null,null,null,null,null,null,null,null,10,30]
["難易度",null,null,null,null,null,null,null,null,null,null,null,40,30]
[null,null,null,null,null,null,null,null,null,null,null,null,null,"小計"]
[null,null,null,null,null,null,null,null,null,null,null,"×５０％"]
["アーティスティックインプレッション"]
[null,1,2,3,4,5,6,7,"小計(N*-2)",null,"平均（÷(N*-2)）",null,"％","％"]
["構成",null,null,null,null,null,null,null,null,null,null,null,50,50]
["音楽",null,null,null,null,null,null,null,null,null,null,null,20,30]
["プレゼン\nテーション",null,null,null,null,null,null,null,null,null,null,null,30,20]
[null,null,null,null,null,null,null,null,null,null,null,null,null,"小計"]
[null,null,null,null,null,null,null,null,null,null,null,"×５０％"]
[null,null,null,null,null,null,null,null,null,null,null,null,"フリールーティン得点（TM+AI）"]
[]
["Walk　on",null,"陸上",null,"ルーティン時間",null,null,null,"陸上","R時間","Walk On Time","底使用","底使用","中断","タワー"]
["秒",null,"秒",null,"　  分","秒",null,null,"-1.0","-1.0","-1.0","-1.0","-2.0","-2.0","-2.0","-"]
[]
[null,null,null,null,null,null,null,null,null,null,null,null,"フリールーティン得点（減点）"]
[]
[null,null,null,null,null,null,null,null,null,null,null,null,"フリールーティン結果　×５０％　"]
[]
[null,null,null,null,null,null,null,null,null,null,null,null,"最終結果（FIG+FR）"]
[]
[null,null,null,null,null,null,null,null,null,null,null,null,"最終順位"]
["審判長/記録主任",null,null,null,null,null,"／"]
["(N*=審判員数)"]

{"sheet":"FGSheet","index":5,"n_rows":17,"n_cols":19,"rows_kept":17,"cut":false,"hidden":false,"merged":[[0,7,0,14],[1,9,1,14],[1,16,1,17],[1,18,3,19],[1,20,3,21],[2,8,3,8],[2,9,3,14],[4,18,5,19],[4,20,5,21],[2,16,3,16],[2,17,3,17],[4,16,5,16],[4,17,5,17],[7,19,7,21],[8,1,8,3],[8,11,8,13],[8,16,8,18],[8,19,8,21],[7,1,7,3],[7,11,7,13],[7,16,7,18],[9,16,9,18],[9,19,9,21],[10,1,10,3],[10,11,10,13],[10,16,10,18],[10,19,10,21],[11,16,11,18],[11,19,11,21],[12,11,12,15],[12,16,12,18],[12,19,12,21],[17,16,17,17],[14,11,14,15],[15,11,15,15],[16,11,16,15],[17,12,17,14],[3,2,3,6],[1,2,1,6],[5,2,5,6],[2,15,5,15],[13,11,13,14],[11,1,11,3],[11,11,11,13],[9,1,9,3],[9,11,9,13],[4,8,5,8],[4,9,5,14]]}
[null,null,null,null,null,null,null,"フィギュアシート"]
["競技会名",null,"第16回13-15歳ソロ・デュエット大会",null,null,null,null,null,"ふりがな　　　　　",null,null,null,null,null,null,"生年","出場種目",null,"出場順"]
[null,null,null,null,null,null,null,null,"氏名",null,null,null,null,null,null,null,"Solo"]
["場所",null,"横浜国際プール"]
[null,null,null,null,null,null,null,null,"クラブ名",null,null,null,null,null,null,null,"Duet",null,"順位"]
["日付",null,"2013年1月26日（土）-1月27日（日）"]
[]
["Ｎｏ．","フィギュア名",null,null,"Ｊ１","Ｊ２","Ｊ３","Ｊ４","Ｊ５","Ｊ６","Ｊ７","小計",null,null,"÷４か５","難易率","得点"]
[420,"ウォークオーバー\nバック",null,null,null,null,null,null,null,null,null,null,null,null,null,2]
["355e","ポーパス\nスピン360°",null,null,null,null,null,null,null,null,null,null,null,null,null,2.1]
[]
[]
[null,null,null,null,null,null,null,null,null,null,null,"得点合計"]
[null,null,null,null,null,null,null,null,null,null,null,"100点換算　　　　　　　　　　   （得点合計÷難易率合計×１０）",null,null,null,"難易率合計"]
[null,null,null,null,null,null,null,null,null,null,null,"減点"]
[null,null,null,null,null,null,null,null,null,null,null,"フィギュア得点"]
[null,null,null,null,null,null,null,null,null,null,null,"フィギュア結果（50％）"]

{"sheet":"WORK","index":6,"n_rows":72,"n_cols":17,"rows_kept":72,"cut":false,"hidden":true,"merged":[]}
["SOLO_ENTRY",null,null,"DUET_Entry",null,null,null,null,"TEAM_Entry",null,null,null,null,"FRC_Entry"]
["表示順","氏　　　名",null,"組","表示順","組＋表示順","氏　　　名",null,"組","表示順","組＋表示順","氏　　名",null,"組","表示順","組＋表示順","氏　　　名"]
[{"$f":"入力シート!AX25","v":0},{"$f":"入力シート!P25","v":0},null,{"$f":"入力シート!AZ25","v":0},{"$f":"入力シート!BB25","v":0},{"$f":"D3&E3","v":"00"},{"$f":"入力シート!P25","v":0},null,{"$f":"入力シート!#REF!","v":{"$error":"#REF!"}},{"$f":"入力シート!#REF!","v":{"$error":"#REF!"}},{"$f":"I3&J3","v":{"$error":"#REF!"}},{"$f":"入力シート!P25","v":0},null,{"$f":"入力シート!BD25","v":"A"},{"$f":"入力シート!BF25","v":0},{"$f":"N3&O3","v":"A0"},{"$f":"入力シート!P25","v":0}]
[{"$f":"入力シート!AX26","v":0},{"$f":"入力シート!P26","v":0},null,{"$f":"入力シート!AZ26","v":0},{"$f":"入力シート!BB26","v":0},{"$f":"D4&E4","v":"00"},{"$f":"入力シート!P26","v":0},null,{"$f":"入力シート!#REF!","v":{"$error":"#REF!"}},{"$f":"入力シート!#REF!","v":{"$error":"#REF!"}},{"$f":"I4&J4","v":{"$error":"#REF!"}},{"$f":"入力シート!P26","v":0},null,{"$f":"入力シート!BD26","v":"A"},{"$f":"入力シート!BF26","v":0},{"$f":"N4&O4","v":"A0"},{"$f":"入力シート!P26","v":0}]
[{"$f":"入力シート!AX27","v":0},{"$f":"入力シート!P27","v":0},null,{"$f":"入力シート!AZ27","v":0},{"$f":"入力シート!BB27","v":0},{"$f":"D5&E5","v":"00"},{"$f":"入力シート!P27","v":0},null,{"$f":"入力シート!#REF!","v":{"$error":"#REF!"}},{"$f":"入力シート!#REF!","v":{"$error":"#REF!"}},{"$f":"I5&J5","v":{"$error":"#REF!"}},{"$f":"入力シート!P27","v":0},null,{"$f":"入力シート!BD27","v":"A"},{"$f":"入力シート!BF27","v":0},{"$f":"N5&O5","v":"A0"},{"$f":"入力シート!P27","v":0}]
[{"$f":"入力シート!AX28","v":0},{"$f":"入力シート!P28","v":0},null,{"$f":"入力シート!AZ28","v":0},{"$f":"入力シート!BB28","v":0},"00",{"$f":"入力シート!P28","v":0},null,{"$f":"入力シート!#REF!","v":{"$error":"#REF!"}},{"$f":"入力シート!#REF!","v":{"$error":"#REF!"}},{"$error":"#REF!"},{"$f":"入力シート!P28","v":0},null,{"$f":"入力シート!BD28","v":"A"},{"$f":"入力シート!BF28","v":0},"A0",{"$f":"入力シート!P28","v":0}]
[{"$f":"入力シート!AX29","v":0},{"$f":"入力シート!P29","v":0},null,{"$f":"入力シート!AZ29","v":0},{"$f":"入力シート!BB29","v":0},"00",{"$f":"入力シート!P29","v":0},null,{"$f":"入力シート!#REF!","v":{"$error":"#REF!"}},{"$f":"入力シート!#REF!","v":{"$error":"#REF!"}},{"$error":"#REF!"},{"$f":"入力シート!P29","v":0},null,{"$f":"入力シート!BD29","v":"A"},{"$f":"入力シート!BF29","v":0},"A0",{"$f":"入力シート!P29","v":0}]
[{"$f":"入力シート!AX30","v":0},{"$f":"入力シート!P30","v":0},null,{"$f":"入力シート!AZ30","v":0},{"$f":"入力シート!BB30","v":0},"00",{"$f":"入力シート!P30","v":0},null,{"$f":"入力シート!#REF!","v":{"$error":"#REF!"}},{"$f":"入力シート!#REF!","v":{"$error":"#REF!"}},{"$error":"#REF!"},{"$f":"入力シート!P30","v":0},null,{"$f":"入力シート!BD30","v":"A"},{"$f":"入力シート!BF30","v":0},"A0",{"$f":"入力シート!P30","v":0}]
[{"$f":"入力シート!AX31","v":0},{"$f":"入力シート!P31","v":0},null,{"$f":"入力シート!AZ31","v":0},{"$f":"入力シート!BB31","v":0},"00",{"$f":"入力シート!P31","v":0},null,{"$f":"入力シート!#REF!","v":{"$error":"#REF!"}},{"$f":"入力シート!#REF!","v":{"$error":"#REF!"}},{"$error":"#REF!"},{"$f":"入力シート!P31","v":0},null,{"$f":"入力シート!BD31","v":"A"},{"$f":"入力シート!BF31","v":0},"A0",{"$f":"入力シート!P31","v":0}]
[{"$f":"入力シート!AX32","v":0},{"$f":"入力シート!P32","v":0},null,{"$f":"入力シート!AZ32","v":0},{"$f":"入力シート!BB32","v":0},"00",{"$f":"入力シート!P32","v":0},null,{"$f":"入力シート!#REF!","v":{"$error":"#REF!"}},{"$f":"入力シート!#REF!","v":{"$error":"#REF!"}},{"$error":"#REF!"},{"$f":"入力シート!P32","v":0},null,{"$f":"入力シート!BD32","v":"A"},{"$f":"入力シート!BF32","v":0},"A0",{"$f":"入力シート!P32","v":0}]
[{"$f":"入力シート!AX33","v":0},{"$f":"入力シート!P33","v":0},null,{"$f":"入力シート!AZ33","v":0},{"$f":"入力シート!BB33","v":0},"00",{"$f":"入力シート!P33","v":0},null,{"$f":"入力シート!#REF!","v":{"$error":"#REF!"}},{"$f":"入力シート!#REF!","v":{"$error":"#REF!"}},{"$error":"#REF!"},{"$f":"入力シート!P33","v":0},null,{"$f":"入力シート!BD33","v":"A"},{"$f":"入力シート!BF33","v":0},"A0",{"$f":"入力シート!P33","v":0}]
[{"$f":"入力シート!AX34","v":0},{"$f":"入力シート!P34","v":0},null,{"$f":"入力シート!AZ34","v":0},{"$f":"入力シート!BB34","v":0},"00",{"$f":"入力シート!P34","v":0},null,{"$f":"入力シート!#REF!","v":{"$error":"#REF!"}},{"$f":"入力シート!#REF!","v":{"$error":"#REF!"}},{"$error":"#REF!"},{"$f":"入力シート!P34","v":0},null,{"$f":"入力シート!BD34","v":"A"},{"$f":"入力シート!BF34","v":0},"A0",{"$f":"入力シート!P34","v":0}]
[{"$f":"入力シート!AX35","v":0},{"$f":"入力シート!P35","v":0},null,{"$f":"入力シート!AZ35","v":0},{"$f":"入力シート!BB35","v":0},"00",{"$f":"入力シート!P35","v":0},null,{"$f":"入力シート!#REF!","v":{"$error":"#REF!"}},{"$f":"入力シート!#REF!","v":{"$error":"#REF!"}},{"$error":"#REF!"},{"$f":"入力シート!P35","v":0},null,{"$f":"入力シート!BD35","v":"A"},{"$f":"入力シート!BF35","v":0},"A0",{"$f":"入力シート!P35","v":0}]
[{"$f":"入力シート!AX36","v":0},{"$f":"入力シート!P36","v":0},null,{"$f":"入力シート!AZ36","v":0},{"$f":"入力シート!BB36","v":0},"00",{"$f":"入力シート!P36","v":0},null,{"$f":"入力シート!#REF!","v":{"$error":"#REF!"}},{"$f":"入力シート!#REF!","v":{"$error":"#REF!"}},{"$error":"#REF!"},{"$f":"入力シート!P36","v":0},null,{"$f":"入力シート!BD36","v":"A"},{"$f":"入力シート!BF36","v":0},"A0",{"$f":"入力シート!P36","v":0}]
[{"$f":"入力シート!AX37","v":0},{"$f":"入力シート!P37","v":0},null,{"$f":"入力シート!AZ37","v":0},{"$f":"入力シート!BB37","v":0},"00",{"$f":"入力シート!P37","v":0},null,{"$f":"入力シート!#REF!","v":{"$error":"#REF!"}},{"$f":"入力シート!#REF!","v":{"$error":"#REF!"}},{"$error":"#REF!"},{"$f":"入力シート!P37","v":0},null,{"$f":"入力シート!BD37","v":"A"},{"$f":"入力シート!BF37","v":0},"A0",{"$f":"入力シート!P37","v":0}]
[{"$f":"入力シート!AX38","v":0},{"$f":"入力シート!P38","v":0},null,{"$f":"入力シート!AZ38","v":0},{"$f":"入力シート!BB38","v":0},"00",{"$f":"入力シート!P38","v":0},null,{"$f":"入力シート!#REF!","v":{"$error":"#REF!"}},{"$f":"入力シート!#REF!","v":{"$error":"#REF!"}},{"$error":"#REF!"},{"$f":"入力シート!P38","v":0},null,{"$f":"入力シート!BD38","v":"A"},{"$f":"入力シート!BF38","v":0},"A0",{"$f":"入力シート!P38","v":0}]
[{"$f":"入力シート!AX39","v":0},{"$f":"入力シート!P39","v":0},null,{"$f":"入力シート!AZ39","v":0},{"$f":"入力シート!BB39","v":0},"00",{"$f":"入力シート!P39","v":0},null,{"$f":"入力シート!#REF!","v":{"$error":"#REF!"}},{"$f":"入力シート!#REF!","v":{"$error":"#REF!"}},{"$error":"#REF!"},{"$f":"入力シート!P39","v":0},null,{"$f":"入力シート!BD39","v":"A"},{"$f":"入力シート!BF39","v":0},"A0",{"$f":"入力シート!P39","v":0}]
[{"$f":"入力シート!AX40","v":0},{"$f":"入力シート!P40","v":0},null,{"$f":"入力シート!AZ40","v":0},{"$f":"入力シート!BB40","v":0},"00",{"$f":"入力シート!P40","v":0},null,{"$f":"入力シート!#REF!","v":{"$error":"#REF!"}},{"$f":"入力シート!#REF!","v":{"$error":"#REF!"}},{"$error":"#REF!"},{"$f":"入力シート!P40","v":0},null,{"$f":"入力シート!BD40","v":"A"},{"$f":"入力シート!BF40","v":0},"A0",{"$f":"入力シート!P40","v":0}]
[{"$f":"入力シート!AX41","v":0},{"$f":"入力シート!P41","v":0},null,{"$f":"入力シート!AZ41","v":0},{"$f":"入力シート!BB41","v":0},"00",{"$f":"入力シート!P41","v":0},null,{"$f":"入力シート!#REF!","v":{"$error":"#REF!"}},{"$f":"入力シート!#REF!","v":{"$error":"#REF!"}},{"$error":"#REF!"},{"$f":"入力シート!P41","v":0},null,{"$f":"入力シート!BD41","v":"A"},{"$f":"入力シート!BF41","v":0},"A0",{"$f":"入力シート!P41","v":0}]
[{"$f":"入力シート!AX42","v":0},{"$f":"入力シート!P42","v":0},null,{"$f":"入力シート!AZ42","v":0},{"$f":"入力シート!BB42","v":0},"00",{"$f":"入力シート!P42","v":0},null,{"$f":"入力シート!#REF!","v":{"$error":"#REF!"}},{"$f":"入力シート!#REF!","v":{"$error":"#REF!"}},{"$error":"#REF!"},{"$f":"入力シート!P42","v":0},null,{"$f":"入力シート!BD42","v":"A"},{"$f":"入力シート!BF42","v":0},"A0",{"$f":"入力シート!P42","v":0}]
[{"$f":"入力シート!AX43","v":0},{"$f":"入力シート!P43","v":0},null,{"$f":"入力シート!AZ43","v":0},{"$f":"入力シート!BB43","v":0},"00",{"$f":"入力シート!P43","v":0},null,{"$f":"入力シート!#REF!","v":{"$error":"#REF!"}},{"$f":"入力シート!#REF!","v":{"$error":"#REF!"}},{"$error":"#REF!"},{"$f":"入力シート!P43","v":0},null,{"$f":"入力シート!BD43","v":"A"},{"$f":"入力シート!BF43","v":0},"A0",{"$f":"入力シート!P43","v":0}]
[{"$f":"入力シート!AX44","v":0},{"$f":"入力シート!P44","v":0},null,{"$f":"入力シート!AZ44","v":0},{"$f":"入力シート!BB44","v":0},"00",{"$f":"入力シート!P44","v":0},null,{"$f":"入力シート!#REF!","v":{"$error":"#REF!"}},{"$f":"入力シート!#REF!","v":{"$error":"#REF!"}},{"$error":"#REF!"},{"$f":"入力シート!P44","v":0},null,{"$f":"入力シート!BD44","v":"A"},{"$f":"入力シート!BF44","v":0},"A0",{"$f":"入力シート!P44","v":0}]
[{"$f":"入力シート!AX45","v":0},{"$f":"入力シート!P45","v":0},null,{"$f":"入力シート!AZ45","v":0},{"$f":"入力シート!BB45","v":0},"00",{"$f":"入力シート!P45","v":0},null,{"$f":"入力シート!#REF!","v":{"$error":"#REF!"}},{"$f":"入力シート!#REF!","v":{"$error":"#REF!"}},{"$error":"#REF!"},{"$f":"入力シート!P45","v":0},null,{"$f":"入力シート!BD45","v":"A"},{"$f":"入力シート!BF45","v":0},"A0",{"$f":"入力シート!P45","v":0}]
[{"$f":"入力シート!AX46","v":0},{"$f":"入力シート!P46","v":0},null,{"$f":"入力シート!AZ46","v":0},{"$f":"入力シート!BB46","v":0},"00",{"$f":"入力シート!P46","v":0},null,{"$f":"入力シート!#REF!","v":{"$error":"#REF!"}},{"$f":"入力シート!#REF!","v":{"$error":"#REF!"}},{"$error":"#REF!"},{"$f":"入力シート!P46","v":0},null,{"$f":"入力シート!BD46","v":"A"},{"$f":"入力シート!BF46","v":0},"A0",{"$f":"入力シート!P46","v":0}]
[{"$f":"入力シート!AX47","v":0},{"$f":"入力シート!P47","v":0},null,{"$f":"入力シート!AZ47","v":0},{"$f":"入力シート!BB47","v":0},"00",{"$f":"入力シート!P47","v":0},null,{"$f":"入力シート!#REF!","v":{"$error":"#REF!"}},{"$f":"入力シート!#REF!","v":{"$error":"#REF!"}},{"$error":"#REF!"},{"$f":"入力シート!P47","v":0},null,{"$f":"入力シート!BD47","v":"A"},{"$f":"入力シート!BF47","v":0},"A0",{"$f":"入力シート!P47","v":0}]
[{"$f":"入力シート!AX48","v":0},{"$f":"入力シート!P48","v":0},null,{"$f":"入力シート!AZ48","v":0},{"$f":"入力シート!BB48","v":0},"00",{"$f":"入力シート!P48","v":0},null,{"$f":"入力シート!#REF!","v":{"$error":"#REF!"}},{"$f":"入力シート!#REF!","v":{"$error":"#REF!"}},{"$error":"#REF!"},{"$f":"入力シート!P48","v":0},null,{"$f":"入力シート!BD48","v":"A"},{"$f":"入力シート!BF48","v":0},"A0",{"$f":"入力シート!P48","v":0}]
[{"$f":"入力シート!AX49","v":0},{"$f":"入力シート!P49","v":0},null,{"$f":"入力シート!AZ49","v":0},{"$f":"入力シート!BB49","v":0},"00",{"$f":"入力シート!P49","v":0},null,{"$f":"入力シート!#REF!","v":{"$error":"#REF!"}},{"$f":"入力シート!#REF!","v":{"$error":"#REF!"}},{"$error":"#REF!"},{"$f":"入力シート!P49","v":0},null,{"$f":"入力シート!BD49","v":"A"},{"$f":"入力シート!BF49","v":0},"A0",{"$f":"入力シート!P49","v":0}]
[{"$f":"入力シート!AX50","v":0},{"$f":"入力シート!P50","v":0},null,{"$f":"入力シート!AZ50","v":0},{"$f":"入力シート!BB50","v":0},"00",{"$f":"入力シート!P50","v":0},null,{"$f":"入力シート!#REF!","v":{"$error":"#REF!"}},{"$f":"入力シート!#REF!","v":{"$error":"#REF!"}},{"$error":"#REF!"},{"$f":"入力シート!P50","v":0},null,{"$f":"入力シート!BD50","v":"A"},{"$f":"入力シート!BF50","v":0},"A0",{"$f":"入力シート!P50","v":0}]
[{"$f":"入力シート!AX51","v":0},{"$f":"入力シート!P51","v":0},null,{"$f":"入力シート!AZ51","v":0},{"$f":"入力シート!BB51","v":0},"00",{"$f":"入力シート!P51","v":0},null,{"$f":"入力シート!#REF!","v":{"$error":"#REF!"}},{"$f":"入力シート!#REF!","v":{"$error":"#REF!"}},{"$error":"#REF!"},{"$f":"入力シート!P51","v":0},null,{"$f":"入力シート!BD51","v":"A"},{"$f":"入力シート!BF51","v":0},"A0",{"$f":"入力シート!P51","v":0}]
[{"$f":"入力シート!AX52","v":0},{"$f":"入力シート!P52","v":0},null,{"$f":"入力シート!AZ52","v":0},{"$f":"入力シート!BB52","v":0},"00",{"$f":"入力シート!P52","v":0},null,{"$f":"入力シート!#REF!","v":{"$error":"#REF!"}},{"$f":"入力シート!#REF!","v":{"$error":"#REF!"}},{"$error":"#REF!"},{"$f":"入力シート!P52","v":0},null,{"$f":"入力シート!BD52","v":"A"},{"$f":"入力シート!BF52","v":0},"A0",{"$f":"入力シート!P52","v":0}]
[{"$f":"入力シート!AX53","v":0},{"$f":"入力シート!P53","v":0},null,{"$f":"入力シート!AZ53","v":0},{"$f":"入力シート!BB53","v":0},"00",{"$f":"入力シート!P53","v":0},null,{"$f":"入力シート!#REF!","v":{"$error":"#REF!"}},{"$f":"入力シート!#REF!","v":{"$error":"#REF!"}},{"$error":"#REF!"},{"$f":"入力シート!P53","v":0},null,{"$f":"入力シート!BD53","v":"A"},{"$f":"入力シート!BF53","v":0},"A0",{"$f":"入力シート!P53","v":0}]
[{"$f":"入力シート!AX54","v":0},{"$f":"入力シート!P54","v":0},null,{"$f":"入力シート!AZ54","v":0},{"$f":"入力シート!BB54","v":0},"00",{"$f":"入力シート!P54","v":0},null,{"$f":"入力シート!#REF!","v":{"$error":"#REF!"}},{"$f":"入力シート!#REF!","v":{"$error":"#REF!"}},{"$error":"#REF!"},{"$f":"入力シート!P54","v":0},null,{"$f":"入力シート!BD54","v":"A"},{"$f":"入力シート!BF54","v":0},"A0",{"$f":"入力シート!P54","v":0}]
[{"$f":"入力シート!AX55","v":0},{"$f":"入力シート!P55","v":0},null,{"$f":"入力シート!AZ55","v":0},{"$f":"入力シート!BB55","v":0},"00",{"$f":"入力シート!P55","v":0},null,{"$f":"入力シート!#REF!","v":{"$error":"#REF!"}},{"$f":"入力シート!#REF!","v":{"$error":"#REF!"}},{"$error":"#REF!"},{"$f":"入力シート!P55","v":0},null,{"$f":"入力シート!BD55","v":"A"},{"$f":"入力シート!BF55","v":0},"A0",{"$f":"入力シート!P55","v":0}]
[{"$f":"入力シート!AX56","v":0},{"$f":"入力シート!P56","v":0},null,{"$f":"入力シート!AZ56","v":0},{"$f":"入力シート!BB56","v":0},"00",{"$f":"入力シート!P56","v":0},null,{"$f":"入力シート!#REF!","v":{"$error":"#REF!"}},{"$f":"入力シート!#REF!","v":{"$error":"#REF!"}},{"$error":"#REF!"},{"$f":"入力シート!P56","v":0},null,{"$f":"入力シート!BD56","v":"A"},{"$f":"入力シート!BF56","v":0},"A0",{"$f":"入力シート!P56","v":0}]
[{"$f":"入力シート!AX57","v":0},{"$f":"入力シート!P57","v":0},null,{"$f":"入力シート!AZ57","v":0},{"$f":"入力シート!BB57","v":0},"00",{"$f":"入力シート!P57","v":0},null,{"$f":"入力シート!#REF!","v":{"$error":"#REF!"}},{"$f":"入力シート!#REF!","v":{"$error":"#REF!"}},{"$error":"#REF!"},{"$f":"入力シート!P57","v":0},null,{"$f":"入力シート!BD57","v":"A"},{"$f":"入力シート!BF57","v":0},"A0",{"$f":"入力シート!P57","v":0}]
[{"$f":"入力シート!AX58","v":0},{"$f":"入力シート!P58","v":0},null,{"$f":"入力シート!AZ58","v":0},{"$f":"入力シート!BB58","v":0},"00",{"$f":"入力シート!P58","v":0},null,{"$f":"入力シート!#REF!","v":{"$error":"#REF!"}},{"$f":"入力シート!#REF!","v":{"$error":"#REF!"}},{"$error":"#REF!"},{"$f":"入力シート!P58","v":0},null,{"$f":"入力シート!BD58","v":"A"},{"$f":"入力シート!BF58","v":0},"A0",{"$f":"入力シート!P58","v":0}]
[{"$f":"入力シート!AX59","v":0},{"$f":"入力シート!P59","v":0},null,{"$f":"入力シート!AZ59","v":0},{"$f":"入力シート!BB59","v":0},"00",{"$f":"入力シート!P59","v":0},null,{"$f":"入力シート!#REF!","v":{"$error":"#REF!"}},{"$f":"入力シート!#REF!","v":{"$error":"#REF!"}},{"$error":"#REF!"},{"$f":"入力シート!P59","v":0},null,{"$f":"入力シート!BD59","v":"A"},{"$f":"入力シート!BF59","v":0},"A0",{"$f":"入力シート!P59","v":0}]
[{"$f":"入力シート!AX60","v":0},{"$f":"入力シート!P60","v":0},null,{"$f":"入力シート!AZ60","v":0},{"$f":"入力シート!BB60","v":0},"00",{"$f":"入力シート!P60","v":0},null,{"$f":"入力シート!#REF!","v":{"$error":"#REF!"}},{"$f":"入力シート!#REF!","v":{"$error":"#REF!"}},{"$error":"#REF!"},{"$f":"入力シート!P60","v":0},null,{"$f":"入力シート!BD60","v":"A"},{"$f":"入力シート!BF60","v":0},"A0",{"$f":"入力シート!P60","v":0}]
[{"$f":"入力シート!AX61","v":0},{"$f":"入力シート!P61","v":0},null,{"$f":"入力シート!AZ61","v":0},{"$f":"入力シート!BB61","v":0},"00",{"$f":"入力シート!P61","v":0},null,{"$f":"入力シート!#REF!","v":{"$error":"#REF!"}},{"$f":"入力シート!#REF!","v":{"$error":"#REF!"}},{"$error":"#REF!"},{"$f":"入力シート!P61","v":0},null,{"$f":"入力シート!BD61","v":"A"},{"$f":"入力シート!BF61","v":0},"A0",{"$f":"入力シート!P61","v":0}]
[{"$f":"入力シート!AX62","v":0},{"$f":"入力シート!P62","v":0},null,{"$f":"入力シート!AZ62","v":0},{"$f":"入力シート!BB62","v":0},"00",{"$f":"入力シート!P62","v":0},null,{"$f":"入力シート!#REF!","v":{"$error":"#REF!"}},{"$f":"入力シート!#REF!","v":{"$error":"#REF!"}},{"$error":"#REF!"},{"$f":"入力シート!P62","v":0},null,{"$f":"入力シート!BD62","v":"A"},{"$f":"入力シート!BF62","v":0},"A0",{"$f":"入力シート!P62","v":0}]
[{"$f":"入力シート!AX63","v":0},{"$f":"入力シート!P63","v":0},null,{"$f":"入力シート!AZ63","v":0},{"$f":"入力シート!BB63","v":0},"00",{"$f":"入力シート!P63","v":0},null,{"$f":"入力シート!#REF!","v":{"$error":"#REF!"}},{"$f":"入力シート!#REF!","v":{"$error":"#REF!"}},{"$error":"#REF!"},{"$f":"入力シート!P63","v":0},null,{"$f":"入力シート!BD63","v":"A"},{"$f":"入力シート!BF63","v":0},"A0",{"$f":"入力シート!P63","v":0}]
[{"$f":"入力シート!AX64","v":0},{"$f":"入力シート!P64","v":0},null,{"$f":"入力シート!AZ64","v":0},{"$f":"入力シート!BB64","v":0},"00",{"$f":"入力シート!P64","v":0},null,{"$f":"入力シート!#REF!","v":{"$error":"#REF!"}},{"$f":"入力シート!#REF!","v":{"$error":"#REF!"}},{"$error":"#REF!"},{"$f":"入力シート!P64","v":0},null,{"$f":"入力シート!BD64","v":"A"},{"$f":"入力シート!BF64","v":0},"A0",{"$f":"入力シート!P64","v":0}]
[{"$f":"入力シート!AX65","v":0},{"$f":"入力シート!P65","v":0},null,{"$f":"入力シート!AZ65","v":0},{"$f":"入力シート!BB65","v":0},"00",{"$f":"入力シート!P65","v":0},null,{"$f":"入力シート!#REF!","v":{"$error":"#REF!"}},{"$f":"入力シート!#REF!","v":{"$error":"#REF!"}},{"$error":"#REF!"},{"$f":"入力シート!P65","v":0},null,{"$f":"入力シート!BD65","v":"A"},{"$f":"入力シート!BF65","v":0},"A0",{"$f":"入力シート!P65","v":0}]
[{"$f":"入力シート!AX66","v":0},{"$f":"入力シート!P66","v":0},null,{"$f":"入力シート!AZ66","v":0},{"$f":"入力シート!BB66","v":0},"00",{"$f":"入力シート!P66","v":0},null,{"$f":"入力シート!#REF!","v":{"$error":"#REF!"}},{"$f":"入力シート!#REF!","v":{"$error":"#REF!"}},{"$error":"#REF!"},{"$f":"入力シート!P66","v":0},null,{"$f":"入力シート!BD66","v":"A"},{"$f":"入力シート!BF66","v":0},"A0",{"$f":"入力シート!P66","v":0}]
[{"$f":"入力シート!AX67","v":0},{"$f":"入力シート!P67","v":0},null,{"$f":"入力シート!AZ67","v":0},{"$f":"入力シート!BB67","v":0},"00",{"$f":"入力シート!P67","v":0},null,{"$f":"入力シート!#REF!","v":{"$error":"#REF!"}},{"$f":"入力シート!#REF!","v":{"$error":"#REF!"}},{"$error":"#REF!"},{"$f":"入力シート!P67","v":0},null,{"$f":"入力シート!BD67","v":"A"},{"$f":"入力シート!BF67","v":0},"A0",{"$f":"入力シート!P67","v":0}]
[{"$f":"入力シート!AX68","v":0},{"$f":"入力シート!P68","v":0},null,{"$f":"入力シート!AZ68","v":0},{"$f":"入力シート!BB68","v":0},"00",{"$f":"入力シート!P68","v":0},null,{"$f":"入力シート!#REF!","v":{"$error":"#REF!"}},{"$f":"入力シート!#REF!","v":{"$error":"#REF!"}},{"$error":"#REF!"},{"$f":"入力シート!P68","v":0},null,{"$f":"入力シート!BD68","v":"A"},{"$f":"入力シート!BF68","v":0},"A0",{"$f":"入力シート!P68","v":0}]
[{"$f":"入力シート!AX69","v":0},{"$f":"入力シート!P69","v":0},null,{"$f":"入力シート!AZ69","v":0},{"$f":"入力シート!BB69","v":0},"00",{"$f":"入力シート!P69","v":0},null,{"$f":"入力シート!#REF!","v":{"$error":"#REF!"}},{"$f":"入力シート!#REF!","v":{"$error":"#REF!"}},{"$error":"#REF!"},{"$f":"入力シート!P69","v":0},null,{"$f":"入力シート!BD69","v":"A"},{"$f":"入力シート!BF69","v":0},"A0",{"$f":"入力シート!P69","v":0}]
[{"$f":"入力シート!AX70","v":0},{"$f":"入力シート!P70","v":0},null,{"$f":"入力シート!AZ70","v":0},{"$f":"入力シート!BB70","v":0},"00",{"$f":"入力シート!P70","v":0},null,{"$f":"入力シート!#REF!","v":{"$error":"#REF!"}},{"$f":"入力シート!#REF!","v":{"$error":"#REF!"}},{"$error":"#REF!"},{"$f":"入力シート!P70","v":0},null,{"$f":"入力シート!BD70","v":"A"},{"$f":"入力シート!BF70","v":0},"A0",{"$f":"入力シート!P70","v":0}]
[{"$f":"入力シート!AX71","v":0},{"$f":"入力シート!P71","v":0},null,{"$f":"入力シート!AZ71","v":0},{"$f":"入力シート!BB71","v":0},"00",{"$f":"入力シート!P71","v":0},null,{"$f":"入力シート!#REF!","v":{"$error":"#REF!"}},{"$f":"入力シート!#REF!","v":{"$error":"#REF!"}},{"$error":"#REF!"},{"$f":"入力シート!P71","v":0},null,{"$f":"入力シート!BD71","v":"A"},{"$f":"入力シート!BF71","v":0},"A0",{"$f":"入力シート!P71","v":0}]
[{"$f":"入力シート!AX72","v":0},{"$f":"入力シート!P72","v":0},null,{"$f":"入力シート!AZ72","v":0},{"$f":"入力シート!BB72","v":0},"00",{"$f":"入力シート!P72","v":0},null,{"$f":"入力シート!#REF!","v":{"$error":"#REF!"}},{"$f":"入力シート!#REF!","v":{"$error":"#REF!"}},{"$error":"#REF!"},{"$f":"入力シート!P72","v":0},null,{"$f":"入力シート!BD72","v":"A"},{"$f":"入力シート!BF72","v":0},"A0",{"$f":"入力シート!P72","v":0}]
[{"$f":"入力シート!AX73","v":0},{"$f":"入力シート!P73","v":0},null,{"$f":"入力シート!AZ73","v":0},{"$f":"入力シート!BB73","v":0},"00",{"$f":"入力シート!P73","v":0},null,{"$f":"入力シート!#REF!","v":{"$error":"#REF!"}},{"$f":"入力シート!#REF!","v":{"$error":"#REF!"}},{"$error":"#REF!"},{"$f":"入力シート!P73","v":0},null,{"$f":"入力シート!BD73","v":"A"},{"$f":"入力シート!BF73","v":0},"A0",{"$f":"入力シート!P73","v":0}]
[{"$f":"入力シート!AX74","v":0},{"$f":"入力シート!P74","v":0},null,{"$f":"入力シート!AZ74","v":0},{"$f":"入力シート!BB74","v":0},"00",{"$f":"入力シート!P74","v":0},null,{"$f":"入力シート!#REF!","v":{"$error":"#REF!"}},{"$f":"入力シート!#REF!","v":{"$error":"#REF!"}},{"$error":"#REF!"},{"$f":"入力シート!P74","v":0},null,{"$f":"入力シート!BD74","v":"A"},{"$f":"入力シート!BF74","v":0},"A0",{"$f":"入力シート!P74","v":0}]
[{"$f":"入力シート!AX75","v":0},{"$f":"入力シート!P75","v":0},null,{"$f":"入力シート!AZ75","v":0},{"$f":"入力シート!BB75","v":0},"00",{"$f":"入力シート!P75","v":0},null,{"$f":"入力シート!#REF!","v":{"$error":"#REF!"}},{"$f":"入力シート!#REF!","v":{"$error":"#REF!"}},{"$error":"#REF!"},{"$f":"入力シート!P75","v":0},null,{"$f":"入力シート!BD75","v":"A"},{"$f":"入力シート!BF75","v":0},"A0",{"$f":"入力シート!P75","v":0}]
[{"$f":"入力シート!AX76","v":0},{"$f":"入力シート!P76","v":0},null,{"$f":"入力シート!AZ76","v":0},{"$f":"入力シート!BB76","v":0},"00",{"$f":"入力シート!P76","v":0},null,{"$f":"入力シート!#REF!","v":{"$error":"#REF!"}},{"$f":"入力シート!#REF!","v":{"$error":"#REF!"}},{"$error":"#REF!"},{"$f":"入力シート!P76","v":0},null,{"$f":"入力シート!BD76","v":"A"},{"$f":"入力シート!BF76","v":0},"A0",{"$f":"入力シート!P76","v":0}]
[{"$f":"入力シート!AX77","v":0},{"$f":"入力シート!P77","v":0},null,{"$f":"入力シート!AZ77","v":0},{"$f":"入力シート!BB77","v":0},"00",{"$f":"入力シート!P77","v":0},null,{"$f":"入力シート!#REF!","v":{"$error":"#REF!"}},{"$f":"入力シート!#REF!","v":{"$error":"#REF!"}},{"$error":"#REF!"},{"$f":"入力シート!P77","v":0},null,{"$f":"入力シート!BD77","v":"A"},{"$f":"入力シート!BF77","v":0},"A0",{"$f":"入力シート!P77","v":0}]
[{"$f":"入力シート!AX78","v":0},{"$f":"入力シート!P78","v":0},null,{"$f":"入力シート!AZ78","v":0},{"$f":"入力シート!BB78","v":0},"00",{"$f":"入力シート!P78","v":0},null,{"$f":"入力シート!#REF!","v":{"$error":"#REF!"}},{"$f":"入力シート!#REF!","v":{"$error":"#REF!"}},{"$error":"#REF!"},{"$f":"入力シート!P78","v":0},null,{"$f":"入力シート!BD78","v":"A"},{"$f":"入力シート!BF78","v":0},"A0",{"$f":"入力シート!P78","v":0}]
[{"$f":"入力シート!AX79","v":0},{"$f":"入力シート!P79","v":0},null,{"$f":"入力シート!AZ79","v":0},{"$f":"入力シート!BB79","v":0},"00",{"$f":"入力シート!P79","v":0},null,{"$f":"入力シート!#REF!","v":{"$error":"#REF!"}},{"$f":"入力シート!#REF!","v":{"$error":"#REF!"}},{"$error":"#REF!"},{"$f":"入力シート!P79","v":0},null,{"$f":"入力シート!BD79","v":"A"},{"$f":"入力シート!BF79","v":0},"A0",{"$f":"入力シート!P79","v":0}]
[{"$f":"入力シート!AX80","v":0},{"$f":"入力シート!P80","v":0},null,{"$f":"入力シート!AZ80","v":0},{"$f":"入力シート!BB80","v":0},"00",{"$f":"入力シート!P80","v":0},null,{"$f":"入力シート!#REF!","v":{"$error":"#REF!"}},{"$f":"入力シート!#REF!","v":{"$error":"#REF!"}},{"$error":"#REF!"},{"$f":"入力シート!P80","v":0},null,{"$f":"入力シート!BD80","v":"A"},{"$f":"入力シート!BF80","v":0},"A0",{"$f":"入力シート!P80","v":0}]
[{"$f":"入力シート!AX81","v":0},{"$f":"入力シート!P81","v":0},null,{"$f":"入力シート!AZ81","v":0},{"$f":"入力シート!BB81","v":0},"00",{"$f":"入力シート!P81","v":0},null,{"$f":"入力シート!#REF!","v":{"$error":"#REF!"}},{"$f":"入力シート!#REF!","v":{"$error":"#REF!"}},{"$error":"#REF!"},{"$f":"入力シート!P81","v":0},null,{"$f":"入力シート!BD81","v":"A"},{"$f":"入力シート!BF81","v":0},"A0",{"$f":"入力シート!P81","v":0}]
[{"$f":"入力シート!AX82","v":0},{"$f":"入力シート!P82","v":0},null,{"$f":"入力シート!AZ82","v":0},{"$f":"入力シート!BB82","v":0},"00",{"$f":"入力シート!P82","v":0},null,{"$f":"入力シート!#REF!","v":{"$error":"#REF!"}},{"$f":"入力シート!#REF!","v":{"$error":"#REF!"}},{"$error":"#REF!"},{"$f":"入力シート!P82","v":0},null,{"$f":"入力シート!BD82","v":"A"},{"$f":"入力シート!BF82","v":0},"A0",{"$f":"入力シート!P82","v":0}]
[{"$f":"入力シート!AX83","v":0},{"$f":"入力シート!P83","v":0},null,{"$f":"入力シート!AZ83","v":0},{"$f":"入力シート!BB83","v":0},"00",{"$f":"入力シート!P83","v":0},null,{"$f":"入力シート!#REF!","v":{"$error":"#REF!"}},{"$f":"入力シート!#REF!","v":{"$error":"#REF!"}},{"$error":"#REF!"},{"$f":"入力シート!P83","v":0},null,{"$f":"入力シート!BD83","v":"A"},{"$f":"入力シート!BF83","v":0},"A0",{"$f":"入力シート!P83","v":0}]
[{"$f":"入力シート!AX84","v":0},{"$f":"入力シート!P84","v":0},null,{"$f":"入力シート!AZ84","v":0},{"$f":"入力シート!BB84","v":0},"00",{"$f":"入力シート!P84","v":0},null,{"$f":"入力シート!#REF!","v":{"$error":"#REF!"}},{"$f":"入力シート!#REF!","v":{"$error":"#REF!"}},{"$error":"#REF!"},{"$f":"入力シート!P84","v":0},null,{"$f":"入力シート!BD84","v":"A"},{"$f":"入力シート!BF84","v":0},"A0",{"$f":"入力シート!P84","v":0}]
[{"$f":"入力シート!AX85","v":0},{"$f":"入力シート!P85","v":0},null,{"$f":"入力シート!AZ85","v":0},{"$f":"入力シート!BB85","v":0},"00",{"$f":"入力シート!P85","v":0},null,{"$f":"入力シート!#REF!","v":{"$error":"#REF!"}},{"$f":"入力シート!#REF!","v":{"$error":"#REF!"}},{"$error":"#REF!"},{"$f":"入力シート!P85","v":0},null,{"$f":"入力シート!BD85","v":"A"},{"$f":"入力シート!BF85","v":0},"A0",{"$f":"入力シート!P85","v":0}]
[{"$f":"入力シート!AX86","v":0},{"$f":"入力シート!P86","v":0},null,{"$f":"入力シート!AZ86","v":0},{"$f":"入力シート!BB86","v":0},"00",{"$f":"入力シート!P86","v":0},null,{"$f":"入力シート!#REF!","v":{"$error":"#REF!"}},{"$f":"入力シート!#REF!","v":{"$error":"#REF!"}},{"$error":"#REF!"},{"$f":"入力シート!P86","v":0},null,{"$f":"入力シート!BD86","v":"A"},{"$f":"入力シート!BF86","v":0},"A0",{"$f":"入力シート!P86","v":0}]
[{"$f":"入力シート!AX87","v":0},{"$f":"入力シート!P87","v":0},null,{"$f":"入力シート!AZ87","v":0},{"$f":"入力シート!BB87","v":0},"00",{"$f":"入力シート!P87","v":0},null,{"$f":"入力シート!#REF!","v":{"$error":"#REF!"}},{"$f":"入力シート!#REF!","v":{"$error":"#REF!"}},{"$error":"#REF!"},{"$f":"入力シート!P87","v":0},null,{"$f":"入力シート!BD87","v":"A"},{"$f":"入力シート!BF87","v":0},"A0",{"$f":"入力シート!P87","v":0}]
[{"$f":"入力シート!AX88","v":0},{"$f":"入力シート!P88","v":0},null,{"$f":"入力シート!AZ88","v":0},{"$f":"入力シート!BB88","v":0},"00",{"$f":"入力シート!P88","v":0},null,{"$f":"入力シート!#REF!","v":{"$error":"#REF!"}},{"$f":"入力シート!#REF!","v":{"$error":"#REF!"}},{"$error":"#REF!"},{"$f":"入力シート!P88","v":0},null,{"$f":"入力シート!BD88","v":"A"},{"$f":"入力シート!BF88","v":0},"A0",{"$f":"入力シート!P88","v":0}]
[{"$f":"入力シート!AX89","v":0},{"$f":"入力シート!P89","v":0},null,{"$f":"入力シート!AZ89","v":0},{"$f":"入力シート!BB89","v":0},"00",{"$f":"入力シート!P89","v":0},null,{"$f":"入力シート!#REF!","v":{"$error":"#REF!"}},{"$f":"入力シート!#REF!","v":{"$error":"#REF!"}},{"$error":"#REF!"},{"$f":"入力シート!P89","v":0},null,{"$f":"入力シート!BD89","v":"A"},{"$f":"入力シート!BF89","v":0},"A0",{"$f":"入力シート!P89","v":0}]
[{"$f":"入力シート!AX90","v":0},{"$f":"入力シート!P90","v":0},null,{"$f":"入力シート!AZ90","v":0},{"$f":"入力シート!BB90","v":0},"00",{"$f":"入力シート!P90","v":0},null,{"$f":"入力シート!#REF!","v":{"$error":"#REF!"}},{"$f":"入力シート!#REF!","v":{"$error":"#REF!"}},{"$error":"#REF!"},{"$f":"入力シート!P90","v":0},null,{"$f":"入力シート!BD90","v":"A"},{"$f":"入力シート!BF90","v":0},"A0",{"$f":"入力シート!P90","v":0}]
[{"$f":"入力シート!AX91","v":0},{"$f":"入力シート!P91","v":0},null,{"$f":"入力シート!AZ91","v":0},{"$f":"入力シート!BB91","v":0},{"$f":"D69&E69","v":"00"},{"$f":"入力シート!P91","v":0},null,{"$f":"入力シート!#REF!","v":{"$error":"#REF!"}},{"$f":"入力シート!#REF!","v":{"$error":"#REF!"}},{"$f":"I69&J69","v":{"$error":"#REF!"}},{"$f":"入力シート!P91","v":0},null,{"$f":"入力シート!BD91","v":"A"},{"$f":"入力シート!BF91","v":0},{"$f":"N69&O69","v":"A0"},{"$f":"入力シート!P91","v":0}]
[{"$f":"入力シート!AX92","v":0},{"$f":"入力シート!P92","v":0},null,{"$f":"入力シート!AZ92","v":0},{"$f":"入力シート!BB92","v":0},{"$f":"D70&E70","v":"00"},{"$f":"入力シート!P92","v":0},null,{"$f":"入力シート!#REF!","v":{"$error":"#REF!"}},{"$f":"入力シート!#REF!","v":{"$error":"#REF!"}},{"$f":"I70&J70","v":{"$error":"#REF!"}},{"$f":"入力シート!P92","v":0},null,{"$f":"入力シート!BD92","v":"A"},{"$f":"入力シート!BF92","v":0},{"$f":"N70&O70","v":"A0"},{"$f":"入力シート!P92","v":0}]
[{"$f":"入力シート!AX93","v":0},{"$f":"入力シート!P93","v":0},null,{"$f":"入力シート!AZ93","v":0},{"$f":"入力シート!BB93","v":0},{"$f":"D71&E71","v":"00"},{"$f":"入力シート!P93","v":0},null,{"$f":"入力シート!#REF!","v":{"$error":"#REF!"}},{"$f":"入力シート!#REF!","v":{"$error":"#REF!"}},{"$f":"I71&J71","v":{"$error":"#REF!"}},{"$f":"入力シート!P93","v":0},null,{"$f":"入力シート!BD93","v":"A"},{"$f":"入力シート!BF93","v":0},{"$f":"N71&O71","v":"A0"},{"$f":"入力シート!P93","v":0}]
[{"$f":"入力シート!AX94","v":0},{"$f":"入力シート!P94","v":0},null,{"$f":"入力シート!AZ94","v":0},{"$f":"入力シート!BB94","v":0},{"$f":"D72&E72","v":"00"},{"$f":"入力シート!P94","v":0},null,{"$f":"入力シート!#REF!","v":{"$error":"#REF!"}},{"$f":"入力シート!#REF!","v":{"$error":"#REF!"}},{"$f":"I72&J72","v":{"$error":"#REF!"}},{"$f":"入力シート!P94","v":0},null,{"$f":"入力シート!BD94","v":"A"},{"$f":"入力シート!BF94","v":0},{"$f":"N72&O72","v":"A0"},{"$f":"入力シート!P94","v":0}]